Workbook
Name L1List: MultiSelect[TreeCategory]
Name L1Listb: MultiSelect2[ProposedLocation]
Name L1Listc: MultiSelect3[SpeciesSize]
Name L1Listd: MultiSelect4[SpeciesSize]
Name L2List: _xlfn.XLOOKUP('Existing Trees Form'!XFD1,MultiSelect[TreeCategory],MultiSelect[TreeStatus]) : _xlfn.XLOOKUP('Existing Trees Form'!XFD1,MultiSelect[TreeCategory],MultiSelect[TreeStatus],,,-1)
Name L2Listc: _xlfn.XLOOKUP('Existing Trees Form'!XFD1,MultiSelect3[SpeciesSize],MultiSelect3[Points]) : _xlfn.XLOOKUP('Existing Trees Form'!XFD1,MultiSelect3[SpeciesSize],MultiSelect3[Points],,,-1)
Name L2Listd: _xlfn.XLOOKUP('Tree Plantings Form'!XFD1,MultiSelect4[SpeciesSize],MultiSelect4[Points]) : _xlfn.XLOOKUP('Tree Plantings Form'!XFD1, MultiSelect4[SpeciesSize],MultiSelect4[Points],,,-1)

Sheet Existing Trees Form
A1: This sheet has highly involved formulas and cells that may not meet accessible standards. For accessibility assistance, contact SDCI staff: sdci-trees@seattle.gov. This Existing Trees Form is a table to enter existing trees on your site that are used to meet tree-related standards. | K1: Share your feedback on this form.
A2: Existing Trees Form | D2: =IF((COUNTBLANK(N11:N1448)<ROWS(N11:N1448))+($N$4<>"")+($I$3<>"")+($I$8<>""),(ROWS($N$11:$N$1448)-COUNTBLANK($N$11:$N$1448))+IF($N$4<>"",1,0)+IF($I$8<>"",1,0)+IF($I$3<>"",1,0) &" unresolved error(s). See red errors for more info.", "") -> 2 unresolved error(s). See red errors for more info. | H2: Permit Number: | L2: {="Total Existing Trees: "&SUM(--(MOD(ROW($F$11:$F$1448)-10,4)=0)*($F$11:$F$1448<>"")) & CHAR(10) & "(Used to meet code)"} -> Total Existing Trees: 0 (Used to meet code) | M2: {="Total Removals: "&SUM(--(MOD(ROW($F$11:$F$1448)-10,4)=0)*($F$11:$F$1448="Remove")) & CHAR(10) &"Total Retained: "&SUM(--(MOD(ROW($F$11:$F$1448)-10,4)=0)*($F$11:$F$1448="Retain"))} -> Total Removals: 0 Total Retained: 0
A3: Enter only the following: | D3: =IF(D2<>"", "This message will disappear when all errors are resolved.", "") -> This message will disappear when all errors are resolved. | I3: =IF($I$2="","↑ Enter Permit Number Here", IF(ISNUMBER(SEARCH("TA",$I$2)),"'TA' records do not require Tree Worksheets.", IF(ISNUMBER(SEARCH("TN",$I$2)),"'TN' records do not require Tree Worksheets.", IF(ISNUMBER(SEARCH("EX",$I$2)),"'EX' records do not require Tree Worksheets.", IF(ISNUMBER(SEARCH("LU",$I$2)),"'LU' records do not require Tree Worksheets.", IF(ISNUMBER(SEARCH("MUP",$I$2)),"'MUP' records do not require Tree Worksheets.", "")))))) -> ↑ Enter Permit Number Here
B4: • Retain trees used to meet tree-related standards. | L4: Required Tree Points: | N4: =IF($M$4="", "← Please enter the minimum tree points value required for this site. If not applicable, type zero.", IF(SUM($M$6,$M$7)<$M$4, "'Total Tree Points Proposed' must be equal or greater than the 'Required Tree Points.'","")) -> ← Please enter the minimum tree points value required for this site. If not applicable, type zero.
B5: • Retain street trees used to meet Green Factor standard. | I5: Net Canopy Area | J5: =J6-J7 -> 0 | L5: Total Tree Points Proposed | M5: =SUM(M6:M7) -> 0
B6: • Tree removals regulated by tree-related standards located within the development area impact area. | I6: Total Mature Canopy Area Proposed | J6: ='Tree Plantings Form'!J5 -> 0 | L6: Total Planting Tree Points | M6: ='Tree Plantings Form'!M5 -> 0
A7: Fill in tree information in each white cell starting from left to right. If more info is required, dark gray cells will turn white. | I7: Total Canopy Area of Removals | J7: {=SUM( SUMPRODUCT( $J11:$J1344, ISNUMBER(MATCH($I11:$I1344, {"Off-site replacement","On-site replacement"}, 0)) * ISNUMBER(MATCH($E11:$E1344, {"Tier 1","Tier 2","Tier 3","Tier 4","Tier 2 Grove"}, 0)) * ($H11:$H1344<>"") * ($F11:$F1344 = "Remove")), IFERROR(#REF!,0))} -> 0 | L7: Total Existing Tree Points | M7: {=SUM( SUMPRODUCT( $M11:$M1344, ISNUMBER(MATCH($H11:$H1344,{"Zoning: Tree Points"},0))* ISNUMBER(MATCH($E11:$E1344,{"Tier 1","Tier 2","Tier 2 Grove","Tier 3","Tier 4","ECA / Shoreline Tree","<6in DSH for Tree Points"},0))* ($F11:$F1344="Retain")), IFERROR(#REF!,0))} -> 0
B8: Read the Get Started Guide for FAQs and examples to help you complete the forms. | I8: {=IF('Existing Trees Form'!$J$7:$J$7>J6, "↑ New plantings are required. ‘Total Mature Canopy Area Proposed’ must be equal or greater than ‘Total Canopy Area of Removals’.", "")}
E9: Select a dropdown from Columns C & E - I
A10: Row | B10: Tree ID | C10: Scientific Name / Common Name | D10: Tree Size (DSH) | E10: Tree Category | F10: Tree Status & | G10: Sym | H10: Code Requirement(s) Met | I10: Tree Replacement | J10: Canopy Area of Removal (sq ft) | K10: Tree Species Size | L10: Points Per Inch of Diameter | M10: Tree Points | N10: Error Message | O10: Shrub
A11: 1 | G11: =IF(Tree_Table1[[#This Row],[Tree Status &]]="Retain", Tables!$B$237, IF(Tree_Table1[[#This Row],[Tree Status &]]="Remove", Tables!$B$238, "")) | K11: =IFERROR( IF( AND($H11="Zoning: Tree Points", NOT(ISNUMBER(SEARCH("sp.", $C11)))), VLOOKUP($C11, 'Tree List'!$C$3:$F$601, 4, FALSE), "" ), "") | L11: {=IFERROR( IF( AND($H11="Zoning: Tree Points", NOT(ISNUMBER(SEARCH("sp.", $C11)))), _xlfn.IFS( (COUNTIFS('Tree List'!$C$3:$C$601,$C11,'Tree List'!$D$3:$D$601,"Coniferous") + COUNTIFS('Tree List'!$C$3:$C$601,$C11,'Tree List'!$D$3:$D$601,"Deciduous Conifer")) > 0, _xlfn.IFS($K11="Small",0.5,$K11="Small/Medium",1,$K11="Medium/Large",1.4,$K11="Large",1.8), (COUNTIFS('Tree List'!$C$3:$C$601,$C11,'Tree List'!$D$3:$D$601,"Deciduous") + COUNTIFS('Tree List'!$C$3:$C$601,$C11,'Tree List'!$D$3:$D$601,"Broadleaf Evergreen")) > 0, _xlfn.IFS($K11="Small",0.4,$K11="Small/Medium",0.8,$K11="Medium/Large",1.2,$K11="Large",1.6) ), "" ), "")} | M11: =IFERROR($D11*$L11,"") | N11: {=_xlfn.LET( _xlpm.r,ROW(), _xlpm.blockIndex,INT((_xlpm.r-11)/4), _xlpm.baseRow,MOD(_xlpm.r-11,4)=0, _xlpm.baseStart,_xlpm.blockIndex*4+11, _xlpm.baseEnd,_xlpm.baseStart+3, _xlpm.HRange,INDEX($H:$H,_xlpm.baseStart):INDEX($H:$H,_xlpm.baseEnd), _xlpm.hasDM,ISNUMBER(SEARCH("DM",$I$2)), _xlpm.hasCN,ISNUMBER(SEARCH("CN",$I$2)), _xlpm.hasPH,ISNUMBER(SEARCH("PH",$I$2)), _xlpm.hasGR,ISNUMBER(SEARCH("GR",$I$2)), _xlpm.ECA_H,COUNTIF(_xlpm.HRange,"Environmental Critical Area (ECA)"), _xlpm.Shore_H,COUNTIF(_xlpm.HRange,"Shoreline"), _xlpm.TreePoints_H,COUNTIF(_xlpm.HRange,"Zoning: Tree Points"), _xlpm.GF_H,COUNTIF(_xlpm.HRange,"Zoning: Green Factor"), _xlpm.ECA_Short,COUNTIF(_xlpm.HRange,"Environmental Critical Area / Shoreline"), _xlpm.uniqueH,COUNTA(_xlfn.UNIQUE(_xlfn._xlws.FILTER(_xlpm.HRange,_xlpm.HRange<>""))), IFERROR( IF(AND(_xlpm.baseRow,ISNA(MATCH($C11,'Tree List'!$C$3:$C$601,0)),SUMPRODUCT(--ISNUMBER(SEARCH(Tables2!$C$677:$C$772,$O11)))>0), Error!$B$57, IF(AND(_xlpm.hasDM,$F11="Remove",$H11<>"",OR($I11="On-site replacement",$I11="Off-site replacement",$I11="Payment In Lieu")), Error!$B$56, IF(AND(_xlpm.hasDM,$F11="Remove",$H11<>"",$I11="Relocation"), Error!$B$66, IF(AND(OR(_xlpm.hasCN,_xlpm.hasPH,_xlpm.hasGR),$H11<>"",COUNTIF(Tables!$B$132:$B$134,$H11)>0,$I11="N/A (No replacement required)"), Error!$B$62, IF(AND(_xlpm.baseRow,$E11<>"",ISNA(MATCH($E11,Tables!$B$225:$B$232,0))), Error!$B$2, IF(AND(_xlpm.baseRow,$F11<>"",ISNA(MATCH($F11,Tables!$B$234:$B$235,0))), Error!$B$24, IF(AND(_xlpm.baseRow,_xlpm.ECA_H>0,_xlpm.Shore_H>0), Error!$B$16, IF(AND(_xlpm.baseRow,$E11<>"",$D11=""), Error!$B$3, IF(AND(_xlpm.baseRow,OR($E11="Tier 3",$E11="Tier 4"),$C11<>"",$D11>=24,COUNTIF(Tables2!$B$166:$B$674,$C11)>0), Error!$B$44, IF(AND(_xlpm.baseRow,OR($E11="Tier 3",$E11="Tier 4"),$C11<>"",$D11<>"",COUNTIF(Tables2!$B$73:$B$152,$C11)>0, $D11>=IFERROR(INDEX(Tables2!$C$73:$C$152,MATCH($C11,Tables2!$B$73:$B$152,0)),-1)), Error!$B$44, IF(AND(_xlpm.baseRow,OR($E11="Tier 2",$E11="Tier 2 Grove"),$C11<>"",$D11>=12,COUNTIF(Tables2!$B$153:$B$162,$C11)>0), Error!$B$45, IF(AND(_xlpm.baseRow,$E11="Tier 2 Grove",$D11<12), Error!$B$41, IF(AND(_xlpm.baseRow,$E11="Tier 2",$D11<5.88), Error!$B$40, IF(AND(_xlpm.baseRow,OR($E11="Tier 2",$E11="Tier 2 Grove"),$C11<>"",$D11<12,$D11>=6,COUNTIF(Tables2!$B$153:$B$162,$C11)>0), Error!$B$54, IF(AND(_xlpm.baseRow,$E11="Tier 2",COUNTIF(Tables2!$B$166:$B$674,$C11)>0,$D11<24), Error!$B$54, IF(AND(_xlpm.baseRow,$E11="Tier 3",ISNA(MATCH($C11,Tables2!$B$153:$B$162,0)),OR($D11<12,$D11>=24)), Error!$B$9, IF(AND(_xlpm.baseRow,$E11="Tier 3",COUNTIF(Tables2!$B$153:$B$162,$C11)>0,$D11<12), Error!$B$46, IF(AND(_xlpm.baseRow,$E11="Tier 4",OR($D11<6,$D11>=12)), Error!$B$10, IF(AND(_xlpm.baseRow,$E11="<6in DSH for Tree Points",OR($D11>=6,$D11="")), Error!$B$8, IF(AND(_xlpm.baseRow,$E11="Street Tree for Green Factor",$F11<>"",$F11<>"Retain"), Error!$B$14, IF(AND($E11="<6in DSH for Tree Points",$F11="Retain",$H11<>"",ISNA(MATCH($H11,Tables!$B$174:$B$174,0))), Error!$B$15, IF(AND($E11="Street Tree for Green Factor",$F11="Retain",$H11<>"",$H11<>"Zoning: Green Factor"), Error!$B$15, IF(AND($E11="ECA / Shoreline Tree",$F11="Remove",$H11<>"",ISNA(MATCH($H11,Tables!$B$189:$B$190,0))), Error!$B$15, IF(AND($E11="ECA / Shoreline Tree",$F11="Retain",$H11<>"",ISNA(MATCH($H11,Tables!$B$184:$B$186,0))), Error!$B$15, IF(AND($E11="Tier 4",$F11="Remove",$H11<>"",ISNA(MATCH($H11,Tables!$B$171,0))), Error!$B$15, IF(AND($E11="Tier 4",$F11="Retain",$H11<>"",ISNA(MATCH($H11,Tables!$B$166:$B$168,0))), Error!$B$15, IF(AND($E11="Tier 3",$F11="Retain",$H11<>"",ISNA(MATCH($H11,Tables!$B$158:$B$160,0))), Error!$B$15, IF(AND($E11="Tier 3",$F11="Remove",$H11<>"",ISNA(MATCH($H11,Tables!$B$163,0))), Error!$B$15, IF(AND(OR($E11="Tier 2",$E11="Tier 2 Grove"),$F11="Remove",$H11<>"",ISNA(MATCH($H11,Tables!$B$153:$B$155,0))), Error!$B$15, IF(AND(OR($E11="Tier 2",$E11="Tier 2 Grove"),$F11="Retain",$H11<>"",ISNA(MATCH($H11,Tables!$B$147:$B$150,0))), Error!$B$15, IF(AND($E11="Tier 1",$F11="Remove",$H11<>"",ISNA(MATCH($H11,Tables!$B$143:$B$144,0))), Error!$B$15, IF(AND($E11="Tier 1",$F11="Retain",$H11<>"",ISNA(MATCH($H11,Tables!$B$137:$B$140,0))), Error!$B$15, IF(AND($E11<>"Tier 2",$E11<>"Tier 2 Grove",$E11<>"Tier 3",$E11<>"Tier 4",$H11="Zoning: Green Factor",OR($D11="",$D11<6)), Error!$B$11, IF(AND(_xlpm.baseRow,$D11<6,$E11="<6in DSH for Tree Points",_xlpm.TreePoints_H=0), Error!$B$21, IF(AND(_xlpm.baseRow,$E11<>"",$D11<>"",$F11=""), Error!$B$4, IF(AND(_xlpm.baseRow,$F11="Remove",OR($E11="Tier 1",$E11="Tier 2",$E11="Tier 2 Grove"),COUNTBLANK(_xlpm.HRange)<3,_xlpm.uniqueH>=2), Error!$B$48, IF(AND(_xlpm.baseRow,$F11="Retain",OR($E11="Tier 1",$E11="Tier 2",$E11="Tier 2 Grove"),COUNTIF(_xlpm.HRange,"Tree Code: Required to Retain Tier 1-2 Tree")=0), Error!$B$47, IF(AND(_xlpm.baseRow,$E11<>"",$D11<>"",$F11<>"",COUNTBLANK(_xlpm.HRange)=4), Error!$B$5, IF(AND($F11="Remove",$H11<>"",$I11=""), Error!$B$18, IF(AND($E11="Tier 4",$F11="Remove",$H11="Tree Protection Code: Tier 3 or Tier 4 Allowance",$H11<>"",ISNA(MATCH($I11,Tables!$B$200,0))), Error!$B$17, IF(AND($E11="Tier 3",$F11="Remove",$H11<>"",$H11="Tree Protection Code: Tier 3 or Tier 4 Allowance",OR($I11="",ISNA(MATCH($I11,Tables!$B$193:$B$197,0)))), Error!$B$17, IF(AND(OR($E11="Tier 2",$E11="Tier 2 Grove"),$F11="Remove",$H11="Tree Protection Code: Other removal allowance or exemption",$I11<>"",ISNA(MATCH($I11,Tables!$B$215:$B$218,0))), Error!$B$17, IF(AND(OR($E11="Tier 2",$E11="Tier 2 Grove"),$F11="Remove",$H11="Tree Protection Code: Development Capacity",$I11<>"",ISNA(MATCH($I11,Tables!$B$193:$B$197,0))), Error!$B$17, IF(AND(OR($E11="Tier 2",$E11="Tier 2 Grove"),$F11="Remove",$H11="Tree Protection Code: Necessary for Construction",$I11<>"",ISNA(MATCH($I11,Tables!$B$193:$B$197,0))), Error!$B$17, IF(AND($E11="Tier 1",$F11="Remove",$H11="Tree Protection Code: Special Exception",$I11<>"",ISNA(MATCH($I11,Tables!$B$215:$B$218,0))), Error!$B$17, IF(AND($E11="Tier 1",$F11="Remove",$H11="Tree Protection Code: Other removal allowance or exemption",$I11<>"",ISNA(MATCH($I11,Tables!$B$215:$B$218,0))), Error!$B$17, IF(AND($E11="ECA / Shoreline Tree",$F11="Remove",$H11<>"",OR($H11="Shoreline",$H11="Environmental Critical Area (ECA)"),ISNA(MATCH($I11,Tables!$B$209:$B$212,0))), Error!$B$17, IF(AND(_xlpm.baseRow,$F11="Retain",$E11="ECA / Shoreline Tree",_xlpm.ECA_Short=0), Error!$B$61, IF(AND($F11="Remove",ISNUMBER(MATCH($E11,{"Tier 1","Tier 2","Tier 3","Tier 4","Tier 2 Grove"},0)),ISNUMBER(MATCH($I11,{"On-site replacement","Off-site replacement"},0)),$J11="",$H11<>""), Error!$B$19, IF(AND(_xlpm.baseRow,$E11<>"",$D11<>"",$F11<>"",COUNTBLANK($B11:$C11)>0,COUNTBLANK(_xlpm.HRange)<>4), Error!$B$22, IF(AND($H11="Zoning: Tree Points",$K11<>"",ISNA(MATCH($K11,Tables!$B$242:$B$253,0))), Error!$B$58, IF(AND($H11="Zoning: Tree Points",$K11="Small",$L11<>"",ISNA(MATCH($L11,Tables!$C$243:$C$244,0))), Error!$B$59, IF(AND($H11="Zoning: Tree Points",$K11="Small/Medium",$L11<>"",ISNA(MATCH($L11,Tables!$C$246:$C$247,0))), Error!$B$59, IF(AND($H11="Zoning: Tree Points",$K11="Medium/Large",$L11<>"",ISNA(MATCH($L11,Tables!$C$249:$C$250,0))), Error!$B$59, IF(AND($H11="Zoning: Tree Points",$K11="Large",$L11<>"",ISNA(MATCH($L11,Tables!$C$252:$C$253,0))), Error!$B$59, IF(AND($F11="Retain",$H11="Zoning: Tree Points",$C11<>"",$D11<>"",OR($K11="",$L11="",$M11="")), Error!$B$20, "" )))))))))))))))))))))))))))))))))))))))))))))))))))))))), Error!$B$23))} | O11: {=IFERROR(_xlfn.LET( _xlpm.txt, $C11, _xlpm.chars, MID(_xlpm.txt, ROW(INDIRECT("1:" & LEN(_xlpm.txt))), 1), _xlpm.validChars, "0123456789ABCDEFGHIJKLMNOPQRSTUVWXYZabcdefghijklmnopqrstuvwxyz", _xlpm.isValid, ISNUMBER(MATCH(_xlpm.chars, MID(_xlpm.validChars, ROW(INDIRECT("1:" & LEN(_xlpm.validChars))), 1), 0)), _xlfn.TEXTJOIN("", TRUE, IF(_xlpm.isValid, _xlpm.chars, "")) ),"")}
B12: =IF($B11="", "", $B11) | C12: =IF($C11="", "", $C11) | D12: =IF($D11="", "", $D11) | E12: =IF($E11="", "", $E11) | F12: =IF($F11="", "", $F11) | G12: =IF(Tree_Table1[[#This Row],[Tree Status &]]="Retain", Tables!$B$237, IF(Tree_Table1[[#This Row],[Tree Status &]]="Remove", Tables!$B$238, "")) | K12: =IFERROR( IF( AND($H12="Zoning: Tree Points", NOT(ISNUMBER(SEARCH("sp.", $C12)))), VLOOKUP($C12, 'Tree List'!$C$3:$F$601, 4, FALSE), "" ), "") | L12: {=IFERROR( IF( AND($H12="Zoning: Tree Points", NOT(ISNUMBER(SEARCH("sp.", $C12)))), _xlfn.IFS( (COUNTIFS('Tree List'!$C$3:$C$601,$C12,'Tree List'!$D$3:$D$601,"Coniferous") + COUNTIFS('Tree List'!$C$3:$C$601,$C12,'Tree List'!$D$3:$D$601,"Deciduous Conifer")) > 0, _xlfn.IFS($K12="Small",0.5,$K12="Small/Medium",1,$K12="Medium/Large",1.4,$K12="Large",1.8), (COUNTIFS('Tree List'!$C$3:$C$601,$C12,'Tree List'!$D$3:$D$601,"Deciduous") + COUNTIFS('Tree List'!$C$3:$C$601,$C12,'Tree List'!$D$3:$D$601,"Broadleaf Evergreen")) > 0, _xlfn.IFS($K12="Small",0.4,$K12="Small/Medium",0.8,$K12="Medium/Large",1.2,$K12="Large",1.6) ), "" ), "")} | M12: =IFERROR($D12*$L12,"") | N12: {=_xlfn.LET( _xlpm.r,ROW(), _xlpm.blockIndex,INT((_xlpm.r-11)/4), _xlpm.baseRow,MOD(_xlpm.r-11,4)=0, _xlpm.baseStart,_xlpm.blockIndex*4+11, _xlpm.baseEnd,_xlpm.baseStart+3, _xlpm.HRange,INDEX($H:$H,_xlpm.baseStart):INDEX($H:$H,_xlpm.baseEnd), _xlpm.hasDM,ISNUMBER(SEARCH("DM",$I$2)), _xlpm.hasCN,ISNUMBER(SEARCH("CN",$I$2)), _xlpm.hasPH,ISNUMBER(SEARCH("PH",$I$2)), _xlpm.hasGR,ISNUMBER(SEARCH("GR",$I$2)), _xlpm.ECA_H,COUNTIF(_xlpm.HRange,"Environmental Critical Area (ECA)"), _xlpm.Shore_H,COUNTIF(_xlpm.HRange,"Shoreline"), _xlpm.TreePoints_H,COUNTIF(_xlpm.HRange,"Zoning: Tree Points"), _xlpm.GF_H,COUNTIF(_xlpm.HRange,"Zoning: Green Factor"), _xlpm.ECA_Short,COUNTIF(_xlpm.HRange,"Environmental Critical Area / Shoreline"), _xlpm.uniqueH,COUNTA(_xlfn.UNIQUE(_xlfn._xlws.FILTER(_xlpm.HRange,_xlpm.HRange<>""))), IFERROR( IF(AND(_xlpm.baseRow,ISNA(MATCH($C12,'Tree List'!$C$3:$C$601,0)),SUMPRODUCT(--ISNUMBER(SEARCH(Tables2!$C$677:$C$772,$O12)))>0), Error!$B$57, IF(AND(_xlpm.hasDM,$F12="Remove",$H12<>"",OR($I12="On-site replacement",$I12="Off-site replacement",$I12="Payment In Lieu")), Error!$B$56, IF(AND(_xlpm.hasDM,$F12="Remove",$H12<>"",$I12="Relocation"), Error!$B$66, IF(AND(OR(_xlpm.hasCN,_xlpm.hasPH,_xlpm.hasGR),$H12<>"",COUNTIF(Tables!$B$132:$B$134,$H12)>0,$I12="N/A (No replacement required)"), Error!$B$62, IF(AND(_xlpm.baseRow,$E12<>"",ISNA(MATCH($E12,Tables!$B$225:$B$232,0))), Error!$B$2, IF(AND(_xlpm.baseRow,$F12<>"",ISNA(MATCH($F12,Tables!$B$234:$B$235,0))), Error!$B$24, IF(AND(_xlpm.baseRow,_xlpm.ECA_H>0,_xlpm.Shore_H>0), Error!$B$16, IF(AND(_xlpm.baseRow,$E12<>"",$D12=""), Error!$B$3, IF(AND(_xlpm.baseRow,OR($E12="Tier 3",$E12="Tier 4"),$C12<>"",$D12>=24,COUNTIF(Tables2!$B$166:$B$674,$C12)>0), Error!$B$44, IF(AND(_xlpm.baseRow,OR($E12="Tier 3",$E12="Tier 4"),$C12<>"",$D12<>"",COUNTIF(Tables2!$B$73:$B$152,$C12)>0, $D12>=IFERROR(INDEX(Tables2!$C$73:$C$152,MATCH($C12,Tables2!$B$73:$B$152,0)),-1)), Error!$B$44, IF(AND(_xlpm.baseRow,OR($E12="Tier 2",$E12="Tier 2 Grove"),$C12<>"",$D12>=12,COUNTIF(Tables2!$B$153:$B$162,$C12)>0), Error!$B$45, IF(AND(_xlpm.baseRow,$E12="Tier 2 Grove",$D12<12), Error!$B$41, IF(AND(_xlpm.baseRow,$E12="Tier 2",$D12<5.88), Error!$B$40, IF(AND(_xlpm.baseRow,OR($E12="Tier 2",$E12="Tier 2 Grove"),$C12<>"",$D12<12,$D12>=6,COUNTIF(Tables2!$B$153:$B$162,$C12)>0), Error!$B$54, IF(AND(_xlpm.baseRow,$E12="Tier 2",COUNTIF(Tables2!$B$166:$B$674,$C12)>0,$D12<24), Error!$B$54, IF(AND(_xlpm.baseRow,$E12="Tier 3",ISNA(MATCH($C12,Tables2!$B$153:$B$162,0)),OR($D12<12,$D12>=24)), Error!$B$9, IF(AND(_xlpm.baseRow,$E12="Tier 3",COUNTIF(Tables2!$B$153:$B$162,$C12)>0,$D12<12), Error!$B$46, IF(AND(_xlpm.baseRow,$E12="Tier 4",OR($D12<6,$D12>=12)), Error!$B$10, IF(AND(_xlpm.baseRow,$E12="<6in DSH for Tree Points",OR($D12>=6,$D12="")), Error!$B$8, IF(AND(_xlpm.baseRow,$E12="Street Tree for Green Factor",$F12<>"",$F12<>"Retain"), Error!$B$14, IF(AND($E12="<6in DSH for Tree Points",$F12="Retain",$H12<>"",ISNA(MATCH($H12,Tables!$B$174:$B$174,0))), Error!$B$15, IF(AND($E12="Street Tree for Green Factor",$F12="Retain",$H12<>"",$H12<>"Zoning: Green Factor"), Error!$B$15, IF(AND($E12="ECA / Shoreline Tree",$F12="Remove",$H12<>"",ISNA(MATCH($H12,Tables!$B$189:$B$190,0))), Error!$B$15, IF(AND($E12="ECA / Shoreline Tree",$F12="Retain",$H12<>"",ISNA(MATCH($H12,Tables!$B$184:$B$186,0))), Error!$B$15, IF(AND($E12="Tier 4",$F12="Remove",$H12<>"",ISNA(MATCH($H12,Tables!$B$171,0))), Error!$B$15, IF(AND($E12="Tier 4",$F12="Retain",$H12<>"",ISNA(MATCH($H12,Tables!$B$166:$B$168,0))), Error!$B$15, IF(AND($E12="Tier 3",$F12="Retain",$H12<>"",ISNA(MATCH($H12,Tables!$B$158:$B$160,0))), Error!$B$15, IF(AND($E12="Tier 3",$F12="Remove",$H12<>"",ISNA(MATCH($H12,Tables!$B$163,0))), Error!$B$15, IF(AND(OR($E12="Tier 2",$E12="Tier 2 Grove"),$F12="Remove",$H12<>"",ISNA(MATCH($H12,Tables!$B$153:$B$155,0))), Error!$B$15, IF(AND(OR($E12="Tier 2",$E12="Tier 2 Grove"),$F12="Retain",$H12<>"",ISNA(MATCH($H12,Tables!$B$147:$B$150,0))), Error!$B$15, IF(AND($E12="Tier 1",$F12="Remove",$H12<>"",ISNA(MATCH($H12,Tables!$B$143:$B$144,0))), Error!$B$15, IF(AND($E12="Tier 1",$F12="Retain",$H12<>"",ISNA(MATCH($H12,Tables!$B$137:$B$140,0))), Error!$B$15, IF(AND($E12<>"Tier 2",$E12<>"Tier 2 Grove",$E12<>"Tier 3",$E12<>"Tier 4",$H12="Zoning: Green Factor",OR($D12="",$D12<6)), Error!$B$11, IF(AND(_xlpm.baseRow,$D12<6,$E12="<6in DSH for Tree Points",_xlpm.TreePoints_H=0), Error!$B$21, IF(AND(_xlpm.baseRow,$E12<>"",$D12<>"",$F12=""), Error!$B$4, IF(AND(_xlpm.baseRow,$F12="Remove",OR($E12="Tier 1",$E12="Tier 2",$E12="Tier 2 Grove"),COUNTBLANK(_xlpm.HRange)<3,_xlpm.uniqueH>=2), Error!$B$48, IF(AND(_xlpm.baseRow,$F12="Retain",OR($E12="Tier 1",$E12="Tier 2",$E12="Tier 2 Grove"),COUNTIF(_xlpm.HRange,"Tree Code: Required to Retain Tier 1-2 Tree")=0), Error!$B$47, IF(AND(_xlpm.baseRow,$E12<>"",$D12<>"",$F12<>"",COUNTBLANK(_xlpm.HRange)=4), Error!$B$5, IF(AND($F12="Remove",$H12<>"",$I12=""), Error!$B$18, IF(AND($E12="Tier 4",$F12="Remove",$H12="Tree Protection Code: Tier 3 or Tier 4 Allowance",$H12<>"",ISNA(MATCH($I12,Tables!$B$200,0))), Error!$B$17, IF(AND($E12="Tier 3",$F12="Remove",$H12<>"",$H12="Tree Protection Code: Tier 3 or Tier 4 Allowance",OR($I12="",ISNA(MATCH($I12,Tables!$B$193:$B$197,0)))), Error!$B$17, IF(AND(OR($E12="Tier 2",$E12="Tier 2 Grove"),$F12="Remove",$H12="Tree Protection Code: Other removal allowance or exemption",$I12<>"",ISNA(MATCH($I12,Tables!$B$215:$B$218,0))), Error!$B$17, IF(AND(OR($E12="Tier 2",$E12="Tier 2 Grove"),$F12="Remove",$H12="Tree Protection Code: Development Capacity",$I12<>"",ISNA(MATCH($I12,Tables!$B$193:$B$197,0))), Error!$B$17, IF(AND(OR($E12="Tier 2",$E12="Tier 2 Grove"),$F12="Remove",$H12="Tree Protection Code: Necessary for Construction",$I12<>"",ISNA(MATCH($I12,Tables!$B$193:$B$197,0))), Error!$B$17, IF(AND($E12="Tier 1",$F12="Remove",$H12="Tree Protection Code: Special Exception",$I12<>"",ISNA(MATCH($I12,Tables!$B$215:$B$218,0))), Error!$B$17, IF(AND($E12="Tier 1",$F12="Remove",$H12="Tree Protection Code: Other removal allowance or exemption",$I12<>"",ISNA(MATCH($I12,Tables!$B$215:$B$218,0))), Error!$B$17, IF(AND($E12="ECA / Shoreline Tree",$F12="Remove",$H12<>"",OR($H12="Shoreline",$H12="Environmental Critical Area (ECA)"),ISNA(MATCH($I12,Tables!$B$209:$B$212,0))), Error!$B$17, IF(AND(_xlpm.baseRow,$F12="Retain",$E12="ECA / Shoreline Tree",_xlpm.ECA_Short=0), Error!$B$61, IF(AND($F12="Remove",ISNUMBER(MATCH($E12,{"Tier 1","Tier 2","Tier 3","Tier 4","Tier 2 Grove"},0)),ISNUMBER(MATCH($I12,{"On-site replacement","Off-site replacement"},0)),$J12="",$H12<>""), Error!$B$19, IF(AND(_xlpm.baseRow,$E12<>"",$D12<>"",$F12<>"",COUNTBLANK($B12:$C12)>0,COUNTBLANK(_xlpm.HRange)<>4), Error!$B$22, IF(AND($H12="Zoning: Tree Points",$K12<>"",ISNA(MATCH($K12,Tables!$B$242:$B$253,0))), Error!$B$58, IF(AND($H12="Zoning: Tree Points",$K12="Small",$L12<>"",ISNA(MATCH($L12,Tables!$C$243:$C$244,0))), Error!$B$59, IF(AND($H12="Zoning: Tree Points",$K12="Small/Medium",$L12<>"",ISNA(MATCH($L12,Tables!$C$246:$C$247,0))), Error!$B$59, IF(AND($H12="Zoning: Tree Points",$K12="Medium/Large",$L12<>"",ISNA(MATCH($L12,Tables!$C$249:$C$250,0))), Error!$B$59, IF(AND($H12="Zoning: Tree Points",$K12="Large",$L12<>"",ISNA(MATCH($L12,Tables!$C$252:$C$253,0))), Error!$B$59, IF(AND($F12="Retain",$H12="Zoning: Tree Points",$C12<>"",$D12<>"",OR($K12="",$L12="",$M12="")), Error!$B$20, "" )))))))))))))))))))))))))))))))))))))))))))))))))))))))), Error!$B$23))} | O12: {=IFERROR(_xlfn.LET( _xlpm.txt, $C12, _xlpm.chars, MID(_xlpm.txt, ROW(INDIRECT("1:" & LEN(_xlpm.txt))), 1), _xlpm.validChars, "0123456789ABCDEFGHIJKLMNOPQRSTUVWXYZabcdefghijklmnopqrstuvwxyz", _xlpm.isValid, ISNUMBER(MATCH(_xlpm.chars, MID(_xlpm.validChars, ROW(INDIRECT("1:" & LEN(_xlpm.validChars))), 1), 0)), _xlfn.TEXTJOIN("", TRUE, IF(_xlpm.isValid, _xlpm.chars, "")) ),"")}
B13: =IF($B12="", "", $B12) | C13: =IF($C12="", "", $C12) | D13: =IF($D12="", "", $D12) | E13: =IF($E12="", "", $E12) | F13: =IF($F12="", "", $F12) | G13: =IF(Tree_Table1[[#This Row],[Tree Status &]]="Retain", Tables!$B$237, IF(Tree_Table1[[#This Row],[Tree Status &]]="Remove", Tables!$B$238, "")) | K13: =IFERROR( IF( AND($H13="Zoning: Tree Points", NOT(ISNUMBER(SEARCH("sp.", $C13)))), VLOOKUP($C13, 'Tree List'!$C$3:$F$601, 4, FALSE), "" ), "") | L13: {=IFERROR( IF( AND($H13="Zoning: Tree Points", NOT(ISNUMBER(SEARCH("sp.", $C13)))), _xlfn.IFS( (COUNTIFS('Tree List'!$C$3:$C$601,$C13,'Tree List'!$D$3:$D$601,"Coniferous") + COUNTIFS('Tree List'!$C$3:$C$601,$C13,'Tree List'!$D$3:$D$601,"Deciduous Conifer")) > 0, _xlfn.IFS($K13="Small",0.5,$K13="Small/Medium",1,$K13="Medium/Large",1.4,$K13="Large",1.8), (COUNTIFS('Tree List'!$C$3:$C$601,$C13,'Tree List'!$D$3:$D$601,"Deciduous") + COUNTIFS('Tree List'!$C$3:$C$601,$C13,'Tree List'!$D$3:$D$601,"Broadleaf Evergreen")) > 0, _xlfn.IFS($K13="Small",0.4,$K13="Small/Medium",0.8,$K13="Medium/Large",1.2,$K13="Large",1.6) ), "" ), "")} | M13: =IFERROR($D13*$L13,"") | N13: {=_xlfn.LET( _xlpm.r,ROW(), _xlpm.blockIndex,INT((_xlpm.r-11)/4), _xlpm.baseRow,MOD(_xlpm.r-11,4)=0, _xlpm.baseStart,_xlpm.blockIndex*4+11, _xlpm.baseEnd,_xlpm.baseStart+3, _xlpm.HRange,INDEX($H:$H,_xlpm.baseStart):INDEX($H:$H,_xlpm.baseEnd), _xlpm.hasDM,ISNUMBER(SEARCH("DM",$I$2)), _xlpm.hasCN,ISNUMBER(SEARCH("CN",$I$2)), _xlpm.hasPH,ISNUMBER(SEARCH("PH",$I$2)), _xlpm.hasGR,ISNUMBER(SEARCH("GR",$I$2)), _xlpm.ECA_H,COUNTIF(_xlpm.HRange,"Environmental Critical Area (ECA)"), _xlpm.Shore_H,COUNTIF(_xlpm.HRange,"Shoreline"), _xlpm.TreePoints_H,COUNTIF(_xlpm.HRange,"Zoning: Tree Points"), _xlpm.GF_H,COUNTIF(_xlpm.HRange,"Zoning: Green Factor"), _xlpm.ECA_Short,COUNTIF(_xlpm.HRange,"Environmental Critical Area / Shoreline"), _xlpm.uniqueH,COUNTA(_xlfn.UNIQUE(_xlfn._xlws.FILTER(_xlpm.HRange,_xlpm.HRange<>""))), IFERROR( IF(AND(_xlpm.baseRow,ISNA(MATCH($C13,'Tree List'!$C$3:$C$601,0)),SUMPRODUCT(--ISNUMBER(SEARCH(Tables2!$C$677:$C$772,$O13)))>0), Error!$B$57, IF(AND(_xlpm.hasDM,$F13="Remove",$H13<>"",OR($I13="On-site replacement",$I13="Off-site replacement",$I13="Payment In Lieu")), Error!$B$56, IF(AND(_xlpm.hasDM,$F13="Remove",$H13<>"",$I13="Relocation"), Error!$B$66, IF(AND(OR(_xlpm.hasCN,_xlpm.hasPH,_xlpm.hasGR),$H13<>"",COUNTIF(Tables!$B$132:$B$134,$H13)>0,$I13="N/A (No replacement required)"), Error!$B$62, IF(AND(_xlpm.baseRow,$E13<>"",ISNA(MATCH($E13,Tables!$B$225:$B$232,0))), Error!$B$2, IF(AND(_xlpm.baseRow,$F13<>"",ISNA(MATCH($F13,Tables!$B$234:$B$235,0))), Error!$B$24, IF(AND(_xlpm.baseRow,_xlpm.ECA_H>0,_xlpm.Shore_H>0), Error!$B$16, IF(AND(_xlpm.baseRow,$E13<>"",$D13=""), Error!$B$3, IF(AND(_xlpm.baseRow,OR($E13="Tier 3",$E13="Tier 4"),$C13<>"",$D13>=24,COUNTIF(Tables2!$B$166:$B$674,$C13)>0), Error!$B$44, IF(AND(_xlpm.baseRow,OR($E13="Tier 3",$E13="Tier 4"),$C13<>"",$D13<>"",COUNTIF(Tables2!$B$73:$B$152,$C13)>0, $D13>=IFERROR(INDEX(Tables2!$C$73:$C$152,MATCH($C13,Tables2!$B$73:$B$152,0)),-1)), Error!$B$44, IF(AND(_xlpm.baseRow,OR($E13="Tier 2",$E13="Tier 2 Grove"),$C13<>"",$D13>=12,COUNTIF(Tables2!$B$153:$B$162,$C13)>0), Error!$B$45, IF(AND(_xlpm.baseRow,$E13="Tier 2 Grove",$D13<12), Error!$B$41, IF(AND(_xlpm.baseRow,$E13="Tier 2",$D13<5.88), Error!$B$40, IF(AND(_xlpm.baseRow,OR($E13="Tier 2",$E13="Tier 2 Grove"),$C13<>"",$D13<12,$D13>=6,COUNTIF(Tables2!$B$153:$B$162,$C13)>0), Error!$B$54, IF(AND(_xlpm.baseRow,$E13="Tier 2",COUNTIF(Tables2!$B$166:$B$674,$C13)>0,$D13<24), Error!$B$54, IF(AND(_xlpm.baseRow,$E13="Tier 3",ISNA(MATCH($C13,Tables2!$B$153:$B$162,0)),OR($D13<12,$D13>=24)), Error!$B$9, IF(AND(_xlpm.baseRow,$E13="Tier 3",COUNTIF(Tables2!$B$153:$B$162,$C13)>0,$D13<12), Error!$B$46, IF(AND(_xlpm.baseRow,$E13="Tier 4",OR($D13<6,$D13>=12)), Error!$B$10, IF(AND(_xlpm.baseRow,$E13="<6in DSH for Tree Points",OR($D13>=6,$D13="")), Error!$B$8, IF(AND(_xlpm.baseRow,$E13="Street Tree for Green Factor",$F13<>"",$F13<>"Retain"), Error!$B$14, IF(AND($E13="<6in DSH for Tree Points",$F13="Retain",$H13<>"",ISNA(MATCH($H13,Tables!$B$174:$B$174,0))), Error!$B$15, IF(AND($E13="Street Tree for Green Factor",$F13="Retain",$H13<>"",$H13<>"Zoning: Green Factor"), Error!$B$15, IF(AND($E13="ECA / Shoreline Tree",$F13="Remove",$H13<>"",ISNA(MATCH($H13,Tables!$B$189:$B$190,0))), Error!$B$15, IF(AND($E13="ECA / Shoreline Tree",$F13="Retain",$H13<>"",ISNA(MATCH($H13,Tables!$B$184:$B$186,0))), Error!$B$15, IF(AND($E13="Tier 4",$F13="Remove",$H13<>"",ISNA(MATCH($H13,Tables!$B$171,0))), Error!$B$15, IF(AND($E13="Tier 4",$F13="Retain",$H13<>"",ISNA(MATCH($H13,Tables!$B$166:$B$168,0))), Error!$B$15, IF(AND($E13="Tier 3",$F13="Retain",$H13<>"",ISNA(MATCH($H13,Tables!$B$158:$B$160,0))), Error!$B$15, IF(AND($E13="Tier 3",$F13="Remove",$H13<>"",ISNA(MATCH($H13,Tables!$B$163,0))), Error!$B$15, IF(AND(OR($E13="Tier 2",$E13="Tier 2 Grove"),$F13="Remove",$H13<>"",ISNA(MATCH($H13,Tables!$B$153:$B$155,0))), Error!$B$15, IF(AND(OR($E13="Tier 2",$E13="Tier 2 Grove"),$F13="Retain",$H13<>"",ISNA(MATCH($H13,Tables!$B$147:$B$150,0))), Error!$B$15, IF(AND($E13="Tier 1",$F13="Remove",$H13<>"",ISNA(MATCH($H13,Tables!$B$143:$B$144,0))), Error!$B$15, IF(AND($E13="Tier 1",$F13="Retain",$H13<>"",ISNA(MATCH($H13,Tables!$B$137:$B$140,0))), Error!$B$15, IF(AND($E13<>"Tier 2",$E13<>"Tier 2 Grove",$E13<>"Tier 3",$E13<>"Tier 4",$H13="Zoning: Green Factor",OR($D13="",$D13<6)), Error!$B$11, IF(AND(_xlpm.baseRow,$D13<6,$E13="<6in DSH for Tree Points",_xlpm.TreePoints_H=0), Error!$B$21, IF(AND(_xlpm.baseRow,$E13<>"",$D13<>"",$F13=""), Error!$B$4, IF(AND(_xlpm.baseRow,$F13="Remove",OR($E13="Tier 1",$E13="Tier 2",$E13="Tier 2 Grove"),COUNTBLANK(_xlpm.HRange)<3,_xlpm.uniqueH>=2), Error!$B$48, IF(AND(_xlpm.baseRow,$F13="Retain",OR($E13="Tier 1",$E13="Tier 2",$E13="Tier 2 Grove"),COUNTIF(_xlpm.HRange,"Tree Code: Required to Retain Tier 1-2 Tree")=0), Error!$B$47, IF(AND(_xlpm.baseRow,$E13<>"",$D13<>"",$F13<>"",COUNTBLANK(_xlpm.HRange)=4), Error!$B$5, IF(AND($F13="Remove",$H13<>"",$I13=""), Error!$B$18, IF(AND($E13="Tier 4",$F13="Remove",$H13="Tree Protection Code: Tier 3 or Tier 4 Allowance",$H13<>"",ISNA(MATCH($I13,Tables!$B$200,0))), Error!$B$17, IF(AND($E13="Tier 3",$F13="Remove",$H13<>"",$H13="Tree Protection Code: Tier 3 or Tier 4 Allowance",OR($I13="",ISNA(MATCH($I13,Tables!$B$193:$B$197,0)))), Error!$B$17, IF(AND(OR($E13="Tier 2",$E13="Tier 2 Grove"),$F13="Remove",$H13="Tree Protection Code: Other removal allowance or exemption",$I13<>"",ISNA(MATCH($I13,Tables!$B$215:$B$218,0))), Error!$B$17, IF(AND(OR($E13="Tier 2",$E13="Tier 2 Grove"),$F13="Remove",$H13="Tree Protection Code: Development Capacity",$I13<>"",ISNA(MATCH($I13,Tables!$B$193:$B$197,0))), Error!$B$17, IF(AND(OR($E13="Tier 2",$E13="Tier 2 Grove"),$F13="Remove",$H13="Tree Protection Code: Necessary for Construction",$I13<>"",ISNA(MATCH($I13,Tables!$B$193:$B$197,0))), Error!$B$17, IF(AND($E13="Tier 1",$F13="Remove",$H13="Tree Protection Code: Special Exception",$I13<>"",ISNA(MATCH($I13,Tables!$B$215:$B$218,0))), Error!$B$17, IF(AND($E13="Tier 1",$F13="Remove",$H13="Tree Protection Code: Other removal allowance or exemption",$I13<>"",ISNA(MATCH($I13,Tables!$B$215:$B$218,0))), Error!$B$17, IF(AND($E13="ECA / Shoreline Tree",$F13="Remove",$H13<>"",OR($H13="Shoreline",$H13="Environmental Critical Area (ECA)"),ISNA(MATCH($I13,Tables!$B$209:$B$212,0))), Error!$B$17, IF(AND(_xlpm.baseRow,$F13="Retain",$E13="ECA / Shoreline Tree",_xlpm.ECA_Short=0), Error!$B$61, IF(AND($F13="Remove",ISNUMBER(MATCH($E13,{"Tier 1","Tier 2","Tier 3","Tier 4","Tier 2 Grove"},0)),ISNUMBER(MATCH($I13,{"On-site replacement","Off-site replacement"},0)),$J13="",$H13<>""), Error!$B$19, IF(AND(_xlpm.baseRow,$E13<>"",$D13<>"",$F13<>"",COUNTBLANK($B13:$C13)>0,COUNTBLANK(_xlpm.HRange)<>4), Error!$B$22, IF(AND($H13="Zoning: Tree Points",$K13<>"",ISNA(MATCH($K13,Tables!$B$242:$B$253,0))), Error!$B$58, IF(AND($H13="Zoning: Tree Points",$K13="Small",$L13<>"",ISNA(MATCH($L13,Tables!$C$243:$C$244,0))), Error!$B$59, IF(AND($H13="Zoning: Tree Points",$K13="Small/Medium",$L13<>"",ISNA(MATCH($L13,Tables!$C$246:$C$247,0))), Error!$B$59, IF(AND($H13="Zoning: Tree Points",$K13="Medium/Large",$L13<>"",ISNA(MATCH($L13,Tables!$C$249:$C$250,0))), Error!$B$59, IF(AND($H13="Zoning: Tree Points",$K13="Large",$L13<>"",ISNA(MATCH($L13,Tables!$C$252:$C$253,0))), Error!$B$59, IF(AND($F13="Retain",$H13="Zoning: Tree Points",$C13<>"",$D13<>"",OR($K13="",$L13="",$M13="")), Error!$B$20, "" )))))))))))))))))))))))))))))))))))))))))))))))))))))))), Error!$B$23))} | O13: {=IFERROR(_xlfn.LET( _xlpm.txt, $C13, _xlpm.chars, MID(_xlpm.txt, ROW(INDIRECT("1:" & LEN(_xlpm.txt))), 1), _xlpm.validChars, "0123456789ABCDEFGHIJKLMNOPQRSTUVWXYZabcdefghijklmnopqrstuvwxyz", _xlpm.isValid, ISNUMBER(MATCH(_xlpm.chars, MID(_xlpm.validChars, ROW(INDIRECT("1:" & LEN(_xlpm.validChars))), 1), 0)), _xlfn.TEXTJOIN("", TRUE, IF(_xlpm.isValid, _xlpm.chars, "")) ),"")}
B14: =IF($B13="", "", $B13) | C14: =IF($C13="", "", $C13) | D14: =IF($D13="", "", $D13) | E14: =IF($E13="", "", $E13) | F14: =IF($F13="", "", $F13) | G14: =IF(Tree_Table1[[#This Row],[Tree Status &]]="Retain", Tables!$B$237, IF(Tree_Table1[[#This Row],[Tree Status &]]="Remove", Tables!$B$238, "")) | K14: =IFERROR( IF( AND($H14="Zoning: Tree Points", NOT(ISNUMBER(SEARCH("sp.", $C14)))), VLOOKUP($C14, 'Tree List'!$C$3:$F$601, 4, FALSE), "" ), "") | L14: {=IFERROR( IF( AND($H14="Zoning: Tree Points", NOT(ISNUMBER(SEARCH("sp.", $C14)))), _xlfn.IFS( (COUNTIFS('Tree List'!$C$3:$C$601,$C14,'Tree List'!$D$3:$D$601,"Coniferous") + COUNTIFS('Tree List'!$C$3:$C$601,$C14,'Tree List'!$D$3:$D$601,"Deciduous Conifer")) > 0, _xlfn.IFS($K14="Small",0.5,$K14="Small/Medium",1,$K14="Medium/Large",1.4,$K14="Large",1.8), (COUNTIFS('Tree List'!$C$3:$C$601,$C14,'Tree List'!$D$3:$D$601,"Deciduous") + COUNTIFS('Tree List'!$C$3:$C$601,$C14,'Tree List'!$D$3:$D$601,"Broadleaf Evergreen")) > 0, _xlfn.IFS($K14="Small",0.4,$K14="Small/Medium",0.8,$K14="Medium/Large",1.2,$K14="Large",1.6) ), "" ), "")} | M14: =IFERROR($D14*$L14,"") | N14: {=_xlfn.LET( _xlpm.r,ROW(), _xlpm.blockIndex,INT((_xlpm.r-11)/4), _xlpm.baseRow,MOD(_xlpm.r-11,4)=0, _xlpm.baseStart,_xlpm.blockIndex*4+11, _xlpm.baseEnd,_xlpm.baseStart+3, _xlpm.HRange,INDEX($H:$H,_xlpm.baseStart):INDEX($H:$H,_xlpm.baseEnd), _xlpm.hasDM,ISNUMBER(SEARCH("DM",$I$2)), _xlpm.hasCN,ISNUMBER(SEARCH("CN",$I$2)), _xlpm.hasPH,ISNUMBER(SEARCH("PH",$I$2)), _xlpm.hasGR,ISNUMBER(SEARCH("GR",$I$2)), _xlpm.ECA_H,COUNTIF(_xlpm.HRange,"Environmental Critical Area (ECA)"), _xlpm.Shore_H,COUNTIF(_xlpm.HRange,"Shoreline"), _xlpm.TreePoints_H,COUNTIF(_xlpm.HRange,"Zoning: Tree Points"), _xlpm.GF_H,COUNTIF(_xlpm.HRange,"Zoning: Green Factor"), _xlpm.ECA_Short,COUNTIF(_xlpm.HRange,"Environmental Critical Area / Shoreline"), _xlpm.uniqueH,COUNTA(_xlfn.UNIQUE(_xlfn._xlws.FILTER(_xlpm.HRange,_xlpm.HRange<>""))), IFERROR( IF(AND(_xlpm.baseRow,ISNA(MATCH($C14,'Tree List'!$C$3:$C$601,0)),SUMPRODUCT(--ISNUMBER(SEARCH(Tables2!$C$677:$C$772,$O14)))>0), Error!$B$57, IF(AND(_xlpm.hasDM,$F14="Remove",$H14<>"",OR($I14="On-site replacement",$I14="Off-site replacement",$I14="Payment In Lieu")), Error!$B$56, IF(AND(_xlpm.hasDM,$F14="Remove",$H14<>"",$I14="Relocation"), Error!$B$66, IF(AND(OR(_xlpm.hasCN,_xlpm.hasPH,_xlpm.hasGR),$H14<>"",COUNTIF(Tables!$B$132:$B$134,$H14)>0,$I14="N/A (No replacement required)"), Error!$B$62, IF(AND(_xlpm.baseRow,$E14<>"",ISNA(MATCH($E14,Tables!$B$225:$B$232,0))), Error!$B$2, IF(AND(_xlpm.baseRow,$F14<>"",ISNA(MATCH($F14,Tables!$B$234:$B$235,0))), Error!$B$24, IF(AND(_xlpm.baseRow,_xlpm.ECA_H>0,_xlpm.Shore_H>0), Error!$B$16, IF(AND(_xlpm.baseRow,$E14<>"",$D14=""), Error!$B$3, IF(AND(_xlpm.baseRow,OR($E14="Tier 3",$E14="Tier 4"),$C14<>"",$D14>=24,COUNTIF(Tables2!$B$166:$B$674,$C14)>0), Error!$B$44, IF(AND(_xlpm.baseRow,OR($E14="Tier 3",$E14="Tier 4"),$C14<>"",$D14<>"",COUNTIF(Tables2!$B$73:$B$152,$C14)>0, $D14>=IFERROR(INDEX(Tables2!$C$73:$C$152,MATCH($C14,Tables2!$B$73:$B$152,0)),-1)), Error!$B$44, IF(AND(_xlpm.baseRow,OR($E14="Tier 2",$E14="Tier 2 Grove"),$C14<>"",$D14>=12,COUNTIF(Tables2!$B$153:$B$162,$C14)>0), Error!$B$45, IF(AND(_xlpm.baseRow,$E14="Tier 2 Grove",$D14<12), Error!$B$41, IF(AND(_xlpm.baseRow,$E14="Tier 2",$D14<5.88), Error!$B$40, IF(AND(_xlpm.baseRow,OR($E14="Tier 2",$E14="Tier 2 Grove"),$C14<>"",$D14<12,$D14>=6,COUNTIF(Tables2!$B$153:$B$162,$C14)>0), Error!$B$54, IF(AND(_xlpm.baseRow,$E14="Tier 2",COUNTIF(Tables2!$B$166:$B$674,$C14)>0,$D14<24), Error!$B$54, IF(AND(_xlpm.baseRow,$E14="Tier 3",ISNA(MATCH($C14,Tables2!$B$153:$B$162,0)),OR($D14<12,$D14>=24)), Error!$B$9, IF(AND(_xlpm.baseRow,$E14="Tier 3",COUNTIF(Tables2!$B$153:$B$162,$C14)>0,$D14<12), Error!$B$46, IF(AND(_xlpm.baseRow,$E14="Tier 4",OR($D14<6,$D14>=12)), Error!$B$10, IF(AND(_xlpm.baseRow,$E14="<6in DSH for Tree Points",OR($D14>=6,$D14="")), Error!$B$8, IF(AND(_xlpm.baseRow,$E14="Street Tree for Green Factor",$F14<>"",$F14<>"Retain"), Error!$B$14, IF(AND($E14="<6in DSH for Tree Points",$F14="Retain",$H14<>"",ISNA(MATCH($H14,Tables!$B$174:$B$174,0))), Error!$B$15, IF(AND($E14="Street Tree for Green Factor",$F14="Retain",$H14<>"",$H14<>"Zoning: Green Factor"), Error!$B$15, IF(AND($E14="ECA / Shoreline Tree",$F14="Remove",$H14<>"",ISNA(MATCH($H14,Tables!$B$189:$B$190,0))), Error!$B$15, IF(AND($E14="ECA / Shoreline Tree",$F14="Retain",$H14<>"",ISNA(MATCH($H14,Tables!$B$184:$B$186,0))), Error!$B$15, IF(AND($E14="Tier 4",$F14="Remove",$H14<>"",ISNA(MATCH($H14,Tables!$B$171,0))), Error!$B$15, IF(AND($E14="Tier 4",$F14="Retain",$H14<>"",ISNA(MATCH($H14,Tables!$B$166:$B$168,0))), Error!$B$15, IF(AND($E14="Tier 3",$F14="Retain",$H14<>"",ISNA(MATCH($H14,Tables!$B$158:$B$160,0))), Error!$B$15, IF(AND($E14="Tier 3",$F14="Remove",$H14<>"",ISNA(MATCH($H14,Tables!$B$163,0))), Error!$B$15, IF(AND(OR($E14="Tier 2",$E14="Tier 2 Grove"),$F14="Remove",$H14<>"",ISNA(MATCH($H14,Tables!$B$153:$B$155,0))), Error!$B$15, IF(AND(OR($E14="Tier 2",$E14="Tier 2 Grove"),$F14="Retain",$H14<>"",ISNA(MATCH($H14,Tables!$B$147:$B$150,0))), Error!$B$15, IF(AND($E14="Tier 1",$F14="Remove",$H14<>"",ISNA(MATCH($H14,Tables!$B$143:$B$144,0))), Error!$B$15, IF(AND($E14="Tier 1",$F14="Retain",$H14<>"",ISNA(MATCH($H14,Tables!$B$137:$B$140,0))), Error!$B$15, IF(AND($E14<>"Tier 2",$E14<>"Tier 2 Grove",$E14<>"Tier 3",$E14<>"Tier 4",$H14="Zoning: Green Factor",OR($D14="",$D14<6)), Error!$B$11, IF(AND(_xlpm.baseRow,$D14<6,$E14="<6in DSH for Tree Points",_xlpm.TreePoints_H=0), Error!$B$21, IF(AND(_xlpm.baseRow,$E14<>"",$D14<>"",$F14=""), Error!$B$4, IF(AND(_xlpm.baseRow,$F14="Remove",OR($E14="Tier 1",$E14="Tier 2",$E14="Tier 2 Grove"),COUNTBLANK(_xlpm.HRange)<3,_xlpm.uniqueH>=2), Error!$B$48, IF(AND(_xlpm.baseRow,$F14="Retain",OR($E14="Tier 1",$E14="Tier 2",$E14="Tier 2 Grove"),COUNTIF(_xlpm.HRange,"Tree Code: Required to Retain Tier 1-2 Tree")=0), Error!$B$47, IF(AND(_xlpm.baseRow,$E14<>"",$D14<>"",$F14<>"",COUNTBLANK(_xlpm.HRange)=4), Error!$B$5, IF(AND($F14="Remove",$H14<>"",$I14=""), Error!$B$18, IF(AND($E14="Tier 4",$F14="Remove",$H14="Tree Protection Code: Tier 3 or Tier 4 Allowance",$H14<>"",ISNA(MATCH($I14,Tables!$B$200,0))), Error!$B$17, IF(AND($E14="Tier 3",$F14="Remove",$H14<>"",$H14="Tree Protection Code: Tier 3 or Tier 4 Allowance",OR($I14="",ISNA(MATCH($I14,Tables!$B$193:$B$197,0)))), Error!$B$17, IF(AND(OR($E14="Tier 2",$E14="Tier 2 Grove"),$F14="Remove",$H14="Tree Protection Code: Other removal allowance or exemption",$I14<>"",ISNA(MATCH($I14,Tables!$B$215:$B$218,0))), Error!$B$17, IF(AND(OR($E14="Tier 2",$E14="Tier 2 Grove"),$F14="Remove",$H14="Tree Protection Code: Development Capacity",$I14<>"",ISNA(MATCH($I14,Tables!$B$193:$B$197,0))), Error!$B$17, IF(AND(OR($E14="Tier 2",$E14="Tier 2 Grove"),$F14="Remove",$H14="Tree Protection Code: Necessary for Construction",$I14<>"",ISNA(MATCH($I14,Tables!$B$193:$B$197,0))), Error!$B$17, IF(AND($E14="Tier 1",$F14="Remove",$H14="Tree Protection Code: Special Exception",$I14<>"",ISNA(MATCH($I14,Tables!$B$215:$B$218,0))), Error!$B$17, IF(AND($E14="Tier 1",$F14="Remove",$H14="Tree Protection Code: Other removal allowance or exemption",$I14<>"",ISNA(MATCH($I14,Tables!$B$215:$B$218,0))), Error!$B$17, IF(AND($E14="ECA / Shoreline Tree",$F14="Remove",$H14<>"",OR($H14="Shoreline",$H14="Environmental Critical Area (ECA)"),ISNA(MATCH($I14,Tables!$B$209:$B$212,0))), Error!$B$17, IF(AND(_xlpm.baseRow,$F14="Retain",$E14="ECA / Shoreline Tree",_xlpm.ECA_Short=0), Error!$B$61, IF(AND($F14="Remove",ISNUMBER(MATCH($E14,{"Tier 1","Tier 2","Tier 3","Tier 4","Tier 2 Grove"},0)),ISNUMBER(MATCH($I14,{"On-site replacement","Off-site replacement"},0)),$J14="",$H14<>""), Error!$B$19, IF(AND(_xlpm.baseRow,$E14<>"",$D14<>"",$F14<>"",COUNTBLANK($B14:$C14)>0,COUNTBLANK(_xlpm.HRange)<>4), Error!$B$22, IF(AND($H14="Zoning: Tree Points",$K14<>"",ISNA(MATCH($K14,Tables!$B$242:$B$253,0))), Error!$B$58, IF(AND($H14="Zoning: Tree Points",$K14="Small",$L14<>"",ISNA(MATCH($L14,Tables!$C$243:$C$244,0))), Error!$B$59, IF(AND($H14="Zoning: Tree Points",$K14="Small/Medium",$L14<>"",ISNA(MATCH($L14,Tables!$C$246:$C$247,0))), Error!$B$59, IF(AND($H14="Zoning: Tree Points",$K14="Medium/Large",$L14<>"",ISNA(MATCH($L14,Tables!$C$249:$C$250,0))), Error!$B$59, IF(AND($H14="Zoning: Tree Points",$K14="Large",$L14<>"",ISNA(MATCH($L14,Tables!$C$252:$C$253,0))), Error!$B$59, IF(AND($F14="Retain",$H14="Zoning: Tree Points",$C14<>"",$D14<>"",OR($K14="",$L14="",$M14="")), Error!$B$20, "" )))))))))))))))))))))))))))))))))))))))))))))))))))))))), Error!$B$23))} | O14: {=IFERROR(_xlfn.LET( _xlpm.txt, $C14, _xlpm.chars, MID(_xlpm.txt, ROW(INDIRECT("1:" & LEN(_xlpm.txt))), 1), _xlpm.validChars, "0123456789ABCDEFGHIJKLMNOPQRSTUVWXYZabcdefghijklmnopqrstuvwxyz", _xlpm.isValid, ISNUMBER(MATCH(_xlpm.chars, MID(_xlpm.validChars, ROW(INDIRECT("1:" & LEN(_xlpm.validChars))), 1), 0)), _xlfn.TEXTJOIN("", TRUE, IF(_xlpm.isValid, _xlpm.chars, "")) ),"")}
A15: 2 | G15: =IF(Tree_Table1[[#This Row],[Tree Status &]]="Retain", Tables!$B$237, IF(Tree_Table1[[#This Row],[Tree Status &]]="Remove", Tables!$B$238, "")) | K15: =IFERROR( IF( AND($H15="Zoning: Tree Points", NOT(ISNUMBER(SEARCH("sp.", $C15)))), VLOOKUP($C15, 'Tree List'!$C$3:$F$601, 4, FALSE), "" ), "") | L15: {=IFERROR( IF( AND($H15="Zoning: Tree Points", NOT(ISNUMBER(SEARCH("sp.", $C15)))), _xlfn.IFS( (COUNTIFS('Tree List'!$C$3:$C$601,$C15,'Tree List'!$D$3:$D$601,"Coniferous") + COUNTIFS('Tree List'!$C$3:$C$601,$C15,'Tree List'!$D$3:$D$601,"Deciduous Conifer")) > 0, _xlfn.IFS($K15="Small",0.5,$K15="Small/Medium",1,$K15="Medium/Large",1.4,$K15="Large",1.8), (COUNTIFS('Tree List'!$C$3:$C$601,$C15,'Tree List'!$D$3:$D$601,"Deciduous") + COUNTIFS('Tree List'!$C$3:$C$601,$C15,'Tree List'!$D$3:$D$601,"Broadleaf Evergreen")) > 0, _xlfn.IFS($K15="Small",0.4,$K15="Small/Medium",0.8,$K15="Medium/Large",1.2,$K15="Large",1.6) ), "" ), "")} | M15: =IFERROR($D15*$L15,"") | N15: {=_xlfn.LET( _xlpm.r,ROW(), _xlpm.blockIndex,INT((_xlpm.r-11)/4), _xlpm.baseRow,MOD(_xlpm.r-11,4)=0, _xlpm.baseStart,_xlpm.blockIndex*4+11, _xlpm.baseEnd,_xlpm.baseStart+3, _xlpm.HRange,INDEX($H:$H,_xlpm.baseStart):INDEX($H:$H,_xlpm.baseEnd), _xlpm.hasDM,ISNUMBER(SEARCH("DM",$I$2)), _xlpm.hasCN,ISNUMBER(SEARCH("CN",$I$2)), _xlpm.hasPH,ISNUMBER(SEARCH("PH",$I$2)), _xlpm.hasGR,ISNUMBER(SEARCH("GR",$I$2)), _xlpm.ECA_H,COUNTIF(_xlpm.HRange,"Environmental Critical Area (ECA)"), _xlpm.Shore_H,COUNTIF(_xlpm.HRange,"Shoreline"), _xlpm.TreePoints_H,COUNTIF(_xlpm.HRange,"Zoning: Tree Points"), _xlpm.GF_H,COUNTIF(_xlpm.HRange,"Zoning: Green Factor"), _xlpm.ECA_Short,COUNTIF(_xlpm.HRange,"Environmental Critical Area / Shoreline"), _xlpm.uniqueH,COUNTA(_xlfn.UNIQUE(_xlfn._xlws.FILTER(_xlpm.HRange,_xlpm.HRange<>""))), IFERROR( IF(AND(_xlpm.baseRow,ISNA(MATCH($C15,'Tree List'!$C$3:$C$601,0)),SUMPRODUCT(--ISNUMBER(SEARCH(Tables2!$C$677:$C$772,$O15)))>0), Error!$B$57, IF(AND(_xlpm.hasDM,$F15="Remove",$H15<>"",OR($I15="On-site replacement",$I15="Off-site replacement",$I15="Payment In Lieu")), Error!$B$56, IF(AND(_xlpm.hasDM,$F15="Remove",$H15<>"",$I15="Relocation"), Error!$B$66, IF(AND(OR(_xlpm.hasCN,_xlpm.hasPH,_xlpm.hasGR),$H15<>"",COUNTIF(Tables!$B$132:$B$134,$H15)>0,$I15="N/A (No replacement required)"), Error!$B$62, IF(AND(_xlpm.baseRow,$E15<>"",ISNA(MATCH($E15,Tables!$B$225:$B$232,0))), Error!$B$2, IF(AND(_xlpm.baseRow,$F15<>"",ISNA(MATCH($F15,Tables!$B$234:$B$235,0))), Error!$B$24, IF(AND(_xlpm.baseRow,_xlpm.ECA_H>0,_xlpm.Shore_H>0), Error!$B$16, IF(AND(_xlpm.baseRow,$E15<>"",$D15=""), Error!$B$3, IF(AND(_xlpm.baseRow,OR($E15="Tier 3",$E15="Tier 4"),$C15<>"",$D15>=24,COUNTIF(Tables2!$B$166:$B$674,$C15)>0), Error!$B$44, IF(AND(_xlpm.baseRow,OR($E15="Tier 3",$E15="Tier 4"),$C15<>"",$D15<>"",COUNTIF(Tables2!$B$73:$B$152,$C15)>0, $D15>=IFERROR(INDEX(Tables2!$C$73:$C$152,MATCH($C15,Tables2!$B$73:$B$152,0)),-1)), Error!$B$44, IF(AND(_xlpm.baseRow,OR($E15="Tier 2",$E15="Tier 2 Grove"),$C15<>"",$D15>=12,COUNTIF(Tables2!$B$153:$B$162,$C15)>0), Error!$B$45, IF(AND(_xlpm.baseRow,$E15="Tier 2 Grove",$D15<12), Error!$B$41, IF(AND(_xlpm.baseRow,$E15="Tier 2",$D15<5.88), Error!$B$40, IF(AND(_xlpm.baseRow,OR($E15="Tier 2",$E15="Tier 2 Grove"),$C15<>"",$D15<12,$D15>=6,COUNTIF(Tables2!$B$153:$B$162,$C15)>0), Error!$B$54, IF(AND(_xlpm.baseRow,$E15="Tier 2",COUNTIF(Tables2!$B$166:$B$674,$C15)>0,$D15<24), Error!$B$54, IF(AND(_xlpm.baseRow,$E15="Tier 3",ISNA(MATCH($C15,Tables2!$B$153:$B$162,0)),OR($D15<12,$D15>=24)), Error!$B$9, IF(AND(_xlpm.baseRow,$E15="Tier 3",COUNTIF(Tables2!$B$153:$B$162,$C15)>0,$D15<12), Error!$B$46, IF(AND(_xlpm.baseRow,$E15="Tier 4",OR($D15<6,$D15>=12)), Error!$B$10, IF(AND(_xlpm.baseRow,$E15="<6in DSH for Tree Points",OR($D15>=6,$D15="")), Error!$B$8, IF(AND(_xlpm.baseRow,$E15="Street Tree for Green Factor",$F15<>"",$F15<>"Retain"), Error!$B$14, IF(AND($E15="<6in DSH for Tree Points",$F15="Retain",$H15<>"",ISNA(MATCH($H15,Tables!$B$174:$B$174,0))), Error!$B$15, IF(AND($E15="Street Tree for Green Factor",$F15="Retain",$H15<>"",$H15<>"Zoning: Green Factor"), Error!$B$15, IF(AND($E15="ECA / Shoreline Tree",$F15="Remove",$H15<>"",ISNA(MATCH($H15,Tables!$B$189:$B$190,0))), Error!$B$15, IF(AND($E15="ECA / Shoreline Tree",$F15="Retain",$H15<>"",ISNA(MATCH($H15,Tables!$B$184:$B$186,0))), Error!$B$15, IF(AND($E15="Tier 4",$F15="Remove",$H15<>"",ISNA(MATCH($H15,Tables!$B$171,0))), Error!$B$15, IF(AND($E15="Tier 4",$F15="Retain",$H15<>"",ISNA(MATCH($H15,Tables!$B$166:$B$168,0))), Error!$B$15, IF(AND($E15="Tier 3",$F15="Retain",$H15<>"",ISNA(MATCH($H15,Tables!$B$158:$B$160,0))), Error!$B$15, IF(AND($E15="Tier 3",$F15="Remove",$H15<>"",ISNA(MATCH($H15,Tables!$B$163,0))), Error!$B$15, IF(AND(OR($E15="Tier 2",$E15="Tier 2 Grove"),$F15="Remove",$H15<>"",ISNA(MATCH($H15,Tables!$B$153:$B$155,0))), Error!$B$15, IF(AND(OR($E15="Tier 2",$E15="Tier 2 Grove"),$F15="Retain",$H15<>"",ISNA(MATCH($H15,Tables!$B$147:$B$150,0))), Error!$B$15, IF(AND($E15="Tier 1",$F15="Remove",$H15<>"",ISNA(MATCH($H15,Tables!$B$143:$B$144,0))), Error!$B$15, IF(AND($E15="Tier 1",$F15="Retain",$H15<>"",ISNA(MATCH($H15,Tables!$B$137:$B$140,0))), Error!$B$15, IF(AND($E15<>"Tier 2",$E15<>"Tier 2 Grove",$E15<>"Tier 3",$E15<>"Tier 4",$H15="Zoning: Green Factor",OR($D15="",$D15<6)), Error!$B$11, IF(AND(_xlpm.baseRow,$D15<6,$E15="<6in DSH for Tree Points",_xlpm.TreePoints_H=0), Error!$B$21, IF(AND(_xlpm.baseRow,$E15<>"",$D15<>"",$F15=""), Error!$B$4, IF(AND(_xlpm.baseRow,$F15="Remove",OR($E15="Tier 1",$E15="Tier 2",$E15="Tier 2 Grove"),COUNTBLANK(_xlpm.HRange)<3,_xlpm.uniqueH>=2), Error!$B$48, IF(AND(_xlpm.baseRow,$F15="Retain",OR($E15="Tier 1",$E15="Tier 2",$E15="Tier 2 Grove"),COUNTIF(_xlpm.HRange,"Tree Code: Required to Retain Tier 1-2 Tree")=0), Error!$B$47, IF(AND(_xlpm.baseRow,$E15<>"",$D15<>"",$F15<>"",COUNTBLANK(_xlpm.HRange)=4), Error!$B$5, IF(AND($F15="Remove",$H15<>"",$I15=""), Error!$B$18, IF(AND($E15="Tier 4",$F15="Remove",$H15="Tree Protection Code: Tier 3 or Tier 4 Allowance",$H15<>"",ISNA(MATCH($I15,Tables!$B$200,0))), Error!$B$17, IF(AND($E15="Tier 3",$F15="Remove",$H15<>"",$H15="Tree Protection Code: Tier 3 or Tier 4 Allowance",OR($I15="",ISNA(MATCH($I15,Tables!$B$193:$B$197,0)))), Error!$B$17, IF(AND(OR($E15="Tier 2",$E15="Tier 2 Grove"),$F15="Remove",$H15="Tree Protection Code: Other removal allowance or exemption",$I15<>"",ISNA(MATCH($I15,Tables!$B$215:$B$218,0))), Error!$B$17, IF(AND(OR($E15="Tier 2",$E15="Tier 2 Grove"),$F15="Remove",$H15="Tree Protection Code: Development Capacity",$I15<>"",ISNA(MATCH($I15,Tables!$B$193:$B$197,0))), Error!$B$17, IF(AND(OR($E15="Tier 2",$E15="Tier 2 Grove"),$F15="Remove",$H15="Tree Protection Code: Necessary for Construction",$I15<>"",ISNA(MATCH($I15,Tables!$B$193:$B$197,0))), Error!$B$17, IF(AND($E15="Tier 1",$F15="Remove",$H15="Tree Protection Code: Special Exception",$I15<>"",ISNA(MATCH($I15,Tables!$B$215:$B$218,0))), Error!$B$17, IF(AND($E15="Tier 1",$F15="Remove",$H15="Tree Protection Code: Other removal allowance or exemption",$I15<>"",ISNA(MATCH($I15,Tables!$B$215:$B$218,0))), Error!$B$17, IF(AND($E15="ECA / Shoreline Tree",$F15="Remove",$H15<>"",OR($H15="Shoreline",$H15="Environmental Critical Area (ECA)"),ISNA(MATCH($I15,Tables!$B$209:$B$212,0))), Error!$B$17, IF(AND(_xlpm.baseRow,$F15="Retain",$E15="ECA / Shoreline Tree",_xlpm.ECA_Short=0), Error!$B$61, IF(AND($F15="Remove",ISNUMBER(MATCH($E15,{"Tier 1","Tier 2","Tier 3","Tier 4","Tier 2 Grove"},0)),ISNUMBER(MATCH($I15,{"On-site replacement","Off-site replacement"},0)),$J15="",$H15<>""), Error!$B$19, IF(AND(_xlpm.baseRow,$E15<>"",$D15<>"",$F15<>"",COUNTBLANK($B15:$C15)>0,COUNTBLANK(_xlpm.HRange)<>4), Error!$B$22, IF(AND($H15="Zoning: Tree Points",$K15<>"",ISNA(MATCH($K15,Tables!$B$242:$B$253,0))), Error!$B$58, IF(AND($H15="Zoning: Tree Points",$K15="Small",$L15<>"",ISNA(MATCH($L15,Tables!$C$243:$C$244,0))), Error!$B$59, IF(AND($H15="Zoning: Tree Points",$K15="Small/Medium",$L15<>"",ISNA(MATCH($L15,Tables!$C$246:$C$247,0))), Error!$B$59, IF(AND($H15="Zoning: Tree Points",$K15="Medium/Large",$L15<>"",ISNA(MATCH($L15,Tables!$C$249:$C$250,0))), Error!$B$59, IF(AND($H15="Zoning: Tree Points",$K15="Large",$L15<>"",ISNA(MATCH($L15,Tables!$C$252:$C$253,0))), Error!$B$59, IF(AND($F15="Retain",$H15="Zoning: Tree Points",$C15<>"",$D15<>"",OR($K15="",$L15="",$M15="")), Error!$B$20, "" )))))))))))))))))))))))))))))))))))))))))))))))))))))))), Error!$B$23))} | O15: {=IFERROR(_xlfn.LET( _xlpm.txt, $C15, _xlpm.chars, MID(_xlpm.txt, ROW(INDIRECT("1:" & LEN(_xlpm.txt))), 1), _xlpm.validChars, "0123456789ABCDEFGHIJKLMNOPQRSTUVWXYZabcdefghijklmnopqrstuvwxyz", _xlpm.isValid, ISNUMBER(MATCH(_xlpm.chars, MID(_xlpm.validChars, ROW(INDIRECT("1:" & LEN(_xlpm.validChars))), 1), 0)), _xlfn.TEXTJOIN("", TRUE, IF(_xlpm.isValid, _xlpm.chars, "")) ),"")}
B16: =IF($B15="", "", $B15) | C16: =IF($C15="", "", $C15) | D16: =IF($D15="", "", $D15) | E16: =IF($E15="", "", $E15) | F16: =IF($F15="", "", $F15) | G16: =IF(Tree_Table1[[#This Row],[Tree Status &]]="Retain", Tables!$B$237, IF(Tree_Table1[[#This Row],[Tree Status &]]="Remove", Tables!$B$238, "")) | K16: =IFERROR( IF( AND($H16="Zoning: Tree Points", NOT(ISNUMBER(SEARCH("sp.", $C16)))), VLOOKUP($C16, 'Tree List'!$C$3:$F$601, 4, FALSE), "" ), "") | L16: {=IFERROR( IF( AND($H16="Zoning: Tree Points", NOT(ISNUMBER(SEARCH("sp.", $C16)))), _xlfn.IFS( (COUNTIFS('Tree List'!$C$3:$C$601,$C16,'Tree List'!$D$3:$D$601,"Coniferous") + COUNTIFS('Tree List'!$C$3:$C$601,$C16,'Tree List'!$D$3:$D$601,"Deciduous Conifer")) > 0, _xlfn.IFS($K16="Small",0.5,$K16="Small/Medium",1,$K16="Medium/Large",1.4,$K16="Large",1.8), (COUNTIFS('Tree List'!$C$3:$C$601,$C16,'Tree List'!$D$3:$D$601,"Deciduous") + COUNTIFS('Tree List'!$C$3:$C$601,$C16,'Tree List'!$D$3:$D$601,"Broadleaf Evergreen")) > 0, _xlfn.IFS($K16="Small",0.4,$K16="Small/Medium",0.8,$K16="Medium/Large",1.2,$K16="Large",1.6) ), "" ), "")} | M16: =IFERROR($D16*$L16,"") | N16: {=_xlfn.LET( _xlpm.r,ROW(), _xlpm.blockIndex,INT((_xlpm.r-11)/4), _xlpm.baseRow,MOD(_xlpm.r-11,4)=0, _xlpm.baseStart,_xlpm.blockIndex*4+11, _xlpm.baseEnd,_xlpm.baseStart+3, _xlpm.HRange,INDEX($H:$H,_xlpm.baseStart):INDEX($H:$H,_xlpm.baseEnd), _xlpm.hasDM,ISNUMBER(SEARCH("DM",$I$2)), _xlpm.hasCN,ISNUMBER(SEARCH("CN",$I$2)), _xlpm.hasPH,ISNUMBER(SEARCH("PH",$I$2)), _xlpm.hasGR,ISNUMBER(SEARCH("GR",$I$2)), _xlpm.ECA_H,COUNTIF(_xlpm.HRange,"Environmental Critical Area (ECA)"), _xlpm.Shore_H,COUNTIF(_xlpm.HRange,"Shoreline"), _xlpm.TreePoints_H,COUNTIF(_xlpm.HRange,"Zoning: Tree Points"), _xlpm.GF_H,COUNTIF(_xlpm.HRange,"Zoning: Green Factor"), _xlpm.ECA_Short,COUNTIF(_xlpm.HRange,"Environmental Critical Area / Shoreline"), _xlpm.uniqueH,COUNTA(_xlfn.UNIQUE(_xlfn._xlws.FILTER(_xlpm.HRange,_xlpm.HRange<>""))), IFERROR( IF(AND(_xlpm.baseRow,ISNA(MATCH($C16,'Tree List'!$C$3:$C$601,0)),SUMPRODUCT(--ISNUMBER(SEARCH(Tables2!$C$677:$C$772,$O16)))>0), Error!$B$57, IF(AND(_xlpm.hasDM,$F16="Remove",$H16<>"",OR($I16="On-site replacement",$I16="Off-site replacement",$I16="Payment In Lieu")), Error!$B$56, IF(AND(_xlpm.hasDM,$F16="Remove",$H16<>"",$I16="Relocation"), Error!$B$66, IF(AND(OR(_xlpm.hasCN,_xlpm.hasPH,_xlpm.hasGR),$H16<>"",COUNTIF(Tables!$B$132:$B$134,$H16)>0,$I16="N/A (No replacement required)"), Error!$B$62, IF(AND(_xlpm.baseRow,$E16<>"",ISNA(MATCH($E16,Tables!$B$225:$B$232,0))), Error!$B$2, IF(AND(_xlpm.baseRow,$F16<>"",ISNA(MATCH($F16,Tables!$B$234:$B$235,0))), Error!$B$24, IF(AND(_xlpm.baseRow,_xlpm.ECA_H>0,_xlpm.Shore_H>0), Error!$B$16, IF(AND(_xlpm.baseRow,$E16<>"",$D16=""), Error!$B$3, IF(AND(_xlpm.baseRow,OR($E16="Tier 3",$E16="Tier 4"),$C16<>"",$D16>=24,COUNTIF(Tables2!$B$166:$B$674,$C16)>0), Error!$B$44, IF(AND(_xlpm.baseRow,OR($E16="Tier 3",$E16="Tier 4"),$C16<>"",$D16<>"",COUNTIF(Tables2!$B$73:$B$152,$C16)>0, $D16>=IFERROR(INDEX(Tables2!$C$73:$C$152,MATCH($C16,Tables2!$B$73:$B$152,0)),-1)), Error!$B$44, IF(AND(_xlpm.baseRow,OR($E16="Tier 2",$E16="Tier 2 Grove"),$C16<>"",$D16>=12,COUNTIF(Tables2!$B$153:$B$162,$C16)>0), Error!$B$45, IF(AND(_xlpm.baseRow,$E16="Tier 2 Grove",$D16<12), Error!$B$41, IF(AND(_xlpm.baseRow,$E16="Tier 2",$D16<5.88), Error!$B$40, IF(AND(_xlpm.baseRow,OR($E16="Tier 2",$E16="Tier 2 Grove"),$C16<>"",$D16<12,$D16>=6,COUNTIF(Tables2!$B$153:$B$162,$C16)>0), Error!$B$54, IF(AND(_xlpm.baseRow,$E16="Tier 2",COUNTIF(Tables2!$B$166:$B$674,$C16)>0,$D16<24), Error!$B$54, IF(AND(_xlpm.baseRow,$E16="Tier 3",ISNA(MATCH($C16,Tables2!$B$153:$B$162,0)),OR($D16<12,$D16>=24)), Error!$B$9, IF(AND(_xlpm.baseRow,$E16="Tier 3",COUNTIF(Tables2!$B$153:$B$162,$C16)>0,$D16<12), Error!$B$46, IF(AND(_xlpm.baseRow,$E16="Tier 4",OR($D16<6,$D16>=12)), Error!$B$10, IF(AND(_xlpm.baseRow,$E16="<6in DSH for Tree Points",OR($D16>=6,$D16="")), Error!$B$8, IF(AND(_xlpm.baseRow,$E16="Street Tree for Green Factor",$F16<>"",$F16<>"Retain"), Error!$B$14, IF(AND($E16="<6in DSH for Tree Points",$F16="Retain",$H16<>"",ISNA(MATCH($H16,Tables!$B$174:$B$174,0))), Error!$B$15, IF(AND($E16="Street Tree for Green Factor",$F16="Retain",$H16<>"",$H16<>"Zoning: Green Factor"), Error!$B$15, IF(AND($E16="ECA / Shoreline Tree",$F16="Remove",$H16<>"",ISNA(MATCH($H16,Tables!$B$189:$B$190,0))), Error!$B$15, IF(AND($E16="ECA / Shoreline Tree",$F16="Retain",$H16<>"",ISNA(MATCH($H16,Tables!$B$184:$B$186,0))), Error!$B$15, IF(AND($E16="Tier 4",$F16="Remove",$H16<>"",ISNA(MATCH($H16,Tables!$B$171,0))), Error!$B$15, IF(AND($E16="Tier 4",$F16="Retain",$H16<>"",ISNA(MATCH($H16,Tables!$B$166:$B$168,0))), Error!$B$15, IF(AND($E16="Tier 3",$F16="Retain",$H16<>"",ISNA(MATCH($H16,Tables!$B$158:$B$160,0))), Error!$B$15, IF(AND($E16="Tier 3",$F16="Remove",$H16<>"",ISNA(MATCH($H16,Tables!$B$163,0))), Error!$B$15, IF(AND(OR($E16="Tier 2",$E16="Tier 2 Grove"),$F16="Remove",$H16<>"",ISNA(MATCH($H16,Tables!$B$153:$B$155,0))), Error!$B$15, IF(AND(OR($E16="Tier 2",$E16="Tier 2 Grove"),$F16="Retain",$H16<>"",ISNA(MATCH($H16,Tables!$B$147:$B$150,0))), Error!$B$15, IF(AND($E16="Tier 1",$F16="Remove",$H16<>"",ISNA(MATCH($H16,Tables!$B$143:$B$144,0))), Error!$B$15, IF(AND($E16="Tier 1",$F16="Retain",$H16<>"",ISNA(MATCH($H16,Tables!$B$137:$B$140,0))), Error!$B$15, IF(AND($E16<>"Tier 2",$E16<>"Tier 2 Grove",$E16<>"Tier 3",$E16<>"Tier 4",$H16="Zoning: Green Factor",OR($D16="",$D16<6)), Error!$B$11, IF(AND(_xlpm.baseRow,$D16<6,$E16="<6in DSH for Tree Points",_xlpm.TreePoints_H=0), Error!$B$21, IF(AND(_xlpm.baseRow,$E16<>"",$D16<>"",$F16=""), Error!$B$4, IF(AND(_xlpm.baseRow,$F16="Remove",OR($E16="Tier 1",$E16="Tier 2",$E16="Tier 2 Grove"),COUNTBLANK(_xlpm.HRange)<3,_xlpm.uniqueH>=2), Error!$B$48, IF(AND(_xlpm.baseRow,$F16="Retain",OR($E16="Tier 1",$E16="Tier 2",$E16="Tier 2 Grove"),COUNTIF(_xlpm.HRange,"Tree Code: Required to Retain Tier 1-2 Tree")=0), Error!$B$47, IF(AND(_xlpm.baseRow,$E16<>"",$D16<>"",$F16<>"",COUNTBLANK(_xlpm.HRange)=4), Error!$B$5, IF(AND($F16="Remove",$H16<>"",$I16=""), Error!$B$18, IF(AND($E16="Tier 4",$F16="Remove",$H16="Tree Protection Code: Tier 3 or Tier 4 Allowance",$H16<>"",ISNA(MATCH($I16,Tables!$B$200,0))), Error!$B$17, IF(AND($E16="Tier 3",$F16="Remove",$H16<>"",$H16="Tree Protection Code: Tier 3 or Tier 4 Allowance",OR($I16="",ISNA(MATCH($I16,Tables!$B$193:$B$197,0)))), Error!$B$17, IF(AND(OR($E16="Tier 2",$E16="Tier 2 Grove"),$F16="Remove",$H16="Tree Protection Code: Other removal allowance or exemption",$I16<>"",ISNA(MATCH($I16,Tables!$B$215:$B$218,0))), Error!$B$17, IF(AND(OR($E16="Tier 2",$E16="Tier 2 Grove"),$F16="Remove",$H16="Tree Protection Code: Development Capacity",$I16<>"",ISNA(MATCH($I16,Tables!$B$193:$B$197,0))), Error!$B$17, IF(AND(OR($E16="Tier 2",$E16="Tier 2 Grove"),$F16="Remove",$H16="Tree Protection Code: Necessary for Construction",$I16<>"",ISNA(MATCH($I16,Tables!$B$193:$B$197,0))), Error!$B$17, IF(AND($E16="Tier 1",$F16="Remove",$H16="Tree Protection Code: Special Exception",$I16<>"",ISNA(MATCH($I16,Tables!$B$215:$B$218,0))), Error!$B$17, IF(AND($E16="Tier 1",$F16="Remove",$H16="Tree Protection Code: Other removal allowance or exemption",$I16<>"",ISNA(MATCH($I16,Tables!$B$215:$B$218,0))), Error!$B$17, IF(AND($E16="ECA / Shoreline Tree",$F16="Remove",$H16<>"",OR($H16="Shoreline",$H16="Environmental Critical Area (ECA)"),ISNA(MATCH($I16,Tables!$B$209:$B$212,0))), Error!$B$17, IF(AND(_xlpm.baseRow,$F16="Retain",$E16="ECA / Shoreline Tree",_xlpm.ECA_Short=0), Error!$B$61, IF(AND($F16="Remove",ISNUMBER(MATCH($E16,{"Tier 1","Tier 2","Tier 3","Tier 4","Tier 2 Grove"},0)),ISNUMBER(MATCH($I16,{"On-site replacement","Off-site replacement"},0)),$J16="",$H16<>""), Error!$B$19, IF(AND(_xlpm.baseRow,$E16<>"",$D16<>"",$F16<>"",COUNTBLANK($B16:$C16)>0,COUNTBLANK(_xlpm.HRange)<>4), Error!$B$22, IF(AND($H16="Zoning: Tree Points",$K16<>"",ISNA(MATCH($K16,Tables!$B$242:$B$253,0))), Error!$B$58, IF(AND($H16="Zoning: Tree Points",$K16="Small",$L16<>"",ISNA(MATCH($L16,Tables!$C$243:$C$244,0))), Error!$B$59, IF(AND($H16="Zoning: Tree Points",$K16="Small/Medium",$L16<>"",ISNA(MATCH($L16,Tables!$C$246:$C$247,0))), Error!$B$59, IF(AND($H16="Zoning: Tree Points",$K16="Medium/Large",$L16<>"",ISNA(MATCH($L16,Tables!$C$249:$C$250,0))), Error!$B$59, IF(AND($H16="Zoning: Tree Points",$K16="Large",$L16<>"",ISNA(MATCH($L16,Tables!$C$252:$C$253,0))), Error!$B$59, IF(AND($F16="Retain",$H16="Zoning: Tree Points",$C16<>"",$D16<>"",OR($K16="",$L16="",$M16="")), Error!$B$20, "" )))))))))))))))))))))))))))))))))))))))))))))))))))))))), Error!$B$23))} | O16: {=IFERROR(_xlfn.LET( _xlpm.txt, $C16, _xlpm.chars, MID(_xlpm.txt, ROW(INDIRECT("1:" & LEN(_xlpm.txt))), 1), _xlpm.validChars, "0123456789ABCDEFGHIJKLMNOPQRSTUVWXYZabcdefghijklmnopqrstuvwxyz", _xlpm.isValid, ISNUMBER(MATCH(_xlpm.chars, MID(_xlpm.validChars, ROW(INDIRECT("1:" & LEN(_xlpm.validChars))), 1), 0)), _xlfn.TEXTJOIN("", TRUE, IF(_xlpm.isValid, _xlpm.chars, "")) ),"")}
