Workbook
Name L1List: MultiSelect[TreeCategory]
Name L1Listb: MultiSelect2[ProposedLocation]
Name L1Listc: MultiSelect3[SpeciesSize]
Name L1Listd: MultiSelect4[SpeciesSize]
Name L2List: _xlfn.XLOOKUP('Existing Trees Form'!XFD1,MultiSelect[TreeCategory],MultiSelect[TreeStatus]) : _xlfn.XLOOKUP('Existing Trees Form'!XFD1,MultiSelect[TreeCategory],MultiSelect[TreeStatus],,,-1)
Name L2Listc: _xlfn.XLOOKUP('Existing Trees Form'!XFD1,MultiSelect3[SpeciesSize],MultiSelect3[Points]) : _xlfn.XLOOKUP('Existing Trees Form'!XFD1,MultiSelect3[SpeciesSize],MultiSelect3[Points],,,-1)
Name L2Listd: _xlfn.XLOOKUP('Tree Plantings Form'!XFD1,MultiSelect4[SpeciesSize],MultiSelect4[Points]) : _xlfn.XLOOKUP('Tree Plantings Form'!XFD1, MultiSelect4[SpeciesSize],MultiSelect4[Points],,,-1)

Sheet Existing Trees Form
A1: This sheet has highly involved formulas and cells that may not meet accessible standards. For accessibility assistance, contact SDCI staff: sdci-trees@seattle.gov. This Existing Trees Form is a table to enter existing trees on your site that are used to meet tree-related standards. | K1: Share your feedback on this form.
A2: Existing Trees Form | D2: =IF((COUNTBLANK(N11:N1448)<ROWS(N11:N1448))+($N$4<>"")+($I$3<>"")+($I$8<>""),(ROWS($N$11:$N$1448)-COUNTBLANK($N$11:$N$1448))+IF($N$4<>"",1,0)+IF($I$8<>"",1,0)+IF($I$3<>"",1,0) &" unresolved error(s). See red errors for more info.", "") -> 2 unresolved error(s). See red errors for more info. | H2: Permit Number: | L2: {="Total Existing Trees: "&SUM(--(MOD(ROW($F$11:$F$1448)-10,4)=0)*($F$11:$F$1448<>"")) & CHAR(10) & "(Used to meet code)"} -> Total Existing Trees: 0 (Used to meet code) | M2: {="Total Removals: "&SUM(--(MOD(ROW($F$11:$F$1448)-10,4)=0)*($F$11:$F$1448="Remove")) & CHAR(10) &"Total Retained: "&SUM(--(MOD(ROW($F$11:$F$1448)-10,4)=0)*($F$11:$F$1448="Retain"))} -> Total Removals: 0 Total Retained: 0
A3: Enter only the following: | D3: =IF(D2<>"", "This message will disappear when all errors are resolved.", "") -> This message will disappear when all errors are resolved. | I3: =IF($I$2="","↑ Enter Permit Number Here", IF(ISNUMBER(SEARCH("TA",$I$2)),"'TA' records do not require Tree Worksheets.", IF(ISNUMBER(SEARCH("TN",$I$2)),"'TN' records do not require Tree Worksheets.", IF(ISNUMBER(SEARCH("EX",$I$2)),"'EX' records do not require Tree Worksheets.", IF(ISNUMBER(SEARCH("LU",$I$2)),"'LU' records do not require Tree Worksheets.", IF(ISNUMBER(SEARCH("MUP",$I$2)),"'MUP' records do not require Tree Worksheets.", "")))))) -> ↑ Enter Permit Number Here
B4: • Retain trees used to meet tree-related standards. | L4: Required Tree Points: | N4: =IF($M$4="", "← Please enter the minimum tree points value required for this site. If not applicable, type zero.", IF(SUM($M$6,$M$7)<$M$4, "'Total Tree Points Proposed' must be equal or greater than the 'Required Tree Points.'","")) -> ← Please enter the minimum tree points value required for this site. If not applicable, type zero.
B5: • Retain street trees used to meet Green Factor standard. | I5: Net Canopy Area | J5: =J6-J7 -> 0 | L5: Total Tree Points Proposed | M5: =SUM(M6:M7) -> 0
B6: • Tree removals regulated by tree-related standards located within the development area impact area. | I6: Total Mature Canopy Area Proposed | J6: ='Tree Plantings Form'!J5 -> 0 | L6: Total Planting Tree Points | M6: ='Tree Plantings Form'!M5 -> 0
A7: Fill in tree information in each white cell starting from left to right. If more info is required, dark gray cells will turn white. | I7: Total Canopy Area of Removals | J7: {=SUM( SUMPRODUCT( $J11:$J1344, ISNUMBER(MATCH($I11:$I1344, {"Off-site replacement","On-site replacement"}, 0)) * ISNUMBER(MATCH($E11:$E1344, {"Tier 1","Tier 2","Tier 3","Tier 4","Tier 2 Grove"}, 0)) * ($H11:$H1344<>"") * ($F11:$F1344 = "Remove")), IFERROR(#REF!,0))} -> 0 | L7: Total Existing Tree Points | M7: {=SUM( SUMPRODUCT( $M11:$M1344, ISNUMBER(MATCH($H11:$H1344,{"Zoning: Tree Points"},0))* ISNUMBER(MATCH($E11:$E1344,{"Tier 1","Tier 2","Tier 2 Grove","Tier 3","Tier 4","ECA / Shoreline Tree","<6in DSH for Tree Points"},0))* ($F11:$F1344="Retain")), IFERROR(#REF!,0))} -> 0
B8: Read the Get Started Guide for FAQs and examples to help you complete the forms. | I8: {=IF('Existing Trees Form'!$J$7:$J$7>J6, "↑ New plantings are required. ‘Total Mature Canopy Area Proposed’ must be equal or greater than ‘Total Canopy Area of Removals’.", "")}
E9: Select a dropdown from Columns C & E - I
A10: Row | B10: Tree ID | C10: Scientific Name / Common Name | D10: Tree Size (DSH) | E10: Tree Category | F10: Tree Status & | G10: Sym | H10: Code Requirement(s) Met | I10: Tree Replacement | J10: Canopy Area of Removal (sq ft) | K10: Tree Species Size | L10: Points Per Inch of Diameter | M10: Tree Points | N10: Error Message | O10: Shrub
A11: 1 | G11: =IF(Tree_Table1[[#This Row],[Tree Status &]]="Retain", Tables!$B$237, IF(Tree_Table1[[#This Row],[Tree Status &]]="Remove", Tables!$B$238, "")) | K11: =IFERROR( IF( AND($H11="Zoning: Tree Points", NOT(ISNUMBER(SEARCH("sp.", $C11)))), VLOOKUP($C11, 'Tree List'!$C$3:$F$601, 4, FALSE), "" ), "") | L11: {=IFERROR( IF( AND($H11="Zoning: Tree Points", NOT(ISNUMBER(SEARCH("sp.", $C11)))), _xlfn.IFS( (COUNTIFS('Tree List'!$C$3:$C$601,$C11,'Tree List'!$D$3:$D$601,"Coniferous") + COUNTIFS('Tree List'!$C$3:$C$601,$C11,'Tree List'!$D$3:$D$601,"Deciduous Conifer")) > 0, _xlfn.IFS($K11="Small",0.5,$K11="Small/Medium",1,$K11="Medium/Large",1.4,$K11="Large",1.8), (COUNTIFS('Tree List'!$C$3:$C$601,$C11,'Tree List'!$D$3:$D$601,"Deciduous") + COUNTIFS('Tree List'!$C$3:$C$601,$C11,'Tree List'!$D$3:$D$601,"Broadleaf Evergreen")) > 0, _xlfn.IFS($K11="Small",0.4,$K11="Small/Medium",0.8,$K11="Medium/Large",1.2,$K11="Large",1.6) ), "" ), "")} | M11: =IFERROR($D11*$L11,"") | N11: {=_xlfn.LET( _xlpm.r,ROW(), _xlpm.blockIndex,INT((_xlpm.r-11)/4), _xlpm.baseRow,MOD(_xlpm.r-11,4)=0, _xlpm.baseStart,_xlpm.blockIndex*4+11, _xlpm.baseEnd,_xlpm.baseStart+3, _xlpm.HRange,INDEX($H:$H,_xlpm.baseStart):INDEX($H:$H,_xlpm.baseEnd), _xlpm.hasDM,ISNUMBER(SEARCH("DM",$I$2)), _xlpm.hasCN,ISNUMBER(SEARCH("CN",$I$2)), _xlpm.hasPH,ISNUMBER(SEARCH("PH",$I$2)), _xlpm.hasGR,ISNUMBER(SEARCH("GR",$I$2)), _xlpm.ECA_H,COUNTIF(_xlpm.HRange,"Environmental Critical Area (ECA)"), _xlpm.Shore_H,COUNTIF(_xlpm.HRange,"Shoreline"), _xlpm.TreePoints_H,COUNTIF(_xlpm.HRange,"Zoning: Tree Points"), _xlpm.GF_H,COUNTIF(_xlpm.HRange,"Zoning: Green Factor"), _xlpm.ECA_Short,COUNTIF(_xlpm.HRange,"Environmental Critical Area / Shoreline"), _xlpm.uniqueH,COUNTA(_xlfn.UNIQUE(_xlfn._xlws.FILTER(_xlpm.HRange,_xlpm.HRange<>""))), IFERROR( IF(AND(_xlpm.baseRow,ISNA(MATCH($C11,'Tree List'!$C$3:$C$601,0)),SUMPRODUCT(--ISNUMBER(SEARCH(Tables2!$C$677:$C$772,$O11)))>0), Error!$B$57, IF(AND(_xlpm.hasDM,$F11="Remove",$H11<>"",OR($I11="On-site replacement",$I11="Off-site replacement",$I11="Payment In Lieu")), Error!$B$56, IF(AND(_xlpm.hasDM,$F11="Remove",$H11<>"",$I11="Relocation"), Error!$B$66, IF(AND(OR(_xlpm.hasCN,_xlpm.hasPH,_xlpm.hasGR),$H11<>"",COUNTIF(Tables!$B$132:$B$134,$H11)>0,$I11="N/A (No replacement required)"), Error!$B$62, IF(AND(_xlpm.baseRow,$E11<>"",ISNA(MATCH($E11,Tables!$B$225:$B$232,0))), Error!$B$2, IF(AND(_xlpm.baseRow,$F11<>"",ISNA(MATCH($F11,Tables!$B$234:$B$235,0))), Error!$B$24, IF(AND(_xlpm.baseRow,_xlpm.ECA_H>0,_xlpm.Shore_H>0), Error!$B$16, IF(AND(_xlpm.baseRow,$E11<>"",$D11=""), Error!$B$3, IF(AND(_xlpm.baseRow,OR($E11="Tier 3",$E11="Tier 4"),$C11<>"",$D11>=24,COUNTIF(Tables2!$B$166:$B$674,$C11)>0), Error!$B$44, IF(AND(_xlpm.baseRow,OR($E11="Tier 3",$E11="Tier 4"),$C11<>"",$D11<>"",COUNTIF(Tables2!$B$73:$B$152,$C11)>0, $D11>=IFERROR(INDEX(Tables2!$C$73:$C$152,MATCH($C11,Tables2!$B$73:$B$152,0)),-1)), Error!$B$44, IF(AND(_xlpm.baseRow,OR($E11="Tier 2",$E11="Tier 2 Grove"),$C11<>"",$D11>=12,COUNTIF(Tables2!$B$153:$B$162,$C11)>0), Error!$B$45, IF(AND(_xlpm.baseRow,$E11="Tier 2 Grove",$D11<12), Error!$B$41, IF(AND(_xlpm.baseRow,$E11="Tier 2",$D11<5.88), Error!$B$40, IF(AND(_xlpm.baseRow,OR($E11="Tier 2",$E11="Tier 2 Grove"),$C11<>"",$D11<12,$D11>=6,COUNTIF(Tables2!$B$153:$B$162,$C11)>0), Error!$B$54, IF(AND(_xlpm.baseRow,$E11="Tier 2",COUNTIF(Tables2!$B$166:$B$674,$C11)>0,$D11<24), Error!$B$54, IF(AND(_xlpm.baseRow,$E11="Tier 3",ISNA(MATCH($C11,Tables2!$B$153:$B$162,0)),OR($D11<12,$D11>=24)), Error!$B$9, IF(AND(_xlpm.baseRow,$E11="Tier 3",COUNTIF(Tables2!$B$153:$B$162,$C11)>0,$D11<12), Error!$B$46, IF(AND(_xlpm.baseRow,$E11="Tier 4",OR($D11<6,$D11>=12)), Error!$B$10, IF(AND(_xlpm.baseRow,$E11="<6in DSH for Tree Points",OR($D11>=6,$D11="")), Error!$B$8, IF(AND(_xlpm.baseRow,$E11="Street Tree for Green Factor",$F11<>"",$F11<>"Retain"), Error!$B$14, IF(AND($E11="<6in DSH for Tree Points",$F11="Retain",$H11<>"",ISNA(MATCH($H11,Tables!$B$174:$B$174,0))), Error!$B$15, IF(AND($E11="Street Tree for Green Factor",$F11="Retain",$H11<>"",$H11<>"Zoning: Green Factor"), Error!$B$15, IF(AND($E11="ECA / Shoreline Tree",$F11="Remove",$H11<>"",ISNA(MATCH($H11,Tables!$B$189:$B$190,0))), Error!$B$15, IF(AND($E11="ECA / Shoreline Tree",$F11="Retain",$H11<>"",ISNA(MATCH($H11,Tables!$B$184:$B$186,0))), Error!$B$15, IF(AND($E11="Tier 4",$F11="Remove",$H11<>"",ISNA(MATCH($H11,Tables!$B$171,0))), Error!$B$15, IF(AND($E11="Tier 4",$F11="Retain",$H11<>"",ISNA(MATCH($H11,Tables!$B$166:$B$168,0))), Error!$B$15, IF(AND($E11="Tier 3",$F11="Retain",$H11<>"",ISNA(MATCH($H11,Tables!$B$158:$B$160,0))), Error!$B$15, IF(AND($E11="Tier 3",$F11="Remove",$H11<>"",ISNA(MATCH($H11,Tables!$B$163,0))), Error!$B$15, IF(AND(OR($E11="Tier 2",$E11="Tier 2 Grove"),$F11="Remove",$H11<>"",ISNA(MATCH($H11,Tables!$B$153:$B$155,0))), Error!$B$15, IF(AND(OR($E11="Tier 2",$E11="Tier 2 Grove"),$F11="Retain",$H11<>"",ISNA(MATCH($H11,Tables!$B$147:$B$150,0))), Error!$B$15, IF(AND($E11="Tier 1",$F11="Remove",$H11<>"",ISNA(MATCH($H11,Tables!$B$143:$B$144,0))), Error!$B$15, IF(AND($E11="Tier 1",$F11="Retain",$H11<>"",ISNA(MATCH($H11,Tables!$B$137:$B$140,0))), Error!$B$15, IF(AND($E11<>"Tier 2",$E11<>"Tier 2 Grove",$E11<>"Tier 3",$E11<>"Tier 4",$H11="Zoning: Green Factor",OR($D11="",$D11<6)), Error!$B$11, IF(AND(_xlpm.baseRow,$D11<6,$E11="<6in DSH for Tree Points",_xlpm.TreePoints_H=0), Error!$B$21, IF(AND(_xlpm.baseRow,$E11<>"",$D11<>"",$F11=""), Error!$B$4, IF(AND(_xlpm.baseRow,$F11="Remove",OR($E11="Tier 1",$E11="Tier 2",$E11="Tier 2 Grove"),COUNTBLANK(_xlpm.HRange)<3,_xlpm.uniqueH>=2), Error!$B$48, IF(AND(_xlpm.baseRow,$F11="Retain",OR($E11="Tier 1",$E11="Tier 2",$E11="Tier 2 Grove"),COUNTIF(_xlpm.HRange,"Tree Code: Required to Retain Tier 1-2 Tree")=0), Error!$B$47, IF(AND(_xlpm.baseRow,$E11<>"",$D11<>"",$F11<>"",COUNTBLANK(_xlpm.HRange)=4), Error!$B$5, IF(AND($F11="Remove",$H11<>"",$I11=""), Error!$B$18, IF(AND($E11="Tier 4",$F11="Remove",$H11="Tree Protection Code: Tier 3 or Tier 4 Allowance",$H11<>"",ISNA(MATCH($I11,Tables!$B$200,0))), Error!$B$17, IF(AND($E11="Tier 3",$F11="Remove",$H11<>"",$H11="Tree Protection Code: Tier 3 or Tier 4 Allowance",OR($I11="",ISNA(MATCH($I11,Tables!$B$193:$B$197,0)))), Error!$B$17, IF(AND(OR($E11="Tier 2",$E11="Tier 2 Grove"),$F11="Remove",$H11="Tree Protection Code: Other removal allowance or exemption",$I11<>"",ISNA(MATCH($I11,Tables!$B$215:$B$218,0))), Error!$B$17, IF(AND(OR($E11="Tier 2",$E11="Tier 2 Grove"),$F11="Remove",$H11="Tree Protection Code: Development Capacity",$I11<>"",ISNA(MATCH($I11,Tables!$B$193:$B$197,0))), Error!$B$17, IF(AND(OR($E11="Tier 2",$E11="Tier 2 Grove"),$F11="Remove",$H11="Tree Protection Code: Necessary for Construction",$I11<>"",ISNA(MATCH($I11,Tables!$B$193:$B$197,0))), Error!$B$17, IF(AND($E11="Tier 1",$F11="Remove",$H11="Tree Protection Code: Special Exception",$I11<>"",ISNA(MATCH($I11,Tables!$B$215:$B$218,0))), Error!$B$17, IF(AND($E11="Tier 1",$F11="Remove",$H11="Tree Protection Code: Other removal allowance or exemption",$I11<>"",ISNA(MATCH($I11,Tables!$B$215:$B$218,0))), Error!$B$17, IF(AND($E11="ECA / Shoreline Tree",$F11="Remove",$H11<>"",OR($H11="Shoreline",$H11="Environmental Critical Area (ECA)"),ISNA(MATCH($I11,Tables!$B$209:$B$212,0))), Error!$B$17, IF(AND(_xlpm.baseRow,$F11="Retain",$E11="ECA / Shoreline Tree",_xlpm.ECA_Short=0), Error!$B$61, IF(AND($F11="Remove",ISNUMBER(MATCH($E11,{"Tier 1","Tier 2","Tier 3","Tier 4","Tier 2 Grove"},0)),ISNUMBER(MATCH($I11,{"On-site replacement","Off-site replacement"},0)),$J11="",$H11<>""), Error!$B$19, IF(AND(_xlpm.baseRow,$E11<>"",$D11<>"",$F11<>"",COUNTBLANK($B11:$C11)>0,COUNTBLANK(_xlpm.HRange)<>4), Error!$B$22, IF(AND($H11="Zoning: Tree Points",$K11<>"",ISNA(MATCH($K11,Tables!$B$242:$B$253,0))), Error!$B$58, IF(AND($H11="Zoning: Tree Points",$K11="Small",$L11<>"",ISNA(MATCH($L11,Tables!$C$243:$C$244,0))), Error!$B$59, IF(AND($H11="Zoning: Tree Points",$K11="Small/Medium",$L11<>"",ISNA(MATCH($L11,Tables!$C$246:$C$247,0))), Error!$B$59, IF(AND($H11="Zoning: Tree Points",$K11="Medium/Large",$L11<>"",ISNA(MATCH($L11,Tables!$C$249:$C$250,0))), Error!$B$59, IF(AND($H11="Zoning: Tree Points",$K11="Large",$L11<>"",ISNA(MATCH($L11,Tables!$C$252:$C$253,0))), Error!$B$59, IF(AND($F11="Retain",$H11="Zoning: Tree Points",$C11<>"",$D11<>"",OR($K11="",$L11="",$M11="")), Error!$B$20, "" )))))))))))))))))))))))))))))))))))))))))))))))))))))))), Error!$B$23))} | O11: {=IFERROR(_xlfn.LET( _xlpm.txt, $C11, _xlpm.chars, MID(_xlpm.txt, ROW(INDIRECT("1:" & LEN(_xlpm.txt))), 1), _xlpm.validChars, "0123456789ABCDEFGHIJKLMNOPQRSTUVWXYZabcdefghijklmnopqrstuvwxyz", _xlpm.isValid, ISNUMBER(MATCH(_xlpm.chars, MID(_xlpm.validChars, ROW(INDIRECT("1:" & LEN(_xlpm.validChars))), 1), 0)), _xlfn.TEXTJOIN("", TRUE, IF(_xlpm.isValid, _xlpm.chars, "")) ),"")}
B12: =IF($B11="", "", $B11) | C12: =IF($C11="", "", $C11) | D12: =IF($D11="", "", $D11) | E12: =IF($E11="", "", $E11) | F12: =IF($F11="", "", $F11) | G12: =IF(Tree_Table1[[#This Row],[Tree Status &]]="Retain", Tables!$B$237, IF(Tree_Table1[[#This Row],[Tree Status &]]="Remove", Tables!$B$238, "")) | K12: =IFERROR( IF( AND($H12="Zoning: Tree Points", NOT(ISNUMBER(SEARCH("sp.", $C12)))), VLOOKUP($C12, 'Tree List'!$C$3:$F$601, 4, FALSE), "" ), "") | L12: {=IFERROR( IF( AND($H12="Zoning: Tree Points", NOT(ISNUMBER(SEARCH("sp.", $C12)))), _xlfn.IFS( (COUNTIFS('Tree List'!$C$3:$C$601,$C12,'Tree List'!$D$3:$D$601,"Coniferous") + COUNTIFS('Tree List'!$C$3:$C$601,$C12,'Tree List'!$D$3:$D$601,"Deciduous Conifer")) > 0, _xlfn.IFS($K12="Small",0.5,$K12="Small/Medium",1,$K12="Medium/Large",1.4,$K12="Large",1.8), (COUNTIFS('Tree List'!$C$3:$C$601,$C12,'Tree List'!$D$3:$D$601,"Deciduous") + COUNTIFS('Tree List'!$C$3:$C$601,$C12,'Tree List'!$D$3:$D$601,"Broadleaf Evergreen")) > 0, _xlfn.IFS($K12="Small",0.4,$K12="Small/Medium",0.8,$K12="Medium/Large",1.2,$K12="Large",1.6) ), "" ), "")} | M12: =IFERROR($D12*$L12,"") | N12: {=_xlfn.LET( _xlpm.r,ROW(), _xlpm.blockIndex,INT((_xlpm.r-11)/4), _xlpm.baseRow,MOD(_xlpm.r-11,4)=0, _xlpm.baseStart,_xlpm.blockIndex*4+11, _xlpm.baseEnd,_xlpm.baseStart+3, _xlpm.HRange,INDEX($H:$H,_xlpm.baseStart):INDEX($H:$H,_xlpm.baseEnd), _xlpm.hasDM,ISNUMBER(SEARCH("DM",$I$2)), _xlpm.hasCN,ISNUMBER(SEARCH("CN",$I$2)), _xlpm.hasPH,ISNUMBER(SEARCH("PH",$I$2)), _xlpm.hasGR,ISNUMBER(SEARCH("GR",$I$2)), _xlpm.ECA_H,COUNTIF(_xlpm.HRange,"Environmental Critical Area (ECA)"), _xlpm.Shore_H,COUNTIF(_xlpm.HRange,"Shoreline"), _xlpm.TreePoints_H,COUNTIF(_xlpm.HRange,"Zoning: Tree Points"), _xlpm.GF_H,COUNTIF(_xlpm.HRange,"Zoning: Green Factor"), _xlpm.ECA_Short,COUNTIF(_xlpm.HRange,"Environmental Critical Area / Shoreline"), _xlpm.uniqueH,COUNTA(_xlfn.UNIQUE(_xlfn._xlws.FILTER(_xlpm.HRange,_xlpm.HRange<>""))), IFERROR( IF(AND(_xlpm.baseRow,ISNA(MATCH($C12,'Tree List'!$C$3:$C$601,0)),SUMPRODUCT(--ISNUMBER(SEARCH(Tables2!$C$677:$C$772,$O12)))>0), Error!$B$57, IF(AND(_xlpm.hasDM,$F12="Remove",$H12<>"",OR($I12="On-site replacement",$I12="Off-site replacement",$I12="Payment In Lieu")), Error!$B$56, IF(AND(_xlpm.hasDM,$F12="Remove",$H12<>"",$I12="Relocation"), Error!$B$66, IF(AND(OR(_xlpm.hasCN,_xlpm.hasPH,_xlpm.hasGR),$H12<>"",COUNTIF(Tables!$B$132:$B$134,$H12)>0,$I12="N/A (No replacement required)"), Error!$B$62, IF(AND(_xlpm.baseRow,$E12<>"",ISNA(MATCH($E12,Tables!$B$225:$B$232,0))), Error!$B$2, IF(AND(_xlpm.baseRow,$F12<>"",ISNA(MATCH($F12,Tables!$B$234:$B$235,0))), Error!$B$24, IF(AND(_xlpm.baseRow,_xlpm.ECA_H>0,_xlpm.Shore_H>0), Error!$B$16, IF(AND(_xlpm.baseRow,$E12<>"",$D12=""), Error!$B$3, IF(AND(_xlpm.baseRow,OR($E12="Tier 3",$E12="Tier 4"),$C12<>"",$D12>=24,COUNTIF(Tables2!$B$166:$B$674,$C12)>0), Error!$B$44, IF(AND(_xlpm.baseRow,OR($E12="Tier 3",$E12="Tier 4"),$C12<>"",$D12<>"",COUNTIF(Tables2!$B$73:$B$152,$C12)>0, $D12>=IFERROR(INDEX(Tables2!$C$73:$C$152,MATCH($C12,Tables2!$B$73:$B$152,0)),-1)), Error!$B$44, IF(AND(_xlpm.baseRow,OR($E12="Tier 2",$E12="Tier 2 Grove"),$C12<>"",$D12>=12,COUNTIF(Tables2!$B$153:$B$162,$C12)>0), Error!$B$45, IF(AND(_xlpm.baseRow,$E12="Tier 2 Grove",$D12<12), Error!$B$41, IF(AND(_xlpm.baseRow,$E12="Tier 2",$D12<5.88), Error!$B$40, IF(AND(_xlpm.baseRow,OR($E12="Tier 2",$E12="Tier 2 Grove"),$C12<>"",$D12<12,$D12>=6,COUNTIF(Tables2!$B$153:$B$162,$C12)>0), Error!$B$54, IF(AND(_xlpm.baseRow,$E12="Tier 2",COUNTIF(Tables2!$B$166:$B$674,$C12)>0,$D12<24), Error!$B$54, IF(AND(_xlpm.baseRow,$E12="Tier 3",ISNA(MATCH($C12,Tables2!$B$153:$B$162,0)),OR($D12<12,$D12>=24)), Error!$B$9, IF(AND(_xlpm.baseRow,$E12="Tier 3",COUNTIF(Tables2!$B$153:$B$162,$C12)>0,$D12<12), Error!$B$46, IF(AND(_xlpm.baseRow,$E12="Tier 4",OR($D12<6,$D12>=12)), Error!$B$10, IF(AND(_xlpm.baseRow,$E12="<6in DSH for Tree Points",OR($D12>=6,$D12="")), Error!$B$8, IF(AND(_xlpm.baseRow,$E12="Street Tree for Green Factor",$F12<>"",$F12<>"Retain"), Error!$B$14, IF(AND($E12="<6in DSH for Tree Points",$F12="Retain",$H12<>"",ISNA(MATCH($H12,Tables!$B$174:$B$174,0))), Error!$B$15, IF(AND($E12="Street Tree for Green Factor",$F12="Retain",$H12<>"",$H12<>"Zoning: Green Factor"), Error!$B$15, IF(AND($E12="ECA / Shoreline Tree",$F12="Remove",$H12<>"",ISNA(MATCH($H12,Tables!$B$189:$B$190,0))), Error!$B$15, IF(AND($E12="ECA / Shoreline Tree",$F12="Retain",$H12<>"",ISNA(MATCH($H12,Tables!$B$184:$B$186,0))), Error!$B$15, IF(AND($E12="Tier 4",$F12="Remove",$H12<>"",ISNA(MATCH($H12,Tables!$B$171,0))), Error!$B$15, IF(AND($E12="Tier 4",$F12="Retain",$H12<>"",ISNA(MATCH($H12,Tables!$B$166:$B$168,0))), Error!$B$15, IF(AND($E12="Tier 3",$F12="Retain",$H12<>"",ISNA(MATCH($H12,Tables!$B$158:$B$160,0))), Error!$B$15, IF(AND($E12="Tier 3",$F12="Remove",$H12<>"",ISNA(MATCH($H12,Tables!$B$163,0))), Error!$B$15, IF(AND(OR($E12="Tier 2",$E12="Tier 2 Grove"),$F12="Remove",$H12<>"",ISNA(MATCH($H12,Tables!$B$153:$B$155,0))), Error!$B$15, IF(AND(OR($E12="Tier 2",$E12="Tier 2 Grove"),$F12="Retain",$H12<>"",ISNA(MATCH($H12,Tables!$B$147:$B$150,0))), Error!$B$15, IF(AND($E12="Tier 1",$F12="Remove",$H12<>"",ISNA(MATCH($H12,Tables!$B$143:$B$144,0))), Error!$B$15, IF(AND($E12="Tier 1",$F12="Retain",$H12<>"",ISNA(MATCH($H12,Tables!$B$137:$B$140,0))), Error!$B$15, IF(AND($E12<>"Tier 2",$E12<>"Tier 2 Grove",$E12<>"Tier 3",$E12<>"Tier 4",$H12="Zoning: Green Factor",OR($D12="",$D12<6)), Error!$B$11, IF(AND(_xlpm.baseRow,$D12<6,$E12="<6in DSH for Tree Points",_xlpm.TreePoints_H=0), Error!$B$21, IF(AND(_xlpm.baseRow,$E12<>"",$D12<>"",$F12=""), Error!$B$4, IF(AND(_xlpm.baseRow,$F12="Remove",OR($E12="Tier 1",$E12="Tier 2",$E12="Tier 2 Grove"),COUNTBLANK(_xlpm.HRange)<3,_xlpm.uniqueH>=2), Error!$B$48, IF(AND(_xlpm.baseRow,$F12="Retain",OR($E12="Tier 1",$E12="Tier 2",$E12="Tier 2 Grove"),COUNTIF(_xlpm.HRange,"Tree Code: Required to Retain Tier 1-2 Tree")=0), Error!$B$47, IF(AND(_xlpm.baseRow,$E12<>"",$D12<>"",$F12<>"",COUNTBLANK(_xlpm.HRange)=4), Error!$B$5, IF(AND($F12="Remove",$H12<>"",$I12=""), Error!$B$18, IF(AND($E12="Tier 4",$F12="Remove",$H12="Tree Protection Code: Tier 3 or Tier 4 Allowance",$H12<>"",ISNA(MATCH($I12,Tables!$B$200,0))), Error!$B$17, IF(AND($E12="Tier 3",$F12="Remove",$H12<>"",$H12="Tree Protection Code: Tier 3 or Tier 4 Allowance",OR($I12="",ISNA(MATCH($I12,Tables!$B$193:$B$197,0)))), Error!$B$17, IF(AND(OR($E12="Tier 2",$E12="Tier 2 Grove"),$F12="Remove",$H12="Tree Protection Code: Other removal allowance or exemption",$I12<>"",ISNA(MATCH($I12,Tables!$B$215:$B$218,0))), Error!$B$17, IF(AND(OR($E12="Tier 2",$E12="Tier 2 Grove"),$F12="Remove",$H12="Tree Protection Code: Development Capacity",$I12<>"",ISNA(MATCH($I12,Tables!$B$193:$B$197,0))), Error!$B$17, IF(AND(OR($E12="Tier 2",$E12="Tier 2 Grove"),$F12="Remove",$H12="Tree Protection Code: Necessary for Construction",$I12<>"",ISNA(MATCH($I12,Tables!$B$193:$B$197,0))), Error!$B$17, IF(AND($E12="Tier 1",$F12="Remove",$H12="Tree Protection Code: Special Exception",$I12<>"",ISNA(MATCH($I12,Tables!$B$215:$B$218,0))), Error!$B$17, IF(AND($E12="Tier 1",$F12="Remove",$H12="Tree Protection Code: Other removal allowance or exemption",$I12<>"",ISNA(MATCH($I12,Tables!$B$215:$B$218,0))), Error!$B$17, IF(AND($E12="ECA / Shoreline Tree",$F12="Remove",$H12<>"",OR($H12="Shoreline",$H12="Environmental Critical Area (ECA)"),ISNA(MATCH($I12,Tables!$B$209:$B$212,0))), Error!$B$17, IF(AND(_xlpm.baseRow,$F12="Retain",$E12="ECA / Shoreline Tree",_xlpm.ECA_Short=0), Error!$B$61, IF(AND($F12="Remove",ISNUMBER(MATCH($E12,{"Tier 1","Tier 2","Tier 3","Tier 4","Tier 2 Grove"},0)),ISNUMBER(MATCH($I12,{"On-site replacement","Off-site replacement"},0)),$J12="",$H12<>""), Error!$B$19, IF(AND(_xlpm.baseRow,$E12<>"",$D12<>"",$F12<>"",COUNTBLANK($B12:$C12)>0,COUNTBLANK(_xlpm.HRange)<>4), Error!$B$22, IF(AND($H12="Zoning: Tree Points",$K12<>"",ISNA(MATCH($K12,Tables!$B$242:$B$253,0))), Error!$B$58, IF(AND($H12="Zoning: Tree Points",$K12="Small",$L12<>"",ISNA(MATCH($L12,Tables!$C$243:$C$244,0))), Error!$B$59, IF(AND($H12="Zoning: Tree Points",$K12="Small/Medium",$L12<>"",ISNA(MATCH($L12,Tables!$C$246:$C$247,0))), Error!$B$59, IF(AND($H12="Zoning: Tree Points",$K12="Medium/Large",$L12<>"",ISNA(MATCH($L12,Tables!$C$249:$C$250,0))), Error!$B$59, IF(AND($H12="Zoning: Tree Points",$K12="Large",$L12<>"",ISNA(MATCH($L12,Tables!$C$252:$C$253,0))), Error!$B$59, IF(AND($F12="Retain",$H12="Zoning: Tree Points",$C12<>"",$D12<>"",OR($K12="",$L12="",$M12="")), Error!$B$20, "" )))))))))))))))))))))))))))))))))))))))))))))))))))))))), Error!$B$23))} | O12: {=IFERROR(_xlfn.LET( _xlpm.txt, $C12, _xlpm.chars, MID(_xlpm.txt, ROW(INDIRECT("1:" & LEN(_xlpm.txt))), 1), _xlpm.validChars, "0123456789ABCDEFGHIJKLMNOPQRSTUVWXYZabcdefghijklmnopqrstuvwxyz", _xlpm.isValid, ISNUMBER(MATCH(_xlpm.chars, MID(_xlpm.validChars, ROW(INDIRECT("1:" & LEN(_xlpm.validChars))), 1), 0)), _xlfn.TEXTJOIN("", TRUE, IF(_xlpm.isValid, _xlpm.chars, "")) ),"")}
B13: =IF($B12="", "", $B12) | C13: =IF($C12="", "", $C12) | D13: =IF($D12="", "", $D12) | E13: =IF($E12="", "", $E12) | F13: =IF($F12="", "", $F12) | G13: =IF(Tree_Table1[[#This Row],[Tree Status &]]="Retain", Tables!$B$237, IF(Tree_Table1[[#This Row],[Tree Status &]]="Remove", Tables!$B$238, "")) | K13: =IFERROR( IF( AND($H13="Zoning: Tree Points", NOT(ISNUMBER(SEARCH("sp.", $C13)))), VLOOKUP($C13, 'Tree List'!$C$3:$F$601, 4, FALSE), "" ), "") | L13: {=IFERROR( IF( AND($H13="Zoning: Tree Points", NOT(ISNUMBER(SEARCH("sp.", $C13)))), _xlfn.IFS( (COUNTIFS('Tree List'!$C$3:$C$601,$C13,'Tree List'!$D$3:$D$601,"Coniferous") + COUNTIFS('Tree List'!$C$3:$C$601,$C13,'Tree List'!$D$3:$D$601,"Deciduous Conifer")) > 0, _xlfn.IFS($K13="Small",0.5,$K13="Small/Medium",1,$K13="Medium/Large",1.4,$K13="Large",1.8), (COUNTIFS('Tree List'!$C$3:$C$601,$C13,'Tree List'!$D$3:$D$601,"Deciduous") + COUNTIFS('Tree List'!$C$3:$C$601,$C13,'Tree List'!$D$3:$D$601,"Broadleaf Evergreen")) > 0, _xlfn.IFS($K13="Small",0.4,$K13="Small/Medium",0.8,$K13="Medium/Large",1.2,$K13="Large",1.6) ), "" ), "")} | M13: =IFERROR($D13*$L13,"") | N13: {=_xlfn.LET( _xlpm.r,ROW(), _xlpm.blockIndex,INT((_xlpm.r-11)/4), _xlpm.baseRow,MOD(_xlpm.r-11,4)=0, _xlpm.baseStart,_xlpm.blockIndex*4+11, _xlpm.baseEnd,_xlpm.baseStart+3, _xlpm.HRange,INDEX($H:$H,_xlpm.baseStart):INDEX($H:$H,_xlpm.baseEnd), _xlpm.hasDM,ISNUMBER(SEARCH("DM",$I$2)), _xlpm.hasCN,ISNUMBER(SEARCH("CN",$I$2)), _xlpm.hasPH,ISNUMBER(SEARCH("PH",$I$2)), _xlpm.hasGR,ISNUMBER(SEARCH("GR",$I$2)), _xlpm.ECA_H,COUNTIF(_xlpm.HRange,"Environmental Critical Area (ECA)"), _xlpm.Shore_H,COUNTIF(_xlpm.HRange,"Shoreline"), _xlpm.TreePoints_H,COUNTIF(_xlpm.HRange,"Zoning: Tree Points"), _xlpm.GF_H,COUNTIF(_xlpm.HRange,"Zoning: Green Factor"), _xlpm.ECA_Short,COUNTIF(_xlpm.HRange,"Environmental Critical Area / Shoreline"), _xlpm.uniqueH,COUNTA(_xlfn.UNIQUE(_xlfn._xlws.FILTER(_xlpm.HRange,_xlpm.HRange<>""))), IFERROR( IF(AND(_xlpm.baseRow,ISNA(MATCH($C13,'Tree List'!$C$3:$C$601,0)),SUMPRODUCT(--ISNUMBER(SEARCH(Tables2!$C$677:$C$772,$O13)))>0), Error!$B$57, IF(AND(_xlpm.hasDM,$F13="Remove",$H13<>"",OR($I13="On-site replacement",$I13="Off-site replacement",$I13="Payment In Lieu")), Error!$B$56, IF(AND(_xlpm.hasDM,$F13="Remove",$H13<>"",$I13="Relocation"), Error!$B$66, IF(AND(OR(_xlpm.hasCN,_xlpm.hasPH,_xlpm.hasGR),$H13<>"",COUNTIF(Tables!$B$132:$B$134,$H13)>0,$I13="N/A (No replacement required)"), Error!$B$62, IF(AND(_xlpm.baseRow,$E13<>"",ISNA(MATCH($E13,Tables!$B$225:$B$232,0))), Error!$B$2, IF(AND(_xlpm.baseRow,$F13<>"",ISNA(MATCH($F13,Tables!$B$234:$B$235,0))), Error!$B$24, IF(AND(_xlpm.baseRow,_xlpm.ECA_H>0,_xlpm.Shore_H>0), Error!$B$16, IF(AND(_xlpm.baseRow,$E13<>"",$D13=""), Error!$B$3, IF(AND(_xlpm.baseRow,OR($E13="Tier 3",$E13="Tier 4"),$C13<>"",$D13>=24,COUNTIF(Tables2!$B$166:$B$674,$C13)>0), Error!$B$44, IF(AND(_xlpm.baseRow,OR($E13="Tier 3",$E13="Tier 4"),$C13<>"",$D13<>"",COUNTIF(Tables2!$B$73:$B$152,$C13)>0, $D13>=IFERROR(INDEX(Tables2!$C$73:$C$152,MATCH($C13,Tables2!$B$73:$B$152,0)),-1)), Error!$B$44, IF(AND(_xlpm.baseRow,OR($E13="Tier 2",$E13="Tier 2 Grove"),$C13<>"",$D13>=12,COUNTIF(Tables2!$B$153:$B$162,$C13)>0), Error!$B$45, IF(AND(_xlpm.baseRow,$E13="Tier 2 Grove",$D13<12), Error!$B$41, IF(AND(_xlpm.baseRow,$E13="Tier 2",$D13<5.88), Error!$B$40, IF(AND(_xlpm.baseRow,OR($E13="Tier 2",$E13="Tier 2 Grove"),$C13<>"",$D13<12,$D13>=6,COUNTIF(Tables2!$B$153:$B$162,$C13)>0), Error!$B$54, IF(AND(_xlpm.baseRow,$E13="Tier 2",COUNTIF(Tables2!$B$166:$B$674,$C13)>0,$D13<24), Error!$B$54, IF(AND(_xlpm.baseRow,$E13="Tier 3",ISNA(MATCH($C13,Tables2!$B$153:$B$162,0)),OR($D13<12,$D13>=24)), Error!$B$9, IF(AND(_xlpm.baseRow,$E13="Tier 3",COUNTIF(Tables2!$B$153:$B$162,$C13)>0,$D13<12), Error!$B$46, IF(AND(_xlpm.baseRow,$E13="Tier 4",OR($D13<6,$D13>=12)), Error!$B$10, IF(AND(_xlpm.baseRow,$E13="<6in DSH for Tree Points",OR($D13>=6,$D13="")), Error!$B$8, IF(AND(_xlpm.baseRow,$E13="Street Tree for Green Factor",$F13<>"",$F13<>"Retain"), Error!$B$14, IF(AND($E13="<6in DSH for Tree Points",$F13="Retain",$H13<>"",ISNA(MATCH($H13,Tables!$B$174:$B$174,0))), Error!$B$15, IF(AND($E13="Street Tree for Green Factor",$F13="Retain",$H13<>"",$H13<>"Zoning: Green Factor"), Error!$B$15, IF(AND($E13="ECA / Shoreline Tree",$F13="Remove",$H13<>"",ISNA(MATCH($H13,Tables!$B$189:$B$190,0))), Error!$B$15, IF(AND($E13="ECA / Shoreline Tree",$F13="Retain",$H13<>"",ISNA(MATCH($H13,Tables!$B$184:$B$186,0))), Error!$B$15, IF(AND($E13="Tier 4",$F13="Remove",$H13<>"",ISNA(MATCH($H13,Tables!$B$171,0))), Error!$B$15, IF(AND($E13="Tier 4",$F13="Retain",$H13<>"",ISNA(MATCH($H13,Tables!$B$166:$B$168,0))), Error!$B$15, IF(AND($E13="Tier 3",$F13="Retain",$H13<>"",ISNA(MATCH($H13,Tables!$B$158:$B$160,0))), Error!$B$15, IF(AND($E13="Tier 3",$F13="Remove",$H13<>"",ISNA(MATCH($H13,Tables!$B$163,0))), Error!$B$15, IF(AND(OR($E13="Tier 2",$E13="Tier 2 Grove"),$F13="Remove",$H13<>"",ISNA(MATCH($H13,Tables!$B$153:$B$155,0))), Error!$B$15, IF(AND(OR($E13="Tier 2",$E13="Tier 2 Grove"),$F13="Retain",$H13<>"",ISNA(MATCH($H13,Tables!$B$147:$B$150,0))), Error!$B$15, IF(AND($E13="Tier 1",$F13="Remove",$H13<>"",ISNA(MATCH($H13,Tables!$B$143:$B$144,0))), Error!$B$15, IF(AND($E13="Tier 1",$F13="Retain",$H13<>"",ISNA(MATCH($H13,Tables!$B$137:$B$140,0))), Error!$B$15, IF(AND($E13<>"Tier 2",$E13<>"Tier 2 Grove",$E13<>"Tier 3",$E13<>"Tier 4",$H13="Zoning: Green Factor",OR($D13="",$D13<6)), Error!$B$11, IF(AND(_xlpm.baseRow,$D13<6,$E13="<6in DSH for Tree Points",_xlpm.TreePoints_H=0), Error!$B$21, IF(AND(_xlpm.baseRow,$E13<>"",$D13<>"",$F13=""), Error!$B$4, IF(AND(_xlpm.baseRow,$F13="Remove",OR($E13="Tier 1",$E13="Tier 2",$E13="Tier 2 Grove"),COUNTBLANK(_xlpm.HRange)<3,_xlpm.uniqueH>=2), Error!$B$48, IF(AND(_xlpm.baseRow,$F13="Retain",OR($E13="Tier 1",$E13="Tier 2",$E13="Tier 2 Grove"),COUNTIF(_xlpm.HRange,"Tree Code: Required to Retain Tier 1-2 Tree")=0), Error!$B$47, IF(AND(_xlpm.baseRow,$E13<>"",$D13<>"",$F13<>"",COUNTBLANK(_xlpm.HRange)=4), Error!$B$5, IF(AND($F13="Remove",$H13<>"",$I13=""), Error!$B$18, IF(AND($E13="Tier 4",$F13="Remove",$H13="Tree Protection Code: Tier 3 or Tier 4 Allowance",$H13<>"",ISNA(MATCH($I13,Tables!$B$200,0))), Error!$B$17, IF(AND($E13="Tier 3",$F13="Remove",$H13<>"",$H13="Tree Protection Code: Tier 3 or Tier 4 Allowance",OR($I13="",ISNA(MATCH($I13,Tables!$B$193:$B$197,0)))), Error!$B$17, IF(AND(OR($E13="Tier 2",$E13="Tier 2 Grove"),$F13="Remove",$H13="Tree Protection Code: Other removal allowance or exemption",$I13<>"",ISNA(MATCH($I13,Tables!$B$215:$B$218,0))), Error!$B$17, IF(AND(OR($E13="Tier 2",$E13="Tier 2 Grove"),$F13="Remove",$H13="Tree Protection Code: Development Capacity",$I13<>"",ISNA(MATCH($I13,Tables!$B$193:$B$197,0))), Error!$B$17, IF(AND(OR($E13="Tier 2",$E13="Tier 2 Grove"),$F13="Remove",$H13="Tree Protection Code: Necessary for Construction",$I13<>"",ISNA(MATCH($I13,Tables!$B$193:$B$197,0))), Error!$B$17, IF(AND($E13="Tier 1",$F13="Remove",$H13="Tree Protection Code: Special Exception",$I13<>"",ISNA(MATCH($I13,Tables!$B$215:$B$218,0))), Error!$B$17, IF(AND($E13="Tier 1",$F13="Remove",$H13="Tree Protection Code: Other removal allowance or exemption",$I13<>"",ISNA(MATCH($I13,Tables!$B$215:$B$218,0))), Error!$B$17, IF(AND($E13="ECA / Shoreline Tree",$F13="Remove",$H13<>"",OR($H13="Shoreline",$H13="Environmental Critical Area (ECA)"),ISNA(MATCH($I13,Tables!$B$209:$B$212,0))), Error!$B$17, IF(AND(_xlpm.baseRow,$F13="Retain",$E13="ECA / Shoreline Tree",_xlpm.ECA_Short=0), Error!$B$61, IF(AND($F13="Remove",ISNUMBER(MATCH($E13,{"Tier 1","Tier 2","Tier 3","Tier 4","Tier 2 Grove"},0)),ISNUMBER(MATCH($I13,{"On-site replacement","Off-site replacement"},0)),$J13="",$H13<>""), Error!$B$19, IF(AND(_xlpm.baseRow,$E13<>"",$D13<>"",$F13<>"",COUNTBLANK($B13:$C13)>0,COUNTBLANK(_xlpm.HRange)<>4), Error!$B$22, IF(AND($H13="Zoning: Tree Points",$K13<>"",ISNA(MATCH($K13,Tables!$B$242:$B$253,0))), Error!$B$58, IF(AND($H13="Zoning: Tree Points",$K13="Small",$L13<>"",ISNA(MATCH($L13,Tables!$C$243:$C$244,0))), Error!$B$59, IF(AND($H13="Zoning: Tree Points",$K13="Small/Medium",$L13<>"",ISNA(MATCH($L13,Tables!$C$246:$C$247,0))), Error!$B$59, IF(AND($H13="Zoning: Tree Points",$K13="Medium/Large",$L13<>"",ISNA(MATCH($L13,Tables!$C$249:$C$250,0))), Error!$B$59, IF(AND($H13="Zoning: Tree Points",$K13="Large",$L13<>"",ISNA(MATCH($L13,Tables!$C$252:$C$253,0))), Error!$B$59, IF(AND($F13="Retain",$H13="Zoning: Tree Points",$C13<>"",$D13<>"",OR($K13="",$L13="",$M13="")), Error!$B$20, "" )))))))))))))))))))))))))))))))))))))))))))))))))))))))), Error!$B$23))} | O13: {=IFERROR(_xlfn.LET( _xlpm.txt, $C13, _xlpm.chars, MID(_xlpm.txt, ROW(INDIRECT("1:" & LEN(_xlpm.txt))), 1), _xlpm.validChars, "0123456789ABCDEFGHIJKLMNOPQRSTUVWXYZabcdefghijklmnopqrstuvwxyz", _xlpm.isValid, ISNUMBER(MATCH(_xlpm.chars, MID(_xlpm.validChars, ROW(INDIRECT("1:" & LEN(_xlpm.validChars))), 1), 0)), _xlfn.TEXTJOIN("", TRUE, IF(_xlpm.isValid, _xlpm.chars, "")) ),"")}
B14: =IF($B13="", "", $B13) | C14: =IF($C13="", "", $C13) | D14: =IF($D13="", "", $D13) | E14: =IF($E13="", "", $E13) | F14: =IF($F13="", "", $F13) | G14: =IF(Tree_Table1[[#This Row],[Tree Status &]]="Retain", Tables!$B$237, IF(Tree_Table1[[#This Row],[Tree Status &]]="Remove", Tables!$B$238, "")) | K14: =IFERROR( IF( AND($H14="Zoning: Tree Points", NOT(ISNUMBER(SEARCH("sp.", $C14)))), VLOOKUP($C14, 'Tree List'!$C$3:$F$601, 4, FALSE), "" ), "") | L14: {=IFERROR( IF( AND($H14="Zoning: Tree Points", NOT(ISNUMBER(SEARCH("sp.", $C14)))), _xlfn.IFS( (COUNTIFS('Tree List'!$C$3:$C$601,$C14,'Tree List'!$D$3:$D$601,"Coniferous") + COUNTIFS('Tree List'!$C$3:$C$601,$C14,'Tree List'!$D$3:$D$601,"Deciduous Conifer")) > 0, _xlfn.IFS($K14="Small",0.5,$K14="Small/Medium",1,$K14="Medium/Large",1.4,$K14="Large",1.8), (COUNTIFS('Tree List'!$C$3:$C$601,$C14,'Tree List'!$D$3:$D$601,"Deciduous") + COUNTIFS('Tree List'!$C$3:$C$601,$C14,'Tree List'!$D$3:$D$601,"Broadleaf Evergreen")) > 0, _xlfn.IFS($K14="Small",0.4,$K14="Small/Medium",0.8,$K14="Medium/Large",1.2,$K14="Large",1.6) ), "" ), "")} | M14: =IFERROR($D14*$L14,"") | N14: {=_xlfn.LET( _xlpm.r,ROW(), _xlpm.blockIndex,INT((_xlpm.r-11)/4), _xlpm.baseRow,MOD(_xlpm.r-11,4)=0, _xlpm.baseStart,_xlpm.blockIndex*4+11, _xlpm.baseEnd,_xlpm.baseStart+3, _xlpm.HRange,INDEX($H:$H,_xlpm.baseStart):INDEX($H:$H,_xlpm.baseEnd), _xlpm.hasDM,ISNUMBER(SEARCH("DM",$I$2)), _xlpm.hasCN,ISNUMBER(SEARCH("CN",$I$2)), _xlpm.hasPH,ISNUMBER(SEARCH("PH",$I$2)), _xlpm.hasGR,ISNUMBER(SEARCH("GR",$I$2)), _xlpm.ECA_H,COUNTIF(_xlpm.HRange,"Environmental Critical Area (ECA)"), _xlpm.Shore_H,COUNTIF(_xlpm.HRange,"Shoreline"), _xlpm.TreePoints_H,COUNTIF(_xlpm.HRange,"Zoning: Tree Points"), _xlpm.GF_H,COUNTIF(_xlpm.HRange,"Zoning: Green Factor"), _xlpm.ECA_Short,COUNTIF(_xlpm.HRange,"Environmental Critical Area / Shoreline"), _xlpm.uniqueH,COUNTA(_xlfn.UNIQUE(_xlfn._xlws.FILTER(_xlpm.HRange,_xlpm.HRange<>""))), IFERROR( IF(AND(_xlpm.baseRow,ISNA(MATCH($C14,'Tree List'!$C$3:$C$601,0)),SUMPRODUCT(--ISNUMBER(SEARCH(Tables2!$C$677:$C$772,$O14)))>0), Error!$B$57, IF(AND(_xlpm.hasDM,$F14="Remove",$H14<>"",OR($I14="On-site replacement",$I14="Off-site replacement",$I14="Payment In Lieu")), Error!$B$56, IF(AND(_xlpm.hasDM,$F14="Remove",$H14<>"",$I14="Relocation"), Error!$B$66, IF(AND(OR(_xlpm.hasCN,_xlpm.hasPH,_xlpm.hasGR),$H14<>"",COUNTIF(Tables!$B$132:$B$134,$H14)>0,$I14="N/A (No replacement required)"), Error!$B$62, IF(AND(_xlpm.baseRow,$E14<>"",ISNA(MATCH($E14,Tables!$B$225:$B$232,0))), Error!$B$2, IF(AND(_xlpm.baseRow,$F14<>"",ISNA(MATCH($F14,Tables!$B$234:$B$235,0))), Error!$B$24, IF(AND(_xlpm.baseRow,_xlpm.ECA_H>0,_xlpm.Shore_H>0), Error!$B$16, IF(AND(_xlpm.baseRow,$E14<>"",$D14=""), Error!$B$3, IF(AND(_xlpm.baseRow,OR($E14="Tier 3",$E14="Tier 4"),$C14<>"",$D14>=24,COUNTIF(Tables2!$B$166:$B$674,$C14)>0), Error!$B$44, IF(AND(_xlpm.baseRow,OR($E14="Tier 3",$E14="Tier 4"),$C14<>"",$D14<>"",COUNTIF(Tables2!$B$73:$B$152,$C14)>0, $D14>=IFERROR(INDEX(Tables2!$C$73:$C$152,MATCH($C14,Tables2!$B$73:$B$152,0)),-1)), Error!$B$44, IF(AND(_xlpm.baseRow,OR($E14="Tier 2",$E14="Tier 2 Grove"),$C14<>"",$D14>=12,COUNTIF(Tables2!$B$153:$B$162,$C14)>0), Error!$B$45, IF(AND(_xlpm.baseRow,$E14="Tier 2 Grove",$D14<12), Error!$B$41, IF(AND(_xlpm.baseRow,$E14="Tier 2",$D14<5.88), Error!$B$40, IF(AND(_xlpm.baseRow,OR($E14="Tier 2",$E14="Tier 2 Grove"),$C14<>"",$D14<12,$D14>=6,COUNTIF(Tables2!$B$153:$B$162,$C14)>0), Error!$B$54, IF(AND(_xlpm.baseRow,$E14="Tier 2",COUNTIF(Tables2!$B$166:$B$674,$C14)>0,$D14<24), Error!$B$54, IF(AND(_xlpm.baseRow,$E14="Tier 3",ISNA(MATCH($C14,Tables2!$B$153:$B$162,0)),OR($D14<12,$D14>=24)), Error!$B$9, IF(AND(_xlpm.baseRow,$E14="Tier 3",COUNTIF(Tables2!$B$153:$B$162,$C14)>0,$D14<12), Error!$B$46, IF(AND(_xlpm.baseRow,$E14="Tier 4",OR($D14<6,$D14>=12)), Error!$B$10, IF(AND(_xlpm.baseRow,$E14="<6in DSH for Tree Points",OR($D14>=6,$D14="")), Error!$B$8, IF(AND(_xlpm.baseRow,$E14="Street Tree for Green Factor",$F14<>"",$F14<>"Retain"), Error!$B$14, IF(AND($E14="<6in DSH for Tree Points",$F14="Retain",$H14<>"",ISNA(MATCH($H14,Tables!$B$174:$B$174,0))), Error!$B$15, IF(AND($E14="Street Tree for Green Factor",$F14="Retain",$H14<>"",$H14<>"Zoning: Green Factor"), Error!$B$15, IF(AND($E14="ECA / Shoreline Tree",$F14="Remove",$H14<>"",ISNA(MATCH($H14,Tables!$B$189:$B$190,0))), Error!$B$15, IF(AND($E14="ECA / Shoreline Tree",$F14="Retain",$H14<>"",ISNA(MATCH($H14,Tables!$B$184:$B$186,0))), Error!$B$15, IF(AND($E14="Tier 4",$F14="Remove",$H14<>"",ISNA(MATCH($H14,Tables!$B$171,0))), Error!$B$15, IF(AND($E14="Tier 4",$F14="Retain",$H14<>"",ISNA(MATCH($H14,Tables!$B$166:$B$168,0))), Error!$B$15, IF(AND($E14="Tier 3",$F14="Retain",$H14<>"",ISNA(MATCH($H14,Tables!$B$158:$B$160,0))), Error!$B$15, IF(AND($E14="Tier 3",$F14="Remove",$H14<>"",ISNA(MATCH($H14,Tables!$B$163,0))), Error!$B$15, IF(AND(OR($E14="Tier 2",$E14="Tier 2 Grove"),$F14="Remove",$H14<>"",ISNA(MATCH($H14,Tables!$B$153:$B$155,0))), Error!$B$15, IF(AND(OR($E14="Tier 2",$E14="Tier 2 Grove"),$F14="Retain",$H14<>"",ISNA(MATCH($H14,Tables!$B$147:$B$150,0))), Error!$B$15, IF(AND($E14="Tier 1",$F14="Remove",$H14<>"",ISNA(MATCH($H14,Tables!$B$143:$B$144,0))), Error!$B$15, IF(AND($E14="Tier 1",$F14="Retain",$H14<>"",ISNA(MATCH($H14,Tables!$B$137:$B$140,0))), Error!$B$15, IF(AND($E14<>"Tier 2",$E14<>"Tier 2 Grove",$E14<>"Tier 3",$E14<>"Tier 4",$H14="Zoning: Green Factor",OR($D14="",$D14<6)), Error!$B$11, IF(AND(_xlpm.baseRow,$D14<6,$E14="<6in DSH for Tree Points",_xlpm.TreePoints_H=0), Error!$B$21, IF(AND(_xlpm.baseRow,$E14<>"",$D14<>"",$F14=""), Error!$B$4, IF(AND(_xlpm.baseRow,$F14="Remove",OR($E14="Tier 1",$E14="Tier 2",$E14="Tier 2 Grove"),COUNTBLANK(_xlpm.HRange)<3,_xlpm.uniqueH>=2), Error!$B$48, IF(AND(_xlpm.baseRow,$F14="Retain",OR($E14="Tier 1",$E14="Tier 2",$E14="Tier 2 Grove"),COUNTIF(_xlpm.HRange,"Tree Code: Required to Retain Tier 1-2 Tree")=0), Error!$B$47, IF(AND(_xlpm.baseRow,$E14<>"",$D14<>"",$F14<>"",COUNTBLANK(_xlpm.HRange)=4), Error!$B$5, IF(AND($F14="Remove",$H14<>"",$I14=""), Error!$B$18, IF(AND($E14="Tier 4",$F14="Remove",$H14="Tree Protection Code: Tier 3 or Tier 4 Allowance",$H14<>"",ISNA(MATCH($I14,Tables!$B$200,0))), Error!$B$17, IF(AND($E14="Tier 3",$F14="Remove",$H14<>"",$H14="Tree Protection Code: Tier 3 or Tier 4 Allowance",OR($I14="",ISNA(MATCH($I14,Tables!$B$193:$B$197,0)))), Error!$B$17, IF(AND(OR($E14="Tier 2",$E14="Tier 2 Grove"),$F14="Remove",$H14="Tree Protection Code: Other removal allowance or exemption",$I14<>"",ISNA(MATCH($I14,Tables!$B$215:$B$218,0))), Error!$B$17, IF(AND(OR($E14="Tier 2",$E14="Tier 2 Grove"),$F14="Remove",$H14="Tree Protection Code: Development Capacity",$I14<>"",ISNA(MATCH($I14,Tables!$B$193:$B$197,0))), Error!$B$17, IF(AND(OR($E14="Tier 2",$E14="Tier 2 Grove"),$F14="Remove",$H14="Tree Protection Code: Necessary for Construction",$I14<>"",ISNA(MATCH($I14,Tables!$B$193:$B$197,0))), Error!$B$17, IF(AND($E14="Tier 1",$F14="Remove",$H14="Tree Protection Code: Special Exception",$I14<>"",ISNA(MATCH($I14,Tables!$B$215:$B$218,0))), Error!$B$17, IF(AND($E14="Tier 1",$F14="Remove",$H14="Tree Protection Code: Other removal allowance or exemption",$I14<>"",ISNA(MATCH($I14,Tables!$B$215:$B$218,0))), Error!$B$17, IF(AND($E14="ECA / Shoreline Tree",$F14="Remove",$H14<>"",OR($H14="Shoreline",$H14="Environmental Critical Area (ECA)"),ISNA(MATCH($I14,Tables!$B$209:$B$212,0))), Error!$B$17, IF(AND(_xlpm.baseRow,$F14="Retain",$E14="ECA / Shoreline Tree",_xlpm.ECA_Short=0), Error!$B$61, IF(AND($F14="Remove",ISNUMBER(MATCH($E14,{"Tier 1","Tier 2","Tier 3","Tier 4","Tier 2 Grove"},0)),ISNUMBER(MATCH($I14,{"On-site replacement","Off-site replacement"},0)),$J14="",$H14<>""), Error!$B$19, IF(AND(_xlpm.baseRow,$E14<>"",$D14<>"",$F14<>"",COUNTBLANK($B14:$C14)>0,COUNTBLANK(_xlpm.HRange)<>4), Error!$B$22, IF(AND($H14="Zoning: Tree Points",$K14<>"",ISNA(MATCH($K14,Tables!$B$242:$B$253,0))), Error!$B$58, IF(AND($H14="Zoning: Tree Points",$K14="Small",$L14<>"",ISNA(MATCH($L14,Tables!$C$243:$C$244,0))), Error!$B$59, IF(AND($H14="Zoning: Tree Points",$K14="Small/Medium",$L14<>"",ISNA(MATCH($L14,Tables!$C$246:$C$247,0))), Error!$B$59, IF(AND($H14="Zoning: Tree Points",$K14="Medium/Large",$L14<>"",ISNA(MATCH($L14,Tables!$C$249:$C$250,0))), Error!$B$59, IF(AND($H14="Zoning: Tree Points",$K14="Large",$L14<>"",ISNA(MATCH($L14,Tables!$C$252:$C$253,0))), Error!$B$59, IF(AND($F14="Retain",$H14="Zoning: Tree Points",$C14<>"",$D14<>"",OR($K14="",$L14="",$M14="")), Error!$B$20, "" )))))))))))))))))))))))))))))))))))))))))))))))))))))))), Error!$B$23))} | O14: {=IFERROR(_xlfn.LET( _xlpm.txt, $C14, _xlpm.chars, MID(_xlpm.txt, ROW(INDIRECT("1:" & LEN(_xlpm.txt))), 1), _xlpm.validChars, "0123456789ABCDEFGHIJKLMNOPQRSTUVWXYZabcdefghijklmnopqrstuvwxyz", _xlpm.isValid, ISNUMBER(MATCH(_xlpm.chars, MID(_xlpm.validChars, ROW(INDIRECT("1:" & LEN(_xlpm.validChars))), 1), 0)), _xlfn.TEXTJOIN("", TRUE, IF(_xlpm.isValid, _xlpm.chars, "")) ),"")}
A15: 2 | G15: =IF(Tree_Table1[[#This Row],[Tree Status &]]="Retain", Tables!$B$237, IF(Tree_Table1[[#This Row],[Tree Status &]]="Remove", Tables!$B$238, "")) | K15: =IFERROR( IF( AND($H15="Zoning: Tree Points", NOT(ISNUMBER(SEARCH("sp.", $C15)))), VLOOKUP($C15, 'Tree List'!$C$3:$F$601, 4, FALSE), "" ), "") | L15: {=IFERROR( IF( AND($H15="Zoning: Tree Points", NOT(ISNUMBER(SEARCH("sp.", $C15)))), _xlfn.IFS( (COUNTIFS('Tree List'!$C$3:$C$601,$C15,'Tree List'!$D$3:$D$601,"Coniferous") + COUNTIFS('Tree List'!$C$3:$C$601,$C15,'Tree List'!$D$3:$D$601,"Deciduous Conifer")) > 0, _xlfn.IFS($K15="Small",0.5,$K15="Small/Medium",1,$K15="Medium/Large",1.4,$K15="Large",1.8), (COUNTIFS('Tree List'!$C$3:$C$601,$C15,'Tree List'!$D$3:$D$601,"Deciduous") + COUNTIFS('Tree List'!$C$3:$C$601,$C15,'Tree List'!$D$3:$D$601,"Broadleaf Evergreen")) > 0, _xlfn.IFS($K15="Small",0.4,$K15="Small/Medium",0.8,$K15="Medium/Large",1.2,$K15="Large",1.6) ), "" ), "")} | M15: =IFERROR($D15*$L15,"") | N15: {=_xlfn.LET( _xlpm.r,ROW(), _xlpm.blockIndex,INT((_xlpm.r-11)/4), _xlpm.baseRow,MOD(_xlpm.r-11,4)=0, _xlpm.baseStart,_xlpm.blockIndex*4+11, _xlpm.baseEnd,_xlpm.baseStart+3, _xlpm.HRange,INDEX($H:$H,_xlpm.baseStart):INDEX($H:$H,_xlpm.baseEnd), _xlpm.hasDM,ISNUMBER(SEARCH("DM",$I$2)), _xlpm.hasCN,ISNUMBER(SEARCH("CN",$I$2)), _xlpm.hasPH,ISNUMBER(SEARCH("PH",$I$2)), _xlpm.hasGR,ISNUMBER(SEARCH("GR",$I$2)), _xlpm.ECA_H,COUNTIF(_xlpm.HRange,"Environmental Critical Area (ECA)"), _xlpm.Shore_H,COUNTIF(_xlpm.HRange,"Shoreline"), _xlpm.TreePoints_H,COUNTIF(_xlpm.HRange,"Zoning: Tree Points"), _xlpm.GF_H,COUNTIF(_xlpm.HRange,"Zoning: Green Factor"), _xlpm.ECA_Short,COUNTIF(_xlpm.HRange,"Environmental Critical Area / Shoreline"), _xlpm.uniqueH,COUNTA(_xlfn.UNIQUE(_xlfn._xlws.FILTER(_xlpm.HRange,_xlpm.HRange<>""))), IFERROR( IF(AND(_xlpm.baseRow,ISNA(MATCH($C15,'Tree List'!$C$3:$C$601,0)),SUMPRODUCT(--ISNUMBER(SEARCH(Tables2!$C$677:$C$772,$O15)))>0), Error!$B$57, IF(AND(_xlpm.hasDM,$F15="Remove",$H15<>"",OR($I15="On-site replacement",$I15="Off-site replacement",$I15="Payment In Lieu")), Error!$B$56, IF(AND(_xlpm.hasDM,$F15="Remove",$H15<>"",$I15="Relocation"), Error!$B$66, IF(AND(OR(_xlpm.hasCN,_xlpm.hasPH,_xlpm.hasGR),$H15<>"",COUNTIF(Tables!$B$132:$B$134,$H15)>0,$I15="N/A (No replacement required)"), Error!$B$62, IF(AND(_xlpm.baseRow,$E15<>"",ISNA(MATCH($E15,Tables!$B$225:$B$232,0))), Error!$B$2, IF(AND(_xlpm.baseRow,$F15<>"",ISNA(MATCH($F15,Tables!$B$234:$B$235,0))), Error!$B$24, IF(AND(_xlpm.baseRow,_xlpm.ECA_H>0,_xlpm.Shore_H>0), Error!$B$16, IF(AND(_xlpm.baseRow,$E15<>"",$D15=""), Error!$B$3, IF(AND(_xlpm.baseRow,OR($E15="Tier 3",$E15="Tier 4"),$C15<>"",$D15>=24,COUNTIF(Tables2!$B$166:$B$674,$C15)>0), Error!$B$44, IF(AND(_xlpm.baseRow,OR($E15="Tier 3",$E15="Tier 4"),$C15<>"",$D15<>"",COUNTIF(Tables2!$B$73:$B$152,$C15)>0, $D15>=IFERROR(INDEX(Tables2!$C$73:$C$152,MATCH($C15,Tables2!$B$73:$B$152,0)),-1)), Error!$B$44, IF(AND(_xlpm.baseRow,OR($E15="Tier 2",$E15="Tier 2 Grove"),$C15<>"",$D15>=12,COUNTIF(Tables2!$B$153:$B$162,$C15)>0), Error!$B$45, IF(AND(_xlpm.baseRow,$E15="Tier 2 Grove",$D15<12), Error!$B$41, IF(AND(_xlpm.baseRow,$E15="Tier 2",$D15<5.88), Error!$B$40, IF(AND(_xlpm.baseRow,OR($E15="Tier 2",$E15="Tier 2 Grove"),$C15<>"",$D15<12,$D15>=6,COUNTIF(Tables2!$B$153:$B$162,$C15)>0), Error!$B$54, IF(AND(_xlpm.baseRow,$E15="Tier 2",COUNTIF(Tables2!$B$166:$B$674,$C15)>0,$D15<24), Error!$B$54, IF(AND(_xlpm.baseRow,$E15="Tier 3",ISNA(MATCH($C15,Tables2!$B$153:$B$162,0)),OR($D15<12,$D15>=24)), Error!$B$9, IF(AND(_xlpm.baseRow,$E15="Tier 3",COUNTIF(Tables2!$B$153:$B$162,$C15)>0,$D15<12), Error!$B$46, IF(AND(_xlpm.baseRow,$E15="Tier 4",OR($D15<6,$D15>=12)), Error!$B$10, IF(AND(_xlpm.baseRow,$E15="<6in DSH for Tree Points",OR($D15>=6,$D15="")), Error!$B$8, IF(AND(_xlpm.baseRow,$E15="Street Tree for Green Factor",$F15<>"",$F15<>"Retain"), Error!$B$14, IF(AND($E15="<6in DSH for Tree Points",$F15="Retain",$H15<>"",ISNA(MATCH($H15,Tables!$B$174:$B$174,0))), Error!$B$15, IF(AND($E15="Street Tree for Green Factor",$F15="Retain",$H15<>"",$H15<>"Zoning: Green Factor"), Error!$B$15, IF(AND($E15="ECA / Shoreline Tree",$F15="Remove",$H15<>"",ISNA(MATCH($H15,Tables!$B$189:$B$190,0))), Error!$B$15, IF(AND($E15="ECA / Shoreline Tree",$F15="Retain",$H15<>"",ISNA(MATCH($H15,Tables!$B$184:$B$186,0))), Error!$B$15, IF(AND($E15="Tier 4",$F15="Remove",$H15<>"",ISNA(MATCH($H15,Tables!$B$171,0))), Error!$B$15, IF(AND($E15="Tier 4",$F15="Retain",$H15<>"",ISNA(MATCH($H15,Tables!$B$166:$B$168,0))), Error!$B$15, IF(AND($E15="Tier 3",$F15="Retain",$H15<>"",ISNA(MATCH($H15,Tables!$B$158:$B$160,0))), Error!$B$15, IF(AND($E15="Tier 3",$F15="Remove",$H15<>"",ISNA(MATCH($H15,Tables!$B$163,0))), Error!$B$15, IF(AND(OR($E15="Tier 2",$E15="Tier 2 Grove"),$F15="Remove",$H15<>"",ISNA(MATCH($H15,Tables!$B$153:$B$155,0))), Error!$B$15, IF(AND(OR($E15="Tier 2",$E15="Tier 2 Grove"),$F15="Retain",$H15<>"",ISNA(MATCH($H15,Tables!$B$147:$B$150,0))), Error!$B$15, IF(AND($E15="Tier 1",$F15="Remove",$H15<>"",ISNA(MATCH($H15,Tables!$B$143:$B$144,0))), Error!$B$15, IF(AND($E15="Tier 1",$F15="Retain",$H15<>"",ISNA(MATCH($H15,Tables!$B$137:$B$140,0))), Error!$B$15, IF(AND($E15<>"Tier 2",$E15<>"Tier 2 Grove",$E15<>"Tier 3",$E15<>"Tier 4",$H15="Zoning: Green Factor",OR($D15="",$D15<6)), Error!$B$11, IF(AND(_xlpm.baseRow,$D15<6,$E15="<6in DSH for Tree Points",_xlpm.TreePoints_H=0), Error!$B$21, IF(AND(_xlpm.baseRow,$E15<>"",$D15<>"",$F15=""), Error!$B$4, IF(AND(_xlpm.baseRow,$F15="Remove",OR($E15="Tier 1",$E15="Tier 2",$E15="Tier 2 Grove"),COUNTBLANK(_xlpm.HRange)<3,_xlpm.uniqueH>=2), Error!$B$48, IF(AND(_xlpm.baseRow,$F15="Retain",OR($E15="Tier 1",$E15="Tier 2",$E15="Tier 2 Grove"),COUNTIF(_xlpm.HRange,"Tree Code: Required to Retain Tier 1-2 Tree")=0), Error!$B$47, IF(AND(_xlpm.baseRow,$E15<>"",$D15<>"",$F15<>"",COUNTBLANK(_xlpm.HRange)=4), Error!$B$5, IF(AND($F15="Remove",$H15<>"",$I15=""), Error!$B$18, IF(AND($E15="Tier 4",$F15="Remove",$H15="Tree Protection Code: Tier 3 or Tier 4 Allowance",$H15<>"",ISNA(MATCH($I15,Tables!$B$200,0))), Error!$B$17, IF(AND($E15="Tier 3",$F15="Remove",$H15<>"",$H15="Tree Protection Code: Tier 3 or Tier 4 Allowance",OR($I15="",ISNA(MATCH($I15,Tables!$B$193:$B$197,0)))), Error!$B$17, IF(AND(OR($E15="Tier 2",$E15="Tier 2 Grove"),$F15="Remove",$H15="Tree Protection Code: Other removal allowance or exemption",$I15<>"",ISNA(MATCH($I15,Tables!$B$215:$B$218,0))), Error!$B$17, IF(AND(OR($E15="Tier 2",$E15="Tier 2 Grove"),$F15="Remove",$H15="Tree Protection Code: Development Capacity",$I15<>"",ISNA(MATCH($I15,Tables!$B$193:$B$197,0))), Error!$B$17, IF(AND(OR($E15="Tier 2",$E15="Tier 2 Grove"),$F15="Remove",$H15="Tree Protection Code: Necessary for Construction",$I15<>"",ISNA(MATCH($I15,Tables!$B$193:$B$197,0))), Error!$B$17, IF(AND($E15="Tier 1",$F15="Remove",$H15="Tree Protection Code: Special Exception",$I15<>"",ISNA(MATCH($I15,Tables!$B$215:$B$218,0))), Error!$B$17, IF(AND($E15="Tier 1",$F15="Remove",$H15="Tree Protection Code: Other removal allowance or exemption",$I15<>"",ISNA(MATCH($I15,Tables!$B$215:$B$218,0))), Error!$B$17, IF(AND($E15="ECA / Shoreline Tree",$F15="Remove",$H15<>"",OR($H15="Shoreline",$H15="Environmental Critical Area (ECA)"),ISNA(MATCH($I15,Tables!$B$209:$B$212,0))), Error!$B$17, IF(AND(_xlpm.baseRow,$F15="Retain",$E15="ECA / Shoreline Tree",_xlpm.ECA_Short=0), Error!$B$61, IF(AND($F15="Remove",ISNUMBER(MATCH($E15,{"Tier 1","Tier 2","Tier 3","Tier 4","Tier 2 Grove"},0)),ISNUMBER(MATCH($I15,{"On-site replacement","Off-site replacement"},0)),$J15="",$H15<>""), Error!$B$19, IF(AND(_xlpm.baseRow,$E15<>"",$D15<>"",$F15<>"",COUNTBLANK($B15:$C15)>0,COUNTBLANK(_xlpm.HRange)<>4), Error!$B$22, IF(AND($H15="Zoning: Tree Points",$K15<>"",ISNA(MATCH($K15,Tables!$B$242:$B$253,0))), Error!$B$58, IF(AND($H15="Zoning: Tree Points",$K15="Small",$L15<>"",ISNA(MATCH($L15,Tables!$C$243:$C$244,0))), Error!$B$59, IF(AND($H15="Zoning: Tree Points",$K15="Small/Medium",$L15<>"",ISNA(MATCH($L15,Tables!$C$246:$C$247,0))), Error!$B$59, IF(AND($H15="Zoning: Tree Points",$K15="Medium/Large",$L15<>"",ISNA(MATCH($L15,Tables!$C$249:$C$250,0))), Error!$B$59, IF(AND($H15="Zoning: Tree Points",$K15="Large",$L15<>"",ISNA(MATCH($L15,Tables!$C$252:$C$253,0))), Error!$B$59, IF(AND($F15="Retain",$H15="Zoning: Tree Points",$C15<>"",$D15<>"",OR($K15="",$L15="",$M15="")), Error!$B$20, "" )))))))))))))))))))))))))))))))))))))))))))))))))))))))), Error!$B$23))} | O15: {=IFERROR(_xlfn.LET( _xlpm.txt, $C15, _xlpm.chars, MID(_xlpm.txt, ROW(INDIRECT("1:" & LEN(_xlpm.txt))), 1), _xlpm.validChars, "0123456789ABCDEFGHIJKLMNOPQRSTUVWXYZabcdefghijklmnopqrstuvwxyz", _xlpm.isValid, ISNUMBER(MATCH(_xlpm.chars, MID(_xlpm.validChars, ROW(INDIRECT("1:" & LEN(_xlpm.validChars))), 1), 0)), _xlfn.TEXTJOIN("", TRUE, IF(_xlpm.isValid, _xlpm.chars, "")) ),"")}
B16: =IF($B15="", "", $B15) | C16: =IF($C15="", "", $C15) | D16: =IF($D15="", "", $D15) | E16: =IF($E15="", "", $E15) | F16: =IF($F15="", "", $F15) | G16: =IF(Tree_Table1[[#This Row],[Tree Status &]]="Retain", Tables!$B$237, IF(Tree_Table1[[#This Row],[Tree Status &]]="Remove", Tables!$B$238, "")) | K16: =IFERROR( IF( AND($H16="Zoning: Tree Points", NOT(ISNUMBER(SEARCH("sp.", $C16)))), VLOOKUP($C16, 'Tree List'!$C$3:$F$601, 4, FALSE), "" ), "") | L16: {=IFERROR( IF( AND($H16="Zoning: Tree Points", NOT(ISNUMBER(SEARCH("sp.", $C16)))), _xlfn.IFS( (COUNTIFS('Tree List'!$C$3:$C$601,$C16,'Tree List'!$D$3:$D$601,"Coniferous") + COUNTIFS('Tree List'!$C$3:$C$601,$C16,'Tree List'!$D$3:$D$601,"Deciduous Conifer")) > 0, _xlfn.IFS($K16="Small",0.5,$K16="Small/Medium",1,$K16="Medium/Large",1.4,$K16="Large",1.8), (COUNTIFS('Tree List'!$C$3:$C$601,$C16,'Tree List'!$D$3:$D$601,"Deciduous") + COUNTIFS('Tree List'!$C$3:$C$601,$C16,'Tree List'!$D$3:$D$601,"Broadleaf Evergreen")) > 0, _xlfn.IFS($K16="Small",0.4,$K16="Small/Medium",0.8,$K16="Medium/Large",1.2,$K16="Large",1.6) ), "" ), "")} | M16: =IFERROR($D16*$L16,"") | N16: {=_xlfn.LET( _xlpm.r,ROW(), _xlpm.blockIndex,INT((_xlpm.r-11)/4), _xlpm.baseRow,MOD(_xlpm.r-11,4)=0, _xlpm.baseStart,_xlpm.blockIndex*4+11, _xlpm.baseEnd,_xlpm.baseStart+3, _xlpm.HRange,INDEX($H:$H,_xlpm.baseStart):INDEX($H:$H,_xlpm.baseEnd), _xlpm.hasDM,ISNUMBER(SEARCH("DM",$I$2)), _xlpm.hasCN,ISNUMBER(SEARCH("CN",$I$2)), _xlpm.hasPH,ISNUMBER(SEARCH("PH",$I$2)), _xlpm.hasGR,ISNUMBER(SEARCH("GR",$I$2)), _xlpm.ECA_H,COUNTIF(_xlpm.HRange,"Environmental Critical Area (ECA)"), _xlpm.Shore_H,COUNTIF(_xlpm.HRange,"Shoreline"), _xlpm.TreePoints_H,COUNTIF(_xlpm.HRange,"Zoning: Tree Points"), _xlpm.GF_H,COUNTIF(_xlpm.HRange,"Zoning: Green Factor"), _xlpm.ECA_Short,COUNTIF(_xlpm.HRange,"Environmental Critical Area / Shoreline"), _xlpm.uniqueH,COUNTA(_xlfn.UNIQUE(_xlfn._xlws.FILTER(_xlpm.HRange,_xlpm.HRange<>""))), IFERROR( IF(AND(_xlpm.baseRow,ISNA(MATCH($C16,'Tree List'!$C$3:$C$601,0)),SUMPRODUCT(--ISNUMBER(SEARCH(Tables2!$C$677:$C$772,$O16)))>0), Error!$B$57, IF(AND(_xlpm.hasDM,$F16="Remove",$H16<>"",OR($I16="On-site replacement",$I16="Off-site replacement",$I16="Payment In Lieu")), Error!$B$56, IF(AND(_xlpm.hasDM,$F16="Remove",$H16<>"",$I16="Relocation"), Error!$B$66, IF(AND(OR(_xlpm.hasCN,_xlpm.hasPH,_xlpm.hasGR),$H16<>"",COUNTIF(Tables!$B$132:$B$134,$H16)>0,$I16="N/A (No replacement required)"), Error!$B$62, IF(AND(_xlpm.baseRow,$E16<>"",ISNA(MATCH($E16,Tables!$B$225:$B$232,0))), Error!$B$2, IF(AND(_xlpm.baseRow,$F16<>"",ISNA(MATCH($F16,Tables!$B$234:$B$235,0))), Error!$B$24, IF(AND(_xlpm.baseRow,_xlpm.ECA_H>0,_xlpm.Shore_H>0), Error!$B$16, IF(AND(_xlpm.baseRow,$E16<>"",$D16=""), Error!$B$3, IF(AND(_xlpm.baseRow,OR($E16="Tier 3",$E16="Tier 4"),$C16<>"",$D16>=24,COUNTIF(Tables2!$B$166:$B$674,$C16)>0), Error!$B$44, IF(AND(_xlpm.baseRow,OR($E16="Tier 3",$E16="Tier 4"),$C16<>"",$D16<>"",COUNTIF(Tables2!$B$73:$B$152,$C16)>0, $D16>=IFERROR(INDEX(Tables2!$C$73:$C$152,MATCH($C16,Tables2!$B$73:$B$152,0)),-1)), Error!$B$44, IF(AND(_xlpm.baseRow,OR($E16="Tier 2",$E16="Tier 2 Grove"),$C16<>"",$D16>=12,COUNTIF(Tables2!$B$153:$B$162,$C16)>0), Error!$B$45, IF(AND(_xlpm.baseRow,$E16="Tier 2 Grove",$D16<12), Error!$B$41, IF(AND(_xlpm.baseRow,$E16="Tier 2",$D16<5.88), Error!$B$40, IF(AND(_xlpm.baseRow,OR($E16="Tier 2",$E16="Tier 2 Grove"),$C16<>"",$D16<12,$D16>=6,COUNTIF(Tables2!$B$153:$B$162,$C16)>0), Error!$B$54, IF(AND(_xlpm.baseRow,$E16="Tier 2",COUNTIF(Tables2!$B$166:$B$674,$C16)>0,$D16<24), Error!$B$54, IF(AND(_xlpm.baseRow,$E16="Tier 3",ISNA(MATCH($C16,Tables2!$B$153:$B$162,0)),OR($D16<12,$D16>=24)), Error!$B$9, IF(AND(_xlpm.baseRow,$E16="Tier 3",COUNTIF(Tables2!$B$153:$B$162,$C16)>0,$D16<12), Error!$B$46, IF(AND(_xlpm.baseRow,$E16="Tier 4",OR($D16<6,$D16>=12)), Error!$B$10, IF(AND(_xlpm.baseRow,$E16="<6in DSH for Tree Points",OR($D16>=6,$D16="")), Error!$B$8, IF(AND(_xlpm.baseRow,$E16="Street Tree for Green Factor",$F16<>"",$F16<>"Retain"), Error!$B$14, IF(AND($E16="<6in DSH for Tree Points",$F16="Retain",$H16<>"",ISNA(MATCH($H16,Tables!$B$174:$B$174,0))), Error!$B$15, IF(AND($E16="Street Tree for Green Factor",$F16="Retain",$H16<>"",$H16<>"Zoning: Green Factor"), Error!$B$15, IF(AND($E16="ECA / Shoreline Tree",$F16="Remove",$H16<>"",ISNA(MATCH($H16,Tables!$B$189:$B$190,0))), Error!$B$15, IF(AND($E16="ECA / Shoreline Tree",$F16="Retain",$H16<>"",ISNA(MATCH($H16,Tables!$B$184:$B$186,0))), Error!$B$15, IF(AND($E16="Tier 4",$F16="Remove",$H16<>"",ISNA(MATCH($H16,Tables!$B$171,0))), Error!$B$15, IF(AND($E16="Tier 4",$F16="Retain",$H16<>"",ISNA(MATCH($H16,Tables!$B$166:$B$168,0))), Error!$B$15, IF(AND($E16="Tier 3",$F16="Retain",$H16<>"",ISNA(MATCH($H16,Tables!$B$158:$B$160,0))), Error!$B$15, IF(AND($E16="Tier 3",$F16="Remove",$H16<>"",ISNA(MATCH($H16,Tables!$B$163,0))), Error!$B$15, IF(AND(OR($E16="Tier 2",$E16="Tier 2 Grove"),$F16="Remove",$H16<>"",ISNA(MATCH($H16,Tables!$B$153:$B$155,0))), Error!$B$15, IF(AND(OR($E16="Tier 2",$E16="Tier 2 Grove"),$F16="Retain",$H16<>"",ISNA(MATCH($H16,Tables!$B$147:$B$150,0))), Error!$B$15, IF(AND($E16="Tier 1",$F16="Remove",$H16<>"",ISNA(MATCH($H16,Tables!$B$143:$B$144,0))), Error!$B$15, IF(AND($E16="Tier 1",$F16="Retain",$H16<>"",ISNA(MATCH($H16,Tables!$B$137:$B$140,0))), Error!$B$15, IF(AND($E16<>"Tier 2",$E16<>"Tier 2 Grove",$E16<>"Tier 3",$E16<>"Tier 4",$H16="Zoning: Green Factor",OR($D16="",$D16<6)), Error!$B$11, IF(AND(_xlpm.baseRow,$D16<6,$E16="<6in DSH for Tree Points",_xlpm.TreePoints_H=0), Error!$B$21, IF(AND(_xlpm.baseRow,$E16<>"",$D16<>"",$F16=""), Error!$B$4, IF(AND(_xlpm.baseRow,$F16="Remove",OR($E16="Tier 1",$E16="Tier 2",$E16="Tier 2 Grove"),COUNTBLANK(_xlpm.HRange)<3,_xlpm.uniqueH>=2), Error!$B$48, IF(AND(_xlpm.baseRow,$F16="Retain",OR($E16="Tier 1",$E16="Tier 2",$E16="Tier 2 Grove"),COUNTIF(_xlpm.HRange,"Tree Code: Required to Retain Tier 1-2 Tree")=0), Error!$B$47, IF(AND(_xlpm.baseRow,$E16<>"",$D16<>"",$F16<>"",COUNTBLANK(_xlpm.HRange)=4), Error!$B$5, IF(AND($F16="Remove",$H16<>"",$I16=""), Error!$B$18, IF(AND($E16="Tier 4",$F16="Remove",$H16="Tree Protection Code: Tier 3 or Tier 4 Allowance",$H16<>"",ISNA(MATCH($I16,Tables!$B$200,0))), Error!$B$17, IF(AND($E16="Tier 3",$F16="Remove",$H16<>"",$H16="Tree Protection Code: Tier 3 or Tier 4 Allowance",OR($I16="",ISNA(MATCH($I16,Tables!$B$193:$B$197,0)))), Error!$B$17, IF(AND(OR($E16="Tier 2",$E16="Tier 2 Grove"),$F16="Remove",$H16="Tree Protection Code: Other removal allowance or exemption",$I16<>"",ISNA(MATCH($I16,Tables!$B$215:$B$218,0))), Error!$B$17, IF(AND(OR($E16="Tier 2",$E16="Tier 2 Grove"),$F16="Remove",$H16="Tree Protection Code: Development Capacity",$I16<>"",ISNA(MATCH($I16,Tables!$B$193:$B$197,0))), Error!$B$17, IF(AND(OR($E16="Tier 2",$E16="Tier 2 Grove"),$F16="Remove",$H16="Tree Protection Code: Necessary for Construction",$I16<>"",ISNA(MATCH($I16,Tables!$B$193:$B$197,0))), Error!$B$17, IF(AND($E16="Tier 1",$F16="Remove",$H16="Tree Protection Code: Special Exception",$I16<>"",ISNA(MATCH($I16,Tables!$B$215:$B$218,0))), Error!$B$17, IF(AND($E16="Tier 1",$F16="Remove",$H16="Tree Protection Code: Other removal allowance or exemption",$I16<>"",ISNA(MATCH($I16,Tables!$B$215:$B$218,0))), Error!$B$17, IF(AND($E16="ECA / Shoreline Tree",$F16="Remove",$H16<>"",OR($H16="Shoreline",$H16="Environmental Critical Area (ECA)"),ISNA(MATCH($I16,Tables!$B$209:$B$212,0))), Error!$B$17, IF(AND(_xlpm.baseRow,$F16="Retain",$E16="ECA / Shoreline Tree",_xlpm.ECA_Short=0), Error!$B$61, IF(AND($F16="Remove",ISNUMBER(MATCH($E16,{"Tier 1","Tier 2","Tier 3","Tier 4","Tier 2 Grove"},0)),ISNUMBER(MATCH($I16,{"On-site replacement","Off-site replacement"},0)),$J16="",$H16<>""), Error!$B$19, IF(AND(_xlpm.baseRow,$E16<>"",$D16<>"",$F16<>"",COUNTBLANK($B16:$C16)>0,COUNTBLANK(_xlpm.HRange)<>4), Error!$B$22, IF(AND($H16="Zoning: Tree Points",$K16<>"",ISNA(MATCH($K16,Tables!$B$242:$B$253,0))), Error!$B$58, IF(AND($H16="Zoning: Tree Points",$K16="Small",$L16<>"",ISNA(MATCH($L16,Tables!$C$243:$C$244,0))), Error!$B$59, IF(AND($H16="Zoning: Tree Points",$K16="Small/Medium",$L16<>"",ISNA(MATCH($L16,Tables!$C$246:$C$247,0))), Error!$B$59, IF(AND($H16="Zoning: Tree Points",$K16="Medium/Large",$L16<>"",ISNA(MATCH($L16,Tables!$C$249:$C$250,0))), Error!$B$59, IF(AND($H16="Zoning: Tree Points",$K16="Large",$L16<>"",ISNA(MATCH($L16,Tables!$C$252:$C$253,0))), Error!$B$59, IF(AND($F16="Retain",$H16="Zoning: Tree Points",$C16<>"",$D16<>"",OR($K16="",$L16="",$M16="")), Error!$B$20, "" )))))))))))))))))))))))))))))))))))))))))))))))))))))))), Error!$B$23))} | O16: {=IFERROR(_xlfn.LET( _xlpm.txt, $C16, _xlpm.chars, MID(_xlpm.txt, ROW(INDIRECT("1:" & LEN(_xlpm.txt))), 1), _xlpm.validChars, "0123456789ABCDEFGHIJKLMNOPQRSTUVWXYZabcdefghijklmnopqrstuvwxyz", _xlpm.isValid, ISNUMBER(MATCH(_xlpm.chars, MID(_xlpm.validChars, ROW(INDIRECT("1:" & LEN(_xlpm.validChars))), 1), 0)), _xlfn.TEXTJOIN("", TRUE, IF(_xlpm.isValid, _xlpm.chars, "")) ),"")}
B17: =IF($B16="", "", $B16) | C17: =IF($C16="", "", $C16) | D17: =IF($D16="", "", $D16) | E17: =IF($E16="", "", $E16) | F17: =IF($F16="", "", $F16) | G17: =IF(Tree_Table1[[#This Row],[Tree Status &]]="Retain", Tables!$B$237, IF(Tree_Table1[[#This Row],[Tree Status &]]="Remove", Tables!$B$238, "")) | K17: =IFERROR( IF( AND($H17="Zoning: Tree Points", NOT(ISNUMBER(SEARCH("sp.", $C17)))), VLOOKUP($C17, 'Tree List'!$C$3:$F$601, 4, FALSE), "" ), "") | L17: {=IFERROR( IF( AND($H17="Zoning: Tree Points", NOT(ISNUMBER(SEARCH("sp.", $C17)))), _xlfn.IFS( (COUNTIFS('Tree List'!$C$3:$C$601,$C17,'Tree List'!$D$3:$D$601,"Coniferous") + COUNTIFS('Tree List'!$C$3:$C$601,$C17,'Tree List'!$D$3:$D$601,"Deciduous Conifer")) > 0, _xlfn.IFS($K17="Small",0.5,$K17="Small/Medium",1,$K17="Medium/Large",1.4,$K17="Large",1.8), (COUNTIFS('Tree List'!$C$3:$C$601,$C17,'Tree List'!$D$3:$D$601,"Deciduous") + COUNTIFS('Tree List'!$C$3:$C$601,$C17,'Tree List'!$D$3:$D$601,"Broadleaf Evergreen")) > 0, _xlfn.IFS($K17="Small",0.4,$K17="Small/Medium",0.8,$K17="Medium/Large",1.2,$K17="Large",1.6) ), "" ), "")} | M17: =IFERROR($D17*$L17,"") | N17: {=_xlfn.LET( _xlpm.r,ROW(), _xlpm.blockIndex,INT((_xlpm.r-11)/4), _xlpm.baseRow,MOD(_xlpm.r-11,4)=0, _xlpm.baseStart,_xlpm.blockIndex*4+11, _xlpm.baseEnd,_xlpm.baseStart+3, _xlpm.HRange,INDEX($H:$H,_xlpm.baseStart):INDEX($H:$H,_xlpm.baseEnd), _xlpm.hasDM,ISNUMBER(SEARCH("DM",$I$2)), _xlpm.hasCN,ISNUMBER(SEARCH("CN",$I$2)), _xlpm.hasPH,ISNUMBER(SEARCH("PH",$I$2)), _xlpm.hasGR,ISNUMBER(SEARCH("GR",$I$2)), _xlpm.ECA_H,COUNTIF(_xlpm.HRange,"Environmental Critical Area (ECA)"), _xlpm.Shore_H,COUNTIF(_xlpm.HRange,"Shoreline"), _xlpm.TreePoints_H,COUNTIF(_xlpm.HRange,"Zoning: Tree Points"), _xlpm.GF_H,COUNTIF(_xlpm.HRange,"Zoning: Green Factor"), _xlpm.ECA_Short,COUNTIF(_xlpm.HRange,"Environmental Critical Area / Shoreline"), _xlpm.uniqueH,COUNTA(_xlfn.UNIQUE(_xlfn._xlws.FILTER(_xlpm.HRange,_xlpm.HRange<>""))), IFERROR( IF(AND(_xlpm.baseRow,ISNA(MATCH($C17,'Tree List'!$C$3:$C$601,0)),SUMPRODUCT(--ISNUMBER(SEARCH(Tables2!$C$677:$C$772,$O17)))>0), Error!$B$57, IF(AND(_xlpm.hasDM,$F17="Remove",$H17<>"",OR($I17="On-site replacement",$I17="Off-site replacement",$I17="Payment In Lieu")), Error!$B$56, IF(AND(_xlpm.hasDM,$F17="Remove",$H17<>"",$I17="Relocation"), Error!$B$66, IF(AND(OR(_xlpm.hasCN,_xlpm.hasPH,_xlpm.hasGR),$H17<>"",COUNTIF(Tables!$B$132:$B$134,$H17)>0,$I17="N/A (No replacement required)"), Error!$B$62, IF(AND(_xlpm.baseRow,$E17<>"",ISNA(MATCH($E17,Tables!$B$225:$B$232,0))), Error!$B$2, IF(AND(_xlpm.baseRow,$F17<>"",ISNA(MATCH($F17,Tables!$B$234:$B$235,0))), Error!$B$24, IF(AND(_xlpm.baseRow,_xlpm.ECA_H>0,_xlpm.Shore_H>0), Error!$B$16, IF(AND(_xlpm.baseRow,$E17<>"",$D17=""), Error!$B$3, IF(AND(_xlpm.baseRow,OR($E17="Tier 3",$E17="Tier 4"),$C17<>"",$D17>=24,COUNTIF(Tables2!$B$166:$B$674,$C17)>0), Error!$B$44, IF(AND(_xlpm.baseRow,OR($E17="Tier 3",$E17="Tier 4"),$C17<>"",$D17<>"",COUNTIF(Tables2!$B$73:$B$152,$C17)>0, $D17>=IFERROR(INDEX(Tables2!$C$73:$C$152,MATCH($C17,Tables2!$B$73:$B$152,0)),-1)), Error!$B$44, IF(AND(_xlpm.baseRow,OR($E17="Tier 2",$E17="Tier 2 Grove"),$C17<>"",$D17>=12,COUNTIF(Tables2!$B$153:$B$162,$C17)>0), Error!$B$45, IF(AND(_xlpm.baseRow,$E17="Tier 2 Grove",$D17<12), Error!$B$41, IF(AND(_xlpm.baseRow,$E17="Tier 2",$D17<5.88), Error!$B$40, IF(AND(_xlpm.baseRow,OR($E17="Tier 2",$E17="Tier 2 Grove"),$C17<>"",$D17<12,$D17>=6,COUNTIF(Tables2!$B$153:$B$162,$C17)>0), Error!$B$54, IF(AND(_xlpm.baseRow,$E17="Tier 2",COUNTIF(Tables2!$B$166:$B$674,$C17)>0,$D17<24), Error!$B$54, IF(AND(_xlpm.baseRow,$E17="Tier 3",ISNA(MATCH($C17,Tables2!$B$153:$B$162,0)),OR($D17<12,$D17>=24)), Error!$B$9, IF(AND(_xlpm.baseRow,$E17="Tier 3",COUNTIF(Tables2!$B$153:$B$162,$C17)>0,$D17<12), Error!$B$46, IF(AND(_xlpm.baseRow,$E17="Tier 4",OR($D17<6,$D17>=12)), Error!$B$10, IF(AND(_xlpm.baseRow,$E17="<6in DSH for Tree Points",OR($D17>=6,$D17="")), Error!$B$8, IF(AND(_xlpm.baseRow,$E17="Street Tree for Green Factor",$F17<>"",$F17<>"Retain"), Error!$B$14, IF(AND($E17="<6in DSH for Tree Points",$F17="Retain",$H17<>"",ISNA(MATCH($H17,Tables!$B$174:$B$174,0))), Error!$B$15, IF(AND($E17="Street Tree for Green Factor",$F17="Retain",$H17<>"",$H17<>"Zoning: Green Factor"), Error!$B$15, IF(AND($E17="ECA / Shoreline Tree",$F17="Remove",$H17<>"",ISNA(MATCH($H17,Tables!$B$189:$B$190,0))), Error!$B$15, IF(AND($E17="ECA / Shoreline Tree",$F17="Retain",$H17<>"",ISNA(MATCH($H17,Tables!$B$184:$B$186,0))), Error!$B$15, IF(AND($E17="Tier 4",$F17="Remove",$H17<>"",ISNA(MATCH($H17,Tables!$B$171,0))), Error!$B$15, IF(AND($E17="Tier 4",$F17="Retain",$H17<>"",ISNA(MATCH($H17,Tables!$B$166:$B$168,0))), Error!$B$15, IF(AND($E17="Tier 3",$F17="Retain",$H17<>"",ISNA(MATCH($H17,Tables!$B$158:$B$160,0))), Error!$B$15, IF(AND($E17="Tier 3",$F17="Remove",$H17<>"",ISNA(MATCH($H17,Tables!$B$163,0))), Error!$B$15, IF(AND(OR($E17="Tier 2",$E17="Tier 2 Grove"),$F17="Remove",$H17<>"",ISNA(MATCH($H17,Tables!$B$153:$B$155,0))), Error!$B$15, IF(AND(OR($E17="Tier 2",$E17="Tier 2 Grove"),$F17="Retain",$H17<>"",ISNA(MATCH($H17,Tables!$B$147:$B$150,0))), Error!$B$15, IF(AND($E17="Tier 1",$F17="Remove",$H17<>"",ISNA(MATCH($H17,Tables!$B$143:$B$144,0))), Error!$B$15, IF(AND($E17="Tier 1",$F17="Retain",$H17<>"",ISNA(MATCH($H17,Tables!$B$137:$B$140,0))), Error!$B$15, IF(AND($E17<>"Tier 2",$E17<>"Tier 2 Grove",$E17<>"Tier 3",$E17<>"Tier 4",$H17="Zoning: Green Factor",OR($D17="",$D17<6)), Error!$B$11, IF(AND(_xlpm.baseRow,$D17<6,$E17="<6in DSH for Tree Points",_xlpm.TreePoints_H=0), Error!$B$21, IF(AND(_xlpm.baseRow,$E17<>"",$D17<>"",$F17=""), Error!$B$4, IF(AND(_xlpm.baseRow,$F17="Remove",OR($E17="Tier 1",$E17="Tier 2",$E17="Tier 2 Grove"),COUNTBLANK(_xlpm.HRange)<3,_xlpm.uniqueH>=2), Error!$B$48, IF(AND(_xlpm.baseRow,$F17="Retain",OR($E17="Tier 1",$E17="Tier 2",$E17="Tier 2 Grove"),COUNTIF(_xlpm.HRange,"Tree Code: Required to Retain Tier 1-2 Tree")=0), Error!$B$47, IF(AND(_xlpm.baseRow,$E17<>"",$D17<>"",$F17<>"",COUNTBLANK(_xlpm.HRange)=4), Error!$B$5, IF(AND($F17="Remove",$H17<>"",$I17=""), Error!$B$18, IF(AND($E17="Tier 4",$F17="Remove",$H17="Tree Protection Code: Tier 3 or Tier 4 Allowance",$H17<>"",ISNA(MATCH($I17,Tables!$B$200,0))), Error!$B$17, IF(AND($E17="Tier 3",$F17="Remove",$H17<>"",$H17="Tree Protection Code: Tier 3 or Tier 4 Allowance",OR($I17="",ISNA(MATCH($I17,Tables!$B$193:$B$197,0)))), Error!$B$17, IF(AND(OR($E17="Tier 2",$E17="Tier 2 Grove"),$F17="Remove",$H17="Tree Protection Code: Other removal allowance or exemption",$I17<>"",ISNA(MATCH($I17,Tables!$B$215:$B$218,0))), Error!$B$17, IF(AND(OR($E17="Tier 2",$E17="Tier 2 Grove"),$F17="Remove",$H17="Tree Protection Code: Development Capacity",$I17<>"",ISNA(MATCH($I17,Tables!$B$193:$B$197,0))), Error!$B$17, IF(AND(OR($E17="Tier 2",$E17="Tier 2 Grove"),$F17="Remove",$H17="Tree Protection Code: Necessary for Construction",$I17<>"",ISNA(MATCH($I17,Tables!$B$193:$B$197,0))), Error!$B$17, IF(AND($E17="Tier 1",$F17="Remove",$H17="Tree Protection Code: Special Exception",$I17<>"",ISNA(MATCH($I17,Tables!$B$215:$B$218,0))), Error!$B$17, IF(AND($E17="Tier 1",$F17="Remove",$H17="Tree Protection Code: Other removal allowance or exemption",$I17<>"",ISNA(MATCH($I17,Tables!$B$215:$B$218,0))), Error!$B$17, IF(AND($E17="ECA / Shoreline Tree",$F17="Remove",$H17<>"",OR($H17="Shoreline",$H17="Environmental Critical Area (ECA)"),ISNA(MATCH($I17,Tables!$B$209:$B$212,0))), Error!$B$17, IF(AND(_xlpm.baseRow,$F17="Retain",$E17="ECA / Shoreline Tree",_xlpm.ECA_Short=0), Error!$B$61, IF(AND($F17="Remove",ISNUMBER(MATCH($E17,{"Tier 1","Tier 2","Tier 3","Tier 4","Tier 2 Grove"},0)),ISNUMBER(MATCH($I17,{"On-site replacement","Off-site replacement"},0)),$J17="",$H17<>""), Error!$B$19, IF(AND(_xlpm.baseRow,$E17<>"",$D17<>"",$F17<>"",COUNTBLANK($B17:$C17)>0,COUNTBLANK(_xlpm.HRange)<>4), Error!$B$22, IF(AND($H17="Zoning: Tree Points",$K17<>"",ISNA(MATCH($K17,Tables!$B$242:$B$253,0))), Error!$B$58, IF(AND($H17="Zoning: Tree Points",$K17="Small",$L17<>"",ISNA(MATCH($L17,Tables!$C$243:$C$244,0))), Error!$B$59, IF(AND($H17="Zoning: Tree Points",$K17="Small/Medium",$L17<>"",ISNA(MATCH($L17,Tables!$C$246:$C$247,0))), Error!$B$59, IF(AND($H17="Zoning: Tree Points",$K17="Medium/Large",$L17<>"",ISNA(MATCH($L17,Tables!$C$249:$C$250,0))), Error!$B$59, IF(AND($H17="Zoning: Tree Points",$K17="Large",$L17<>"",ISNA(MATCH($L17,Tables!$C$252:$C$253,0))), Error!$B$59, IF(AND($F17="Retain",$H17="Zoning: Tree Points",$C17<>"",$D17<>"",OR($K17="",$L17="",$M17="")), Error!$B$20, "" )))))))))))))))))))))))))))))))))))))))))))))))))))))))), Error!$B$23))} | O17: {=IFERROR(_xlfn.LET( _xlpm.txt, $C17, _xlpm.chars, MID(_xlpm.txt, ROW(INDIRECT("1:" & LEN(_xlpm.txt))), 1), _xlpm.validChars, "0123456789ABCDEFGHIJKLMNOPQRSTUVWXYZabcdefghijklmnopqrstuvwxyz", _xlpm.isValid, ISNUMBER(MATCH(_xlpm.chars, MID(_xlpm.validChars, ROW(INDIRECT("1:" & LEN(_xlpm.validChars))), 1), 0)), _xlfn.TEXTJOIN("", TRUE, IF(_xlpm.isValid, _xlpm.chars, "")) ),"")}
B18: =IF($B17="", "", $B17) | C18: =IF($C17="", "", $C17) | D18: =IF($D17="", "", $D17) | E18: =IF($E17="", "", $E17) | F18: =IF($F17="", "", $F17) | G18: =IF(Tree_Table1[[#This Row],[Tree Status &]]="Retain", Tables!$B$237, IF(Tree_Table1[[#This Row],[Tree Status &]]="Remove", Tables!$B$238, "")) | K18: =IFERROR( IF( AND($H18="Zoning: Tree Points", NOT(ISNUMBER(SEARCH("sp.", $C18)))), VLOOKUP($C18, 'Tree List'!$C$3:$F$601, 4, FALSE), "" ), "") | L18: {=IFERROR( IF( AND($H18="Zoning: Tree Points", NOT(ISNUMBER(SEARCH("sp.", $C18)))), _xlfn.IFS( (COUNTIFS('Tree List'!$C$3:$C$601,$C18,'Tree List'!$D$3:$D$601,"Coniferous") + COUNTIFS('Tree List'!$C$3:$C$601,$C18,'Tree List'!$D$3:$D$601,"Deciduous Conifer")) > 0, _xlfn.IFS($K18="Small",0.5,$K18="Small/Medium",1,$K18="Medium/Large",1.4,$K18="Large",1.8), (COUNTIFS('Tree List'!$C$3:$C$601,$C18,'Tree List'!$D$3:$D$601,"Deciduous") + COUNTIFS('Tree List'!$C$3:$C$601,$C18,'Tree List'!$D$3:$D$601,"Broadleaf Evergreen")) > 0, _xlfn.IFS($K18="Small",0.4,$K18="Small/Medium",0.8,$K18="Medium/Large",1.2,$K18="Large",1.6) ), "" ), "")} | M18: =IFERROR($D18*$L18,"") | N18: {=_xlfn.LET( _xlpm.r,ROW(), _xlpm.blockIndex,INT((_xlpm.r-11)/4), _xlpm.baseRow,MOD(_xlpm.r-11,4)=0, _xlpm.baseStart,_xlpm.blockIndex*4+11, _xlpm.baseEnd,_xlpm.baseStart+3, _xlpm.HRange,INDEX($H:$H,_xlpm.baseStart):INDEX($H:$H,_xlpm.baseEnd), _xlpm.hasDM,ISNUMBER(SEARCH("DM",$I$2)), _xlpm.hasCN,ISNUMBER(SEARCH("CN",$I$2)), _xlpm.hasPH,ISNUMBER(SEARCH("PH",$I$2)), _xlpm.hasGR,ISNUMBER(SEARCH("GR",$I$2)), _xlpm.ECA_H,COUNTIF(_xlpm.HRange,"Environmental Critical Area (ECA)"), _xlpm.Shore_H,COUNTIF(_xlpm.HRange,"Shoreline"), _xlpm.TreePoints_H,COUNTIF(_xlpm.HRange,"Zoning: Tree Points"), _xlpm.GF_H,COUNTIF(_xlpm.HRange,"Zoning: Green Factor"), _xlpm.ECA_Short,COUNTIF(_xlpm.HRange,"Environmental Critical Area / Shoreline"), _xlpm.uniqueH,COUNTA(_xlfn.UNIQUE(_xlfn._xlws.FILTER(_xlpm.HRange,_xlpm.HRange<>""))), IFERROR( IF(AND(_xlpm.baseRow,ISNA(MATCH($C18,'Tree List'!$C$3:$C$601,0)),SUMPRODUCT(--ISNUMBER(SEARCH(Tables2!$C$677:$C$772,$O18)))>0), Error!$B$57, IF(AND(_xlpm.hasDM,$F18="Remove",$H18<>"",OR($I18="On-site replacement",$I18="Off-site replacement",$I18="Payment In Lieu")), Error!$B$56, IF(AND(_xlpm.hasDM,$F18="Remove",$H18<>"",$I18="Relocation"), Error!$B$66, IF(AND(OR(_xlpm.hasCN,_xlpm.hasPH,_xlpm.hasGR),$H18<>"",COUNTIF(Tables!$B$132:$B$134,$H18)>0,$I18="N/A (No replacement required)"), Error!$B$62, IF(AND(_xlpm.baseRow,$E18<>"",ISNA(MATCH($E18,Tables!$B$225:$B$232,0))), Error!$B$2, IF(AND(_xlpm.baseRow,$F18<>"",ISNA(MATCH($F18,Tables!$B$234:$B$235,0))), Error!$B$24, IF(AND(_xlpm.baseRow,_xlpm.ECA_H>0,_xlpm.Shore_H>0), Error!$B$16, IF(AND(_xlpm.baseRow,$E18<>"",$D18=""), Error!$B$3, IF(AND(_xlpm.baseRow,OR($E18="Tier 3",$E18="Tier 4"),$C18<>"",$D18>=24,COUNTIF(Tables2!$B$166:$B$674,$C18)>0), Error!$B$44, IF(AND(_xlpm.baseRow,OR($E18="Tier 3",$E18="Tier 4"),$C18<>"",$D18<>"",COUNTIF(Tables2!$B$73:$B$152,$C18)>0, $D18>=IFERROR(INDEX(Tables2!$C$73:$C$152,MATCH($C18,Tables2!$B$73:$B$152,0)),-1)), Error!$B$44, IF(AND(_xlpm.baseRow,OR($E18="Tier 2",$E18="Tier 2 Grove"),$C18<>"",$D18>=12,COUNTIF(Tables2!$B$153:$B$162,$C18)>0), Error!$B$45, IF(AND(_xlpm.baseRow,$E18="Tier 2 Grove",$D18<12), Error!$B$41, IF(AND(_xlpm.baseRow,$E18="Tier 2",$D18<5.88), Error!$B$40, IF(AND(_xlpm.baseRow,OR($E18="Tier 2",$E18="Tier 2 Grove"),$C18<>"",$D18<12,$D18>=6,COUNTIF(Tables2!$B$153:$B$162,$C18)>0), Error!$B$54, IF(AND(_xlpm.baseRow,$E18="Tier 2",COUNTIF(Tables2!$B$166:$B$674,$C18)>0,$D18<24), Error!$B$54, IF(AND(_xlpm.baseRow,$E18="Tier 3",ISNA(MATCH($C18,Tables2!$B$153:$B$162,0)),OR($D18<12,$D18>=24)), Error!$B$9, IF(AND(_xlpm.baseRow,$E18="Tier 3",COUNTIF(Tables2!$B$153:$B$162,$C18)>0,$D18<12), Error!$B$46, IF(AND(_xlpm.baseRow,$E18="Tier 4",OR($D18<6,$D18>=12)), Error!$B$10, IF(AND(_xlpm.baseRow,$E18="<6in DSH for Tree Points",OR($D18>=6,$D18="")), Error!$B$8, IF(AND(_xlpm.baseRow,$E18="Street Tree for Green Factor",$F18<>"",$F18<>"Retain"), Error!$B$14, IF(AND($E18="<6in DSH for Tree Points",$F18="Retain",$H18<>"",ISNA(MATCH($H18,Tables!$B$174:$B$174,0))), Error!$B$15, IF(AND($E18="Street Tree for Green Factor",$F18="Retain",$H18<>"",$H18<>"Zoning: Green Factor"), Error!$B$15, IF(AND($E18="ECA / Shoreline Tree",$F18="Remove",$H18<>"",ISNA(MATCH($H18,Tables!$B$189:$B$190,0))), Error!$B$15, IF(AND($E18="ECA / Shoreline Tree",$F18="Retain",$H18<>"",ISNA(MATCH($H18,Tables!$B$184:$B$186,0))), Error!$B$15, IF(AND($E18="Tier 4",$F18="Remove",$H18<>"",ISNA(MATCH($H18,Tables!$B$171,0))), Error!$B$15, IF(AND($E18="Tier 4",$F18="Retain",$H18<>"",ISNA(MATCH($H18,Tables!$B$166:$B$168,0))), Error!$B$15, IF(AND($E18="Tier 3",$F18="Retain",$H18<>"",ISNA(MATCH($H18,Tables!$B$158:$B$160,0))), Error!$B$15, IF(AND($E18="Tier 3",$F18="Remove",$H18<>"",ISNA(MATCH($H18,Tables!$B$163,0))), Error!$B$15, IF(AND(OR($E18="Tier 2",$E18="Tier 2 Grove"),$F18="Remove",$H18<>"",ISNA(MATCH($H18,Tables!$B$153:$B$155,0))), Error!$B$15, IF(AND(OR($E18="Tier 2",$E18="Tier 2 Grove"),$F18="Retain",$H18<>"",ISNA(MATCH($H18,Tables!$B$147:$B$150,0))), Error!$B$15, IF(AND($E18="Tier 1",$F18="Remove",$H18<>"",ISNA(MATCH($H18,Tables!$B$143:$B$144,0))), Error!$B$15, IF(AND($E18="Tier 1",$F18="Retain",$H18<>"",ISNA(MATCH($H18,Tables!$B$137:$B$140,0))), Error!$B$15, IF(AND($E18<>"Tier 2",$E18<>"Tier 2 Grove",$E18<>"Tier 3",$E18<>"Tier 4",$H18="Zoning: Green Factor",OR($D18="",$D18<6)), Error!$B$11, IF(AND(_xlpm.baseRow,$D18<6,$E18="<6in DSH for Tree Points",_xlpm.TreePoints_H=0), Error!$B$21, IF(AND(_xlpm.baseRow,$E18<>"",$D18<>"",$F18=""), Error!$B$4, IF(AND(_xlpm.baseRow,$F18="Remove",OR($E18="Tier 1",$E18="Tier 2",$E18="Tier 2 Grove"),COUNTBLANK(_xlpm.HRange)<3,_xlpm.uniqueH>=2), Error!$B$48, IF(AND(_xlpm.baseRow,$F18="Retain",OR($E18="Tier 1",$E18="Tier 2",$E18="Tier 2 Grove"),COUNTIF(_xlpm.HRange,"Tree Code: Required to Retain Tier 1-2 Tree")=0), Error!$B$47, IF(AND(_xlpm.baseRow,$E18<>"",$D18<>"",$F18<>"",COUNTBLANK(_xlpm.HRange)=4), Error!$B$5, IF(AND($F18="Remove",$H18<>"",$I18=""), Error!$B$18, IF(AND($E18="Tier 4",$F18="Remove",$H18="Tree Protection Code: Tier 3 or Tier 4 Allowance",$H18<>"",ISNA(MATCH($I18,Tables!$B$200,0))), Error!$B$17, IF(AND($E18="Tier 3",$F18="Remove",$H18<>"",$H18="Tree Protection Code: Tier 3 or Tier 4 Allowance",OR($I18="",ISNA(MATCH($I18,Tables!$B$193:$B$197,0)))), Error!$B$17, IF(AND(OR($E18="Tier 2",$E18="Tier 2 Grove"),$F18="Remove",$H18="Tree Protection Code: Other removal allowance or exemption",$I18<>"",ISNA(MATCH($I18,Tables!$B$215:$B$218,0))), Error!$B$17, IF(AND(OR($E18="Tier 2",$E18="Tier 2 Grove"),$F18="Remove",$H18="Tree Protection Code: Development Capacity",$I18<>"",ISNA(MATCH($I18,Tables!$B$193:$B$197,0))), Error!$B$17, IF(AND(OR($E18="Tier 2",$E18="Tier 2 Grove"),$F18="Remove",$H18="Tree Protection Code: Necessary for Construction",$I18<>"",ISNA(MATCH($I18,Tables!$B$193:$B$197,0))), Error!$B$17, IF(AND($E18="Tier 1",$F18="Remove",$H18="Tree Protection Code: Special Exception",$I18<>"",ISNA(MATCH($I18,Tables!$B$215:$B$218,0))), Error!$B$17, IF(AND($E18="Tier 1",$F18="Remove",$H18="Tree Protection Code: Other removal allowance or exemption",$I18<>"",ISNA(MATCH($I18,Tables!$B$215:$B$218,0))), Error!$B$17, IF(AND($E18="ECA / Shoreline Tree",$F18="Remove",$H18<>"",OR($H18="Shoreline",$H18="Environmental Critical Area (ECA)"),ISNA(MATCH($I18,Tables!$B$209:$B$212,0))), Error!$B$17, IF(AND(_xlpm.baseRow,$F18="Retain",$E18="ECA / Shoreline Tree",_xlpm.ECA_Short=0), Error!$B$61, IF(AND($F18="Remove",ISNUMBER(MATCH($E18,{"Tier 1","Tier 2","Tier 3","Tier 4","Tier 2 Grove"},0)),ISNUMBER(MATCH($I18,{"On-site replacement","Off-site replacement"},0)),$J18="",$H18<>""), Error!$B$19, IF(AND(_xlpm.baseRow,$E18<>"",$D18<>"",$F18<>"",COUNTBLANK($B18:$C18)>0,COUNTBLANK(_xlpm.HRange)<>4), Error!$B$22, IF(AND($H18="Zoning: Tree Points",$K18<>"",ISNA(MATCH($K18,Tables!$B$242:$B$253,0))), Error!$B$58, IF(AND($H18="Zoning: Tree Points",$K18="Small",$L18<>"",ISNA(MATCH($L18,Tables!$C$243:$C$244,0))), Error!$B$59, IF(AND($H18="Zoning: Tree Points",$K18="Small/Medium",$L18<>"",ISNA(MATCH($L18,Tables!$C$246:$C$247,0))), Error!$B$59, IF(AND($H18="Zoning: Tree Points",$K18="Medium/Large",$L18<>"",ISNA(MATCH($L18,Tables!$C$249:$C$250,0))), Error!$B$59, IF(AND($H18="Zoning: Tree Points",$K18="Large",$L18<>"",ISNA(MATCH($L18,Tables!$C$252:$C$253,0))), Error!$B$59, IF(AND($F18="Retain",$H18="Zoning: Tree Points",$C18<>"",$D18<>"",OR($K18="",$L18="",$M18="")), Error!$B$20, "" )))))))))))))))))))))))))))))))))))))))))))))))))))))))), Error!$B$23))} | O18: {=IFERROR(_xlfn.LET( _xlpm.txt, $C18, _xlpm.chars, MID(_xlpm.txt, ROW(INDIRECT("1:" & LEN(_xlpm.txt))), 1), _xlpm.validChars, "0123456789ABCDEFGHIJKLMNOPQRSTUVWXYZabcdefghijklmnopqrstuvwxyz", _xlpm.isValid, ISNUMBER(MATCH(_xlpm.chars, MID(_xlpm.validChars, ROW(INDIRECT("1:" & LEN(_xlpm.validChars))), 1), 0)), _xlfn.TEXTJOIN("", TRUE, IF(_xlpm.isValid, _xlpm.chars, "")) ),"")}
A19: 3 | G19: =IF(Tree_Table1[[#This Row],[Tree Status &]]="Retain", Tables!$B$237, IF(Tree_Table1[[#This Row],[Tree Status &]]="Remove", Tables!$B$238, "")) | K19: =IFERROR( IF( AND($H19="Zoning: Tree Points", NOT(ISNUMBER(SEARCH("sp.", $C19)))), VLOOKUP($C19, 'Tree List'!$C$3:$F$601, 4, FALSE), "" ), "") | L19: {=IFERROR( IF( AND($H19="Zoning: Tree Points", NOT(ISNUMBER(SEARCH("sp.", $C19)))), _xlfn.IFS( (COUNTIFS('Tree List'!$C$3:$C$601,$C19,'Tree List'!$D$3:$D$601,"Coniferous") + COUNTIFS('Tree List'!$C$3:$C$601,$C19,'Tree List'!$D$3:$D$601,"Deciduous Conifer")) > 0, _xlfn.IFS($K19="Small",0.5,$K19="Small/Medium",1,$K19="Medium/Large",1.4,$K19="Large",1.8), (COUNTIFS('Tree List'!$C$3:$C$601,$C19,'Tree List'!$D$3:$D$601,"Deciduous") + COUNTIFS('Tree List'!$C$3:$C$601,$C19,'Tree List'!$D$3:$D$601,"Broadleaf Evergreen")) > 0, _xlfn.IFS($K19="Small",0.4,$K19="Small/Medium",0.8,$K19="Medium/Large",1.2,$K19="Large",1.6) ), "" ), "")} | M19: =IFERROR($D19*$L19,"") | N19: {=_xlfn.LET( _xlpm.r,ROW(), _xlpm.blockIndex,INT((_xlpm.r-11)/4), _xlpm.baseRow,MOD(_xlpm.r-11,4)=0, _xlpm.baseStart,_xlpm.blockIndex*4+11, _xlpm.baseEnd,_xlpm.baseStart+3, _xlpm.HRange,INDEX($H:$H,_xlpm.baseStart):INDEX($H:$H,_xlpm.baseEnd), _xlpm.hasDM,ISNUMBER(SEARCH("DM",$I$2)), _xlpm.hasCN,ISNUMBER(SEARCH("CN",$I$2)), _xlpm.hasPH,ISNUMBER(SEARCH("PH",$I$2)), _xlpm.hasGR,ISNUMBER(SEARCH("GR",$I$2)), _xlpm.ECA_H,COUNTIF(_xlpm.HRange,"Environmental Critical Area (ECA)"), _xlpm.Shore_H,COUNTIF(_xlpm.HRange,"Shoreline"), _xlpm.TreePoints_H,COUNTIF(_xlpm.HRange,"Zoning: Tree Points"), _xlpm.GF_H,COUNTIF(_xlpm.HRange,"Zoning: Green Factor"), _xlpm.ECA_Short,COUNTIF(_xlpm.HRange,"Environmental Critical Area / Shoreline"), _xlpm.uniqueH,COUNTA(_xlfn.UNIQUE(_xlfn._xlws.FILTER(_xlpm.HRange,_xlpm.HRange<>""))), IFERROR( IF(AND(_xlpm.baseRow,ISNA(MATCH($C19,'Tree List'!$C$3:$C$601,0)),SUMPRODUCT(--ISNUMBER(SEARCH(Tables2!$C$677:$C$772,$O19)))>0), Error!$B$57, IF(AND(_xlpm.hasDM,$F19="Remove",$H19<>"",OR($I19="On-site replacement",$I19="Off-site replacement",$I19="Payment In Lieu")), Error!$B$56, IF(AND(_xlpm.hasDM,$F19="Remove",$H19<>"",$I19="Relocation"), Error!$B$66, IF(AND(OR(_xlpm.hasCN,_xlpm.hasPH,_xlpm.hasGR),$H19<>"",COUNTIF(Tables!$B$132:$B$134,$H19)>0,$I19="N/A (No replacement required)"), Error!$B$62, IF(AND(_xlpm.baseRow,$E19<>"",ISNA(MATCH($E19,Tables!$B$225:$B$232,0))), Error!$B$2, IF(AND(_xlpm.baseRow,$F19<>"",ISNA(MATCH($F19,Tables!$B$234:$B$235,0))), Error!$B$24, IF(AND(_xlpm.baseRow,_xlpm.ECA_H>0,_xlpm.Shore_H>0), Error!$B$16, IF(AND(_xlpm.baseRow,$E19<>"",$D19=""), Error!$B$3, IF(AND(_xlpm.baseRow,OR($E19="Tier 3",$E19="Tier 4"),$C19<>"",$D19>=24,COUNTIF(Tables2!$B$166:$B$674,$C19)>0), Error!$B$44, IF(AND(_xlpm.baseRow,OR($E19="Tier 3",$E19="Tier 4"),$C19<>"",$D19<>"",COUNTIF(Tables2!$B$73:$B$152,$C19)>0, $D19>=IFERROR(INDEX(Tables2!$C$73:$C$152,MATCH($C19,Tables2!$B$73:$B$152,0)),-1)), Error!$B$44, IF(AND(_xlpm.baseRow,OR($E19="Tier 2",$E19="Tier 2 Grove"),$C19<>"",$D19>=12,COUNTIF(Tables2!$B$153:$B$162,$C19)>0), Error!$B$45, IF(AND(_xlpm.baseRow,$E19="Tier 2 Grove",$D19<12), Error!$B$41, IF(AND(_xlpm.baseRow,$E19="Tier 2",$D19<5.88), Error!$B$40, IF(AND(_xlpm.baseRow,OR($E19="Tier 2",$E19="Tier 2 Grove"),$C19<>"",$D19<12,$D19>=6,COUNTIF(Tables2!$B$153:$B$162,$C19)>0), Error!$B$54, IF(AND(_xlpm.baseRow,$E19="Tier 2",COUNTIF(Tables2!$B$166:$B$674,$C19)>0,$D19<24), Error!$B$54, IF(AND(_xlpm.baseRow,$E19="Tier 3",ISNA(MATCH($C19,Tables2!$B$153:$B$162,0)),OR($D19<12,$D19>=24)), Error!$B$9, IF(AND(_xlpm.baseRow,$E19="Tier 3",COUNTIF(Tables2!$B$153:$B$162,$C19)>0,$D19<12), Error!$B$46, IF(AND(_xlpm.baseRow,$E19="Tier 4",OR($D19<6,$D19>=12)), Error!$B$10, IF(AND(_xlpm.baseRow,$E19="<6in DSH for Tree Points",OR($D19>=6,$D19="")), Error!$B$8, IF(AND(_xlpm.baseRow,$E19="Street Tree for Green Factor",$F19<>"",$F19<>"Retain"), Error!$B$14, IF(AND($E19="<6in DSH for Tree Points",$F19="Retain",$H19<>"",ISNA(MATCH($H19,Tables!$B$174:$B$174,0))), Error!$B$15, IF(AND($E19="Street Tree for Green Factor",$F19="Retain",$H19<>"",$H19<>"Zoning: Green Factor"), Error!$B$15, IF(AND($E19="ECA / Shoreline Tree",$F19="Remove",$H19<>"",ISNA(MATCH($H19,Tables!$B$189:$B$190,0))), Error!$B$15, IF(AND($E19="ECA / Shoreline Tree",$F19="Retain",$H19<>"",ISNA(MATCH($H19,Tables!$B$184:$B$186,0))), Error!$B$15, IF(AND($E19="Tier 4",$F19="Remove",$H19<>"",ISNA(MATCH($H19,Tables!$B$171,0))), Error!$B$15, IF(AND($E19="Tier 4",$F19="Retain",$H19<>"",ISNA(MATCH($H19,Tables!$B$166:$B$168,0))), Error!$B$15, IF(AND($E19="Tier 3",$F19="Retain",$H19<>"",ISNA(MATCH($H19,Tables!$B$158:$B$160,0))), Error!$B$15, IF(AND($E19="Tier 3",$F19="Remove",$H19<>"",ISNA(MATCH($H19,Tables!$B$163,0))), Error!$B$15, IF(AND(OR($E19="Tier 2",$E19="Tier 2 Grove"),$F19="Remove",$H19<>"",ISNA(MATCH($H19,Tables!$B$153:$B$155,0))), Error!$B$15, IF(AND(OR($E19="Tier 2",$E19="Tier 2 Grove"),$F19="Retain",$H19<>"",ISNA(MATCH($H19,Tables!$B$147:$B$150,0))), Error!$B$15, IF(AND($E19="Tier 1",$F19="Remove",$H19<>"",ISNA(MATCH($H19,Tables!$B$143:$B$144,0))), Error!$B$15, IF(AND($E19="Tier 1",$F19="Retain",$H19<>"",ISNA(MATCH($H19,Tables!$B$137:$B$140,0))), Error!$B$15, IF(AND($E19<>"Tier 2",$E19<>"Tier 2 Grove",$E19<>"Tier 3",$E19<>"Tier 4",$H19="Zoning: Green Factor",OR($D19="",$D19<6)), Error!$B$11, IF(AND(_xlpm.baseRow,$D19<6,$E19="<6in DSH for Tree Points",_xlpm.TreePoints_H=0), Error!$B$21, IF(AND(_xlpm.baseRow,$E19<>"",$D19<>"",$F19=""), Error!$B$4, IF(AND(_xlpm.baseRow,$F19="Remove",OR($E19="Tier 1",$E19="Tier 2",$E19="Tier 2 Grove"),COUNTBLANK(_xlpm.HRange)<3,_xlpm.uniqueH>=2), Error!$B$48, IF(AND(_xlpm.baseRow,$F19="Retain",OR($E19="Tier 1",$E19="Tier 2",$E19="Tier 2 Grove"),COUNTIF(_xlpm.HRange,"Tree Code: Required to Retain Tier 1-2 Tree")=0), Error!$B$47, IF(AND(_xlpm.baseRow,$E19<>"",$D19<>"",$F19<>"",COUNTBLANK(_xlpm.HRange)=4), Error!$B$5, IF(AND($F19="Remove",$H19<>"",$I19=""), Error!$B$18, IF(AND($E19="Tier 4",$F19="Remove",$H19="Tree Protection Code: Tier 3 or Tier 4 Allowance",$H19<>"",ISNA(MATCH($I19,Tables!$B$200,0))), Error!$B$17, IF(AND($E19="Tier 3",$F19="Remove",$H19<>"",$H19="Tree Protection Code: Tier 3 or Tier 4 Allowance",OR($I19="",ISNA(MATCH($I19,Tables!$B$193:$B$197,0)))), Error!$B$17, IF(AND(OR($E19="Tier 2",$E19="Tier 2 Grove"),$F19="Remove",$H19="Tree Protection Code: Other removal allowance or exemption",$I19<>"",ISNA(MATCH($I19,Tables!$B$215:$B$218,0))), Error!$B$17, IF(AND(OR($E19="Tier 2",$E19="Tier 2 Grove"),$F19="Remove",$H19="Tree Protection Code: Development Capacity",$I19<>"",ISNA(MATCH($I19,Tables!$B$193:$B$197,0))), Error!$B$17, IF(AND(OR($E19="Tier 2",$E19="Tier 2 Grove"),$F19="Remove",$H19="Tree Protection Code: Necessary for Construction",$I19<>"",ISNA(MATCH($I19,Tables!$B$193:$B$197,0))), Error!$B$17, IF(AND($E19="Tier 1",$F19="Remove",$H19="Tree Protection Code: Special Exception",$I19<>"",ISNA(MATCH($I19,Tables!$B$215:$B$218,0))), Error!$B$17, IF(AND($E19="Tier 1",$F19="Remove",$H19="Tree Protection Code: Other removal allowance or exemption",$I19<>"",ISNA(MATCH($I19,Tables!$B$215:$B$218,0))), Error!$B$17, IF(AND($E19="ECA / Shoreline Tree",$F19="Remove",$H19<>"",OR($H19="Shoreline",$H19="Environmental Critical Area (ECA)"),ISNA(MATCH($I19,Tables!$B$209:$B$212,0))), Error!$B$17, IF(AND(_xlpm.baseRow,$F19="Retain",$E19="ECA / Shoreline Tree",_xlpm.ECA_Short=0), Error!$B$61, IF(AND($F19="Remove",ISNUMBER(MATCH($E19,{"Tier 1","Tier 2","Tier 3","Tier 4","Tier 2 Grove"},0)),ISNUMBER(MATCH($I19,{"On-site replacement","Off-site replacement"},0)),$J19="",$H19<>""), Error!$B$19, IF(AND(_xlpm.baseRow,$E19<>"",$D19<>"",$F19<>"",COUNTBLANK($B19:$C19)>0,COUNTBLANK(_xlpm.HRange)<>4), Error!$B$22, IF(AND($H19="Zoning: Tree Points",$K19<>"",ISNA(MATCH($K19,Tables!$B$242:$B$253,0))), Error!$B$58, IF(AND($H19="Zoning: Tree Points",$K19="Small",$L19<>"",ISNA(MATCH($L19,Tables!$C$243:$C$244,0))), Error!$B$59, IF(AND($H19="Zoning: Tree Points",$K19="Small/Medium",$L19<>"",ISNA(MATCH($L19,Tables!$C$246:$C$247,0))), Error!$B$59, IF(AND($H19="Zoning: Tree Points",$K19="Medium/Large",$L19<>"",ISNA(MATCH($L19,Tables!$C$249:$C$250,0))), Error!$B$59, IF(AND($H19="Zoning: Tree Points",$K19="Large",$L19<>"",ISNA(MATCH($L19,Tables!$C$252:$C$253,0))), Error!$B$59, IF(AND($F19="Retain",$H19="Zoning: Tree Points",$C19<>"",$D19<>"",OR($K19="",$L19="",$M19="")), Error!$B$20, "" )))))))))))))))))))))))))))))))))))))))))))))))))))))))), Error!$B$23))} | O19: {=IFERROR(_xlfn.LET( _xlpm.txt, $C19, _xlpm.chars, MID(_xlpm.txt, ROW(INDIRECT("1:" & LEN(_xlpm.txt))), 1), _xlpm.validChars, "0123456789ABCDEFGHIJKLMNOPQRSTUVWXYZabcdefghijklmnopqrstuvwxyz", _xlpm.isValid, ISNUMBER(MATCH(_xlpm.chars, MID(_xlpm.validChars, ROW(INDIRECT("1:" & LEN(_xlpm.validChars))), 1), 0)), _xlfn.TEXTJOIN("", TRUE, IF(_xlpm.isValid, _xlpm.chars, "")) ),"")}
B20: =IF($B19="", "", $B19) | C20: =IF($C19="", "", $C19) | D20: =IF($D19="", "", $D19) | E20: =IF($E19="", "", $E19) | F20: =IF($F19="", "", $F19) | G20: =IF(Tree_Table1[[#This Row],[Tree Status &]]="Retain", Tables!$B$237, IF(Tree_Table1[[#This Row],[Tree Status &]]="Remove", Tables!$B$238, "")) | K20: =IFERROR( IF( AND($H20="Zoning: Tree Points", NOT(ISNUMBER(SEARCH("sp.", $C20)))), VLOOKUP($C20, 'Tree List'!$C$3:$F$601, 4, FALSE), "" ), "") | L20: {=IFERROR( IF( AND($H20="Zoning: Tree Points", NOT(ISNUMBER(SEARCH("sp.", $C20)))), _xlfn.IFS( (COUNTIFS('Tree List'!$C$3:$C$601,$C20,'Tree List'!$D$3:$D$601,"Coniferous") + COUNTIFS('Tree List'!$C$3:$C$601,$C20,'Tree List'!$D$3:$D$601,"Deciduous Conifer")) > 0, _xlfn.IFS($K20="Small",0.5,$K20="Small/Medium",1,$K20="Medium/Large",1.4,$K20="Large",1.8), (COUNTIFS('Tree List'!$C$3:$C$601,$C20,'Tree List'!$D$3:$D$601,"Deciduous") + COUNTIFS('Tree List'!$C$3:$C$601,$C20,'Tree List'!$D$3:$D$601,"Broadleaf Evergreen")) > 0, _xlfn.IFS($K20="Small",0.4,$K20="Small/Medium",0.8,$K20="Medium/Large",1.2,$K20="Large",1.6) ), "" ), "")} | M20: =IFERROR($D20*$L20,"") | N20: {=_xlfn.LET( _xlpm.r,ROW(), _xlpm.blockIndex,INT((_xlpm.r-11)/4), _xlpm.baseRow,MOD(_xlpm.r-11,4)=0, _xlpm.baseStart,_xlpm.blockIndex*4+11, _xlpm.baseEnd,_xlpm.baseStart+3, _xlpm.HRange,INDEX($H:$H,_xlpm.baseStart):INDEX($H:$H,_xlpm.baseEnd), _xlpm.hasDM,ISNUMBER(SEARCH("DM",$I$2)), _xlpm.hasCN,ISNUMBER(SEARCH("CN",$I$2)), _xlpm.hasPH,ISNUMBER(SEARCH("PH",$I$2)), _xlpm.hasGR,ISNUMBER(SEARCH("GR",$I$2)), _xlpm.ECA_H,COUNTIF(_xlpm.HRange,"Environmental Critical Area (ECA)"), _xlpm.Shore_H,COUNTIF(_xlpm.HRange,"Shoreline"), _xlpm.TreePoints_H,COUNTIF(_xlpm.HRange,"Zoning: Tree Points"), _xlpm.GF_H,COUNTIF(_xlpm.HRange,"Zoning: Green Factor"), _xlpm.ECA_Short,COUNTIF(_xlpm.HRange,"Environmental Critical Area / Shoreline"), _xlpm.uniqueH,COUNTA(_xlfn.UNIQUE(_xlfn._xlws.FILTER(_xlpm.HRange,_xlpm.HRange<>""))), IFERROR( IF(AND(_xlpm.baseRow,ISNA(MATCH($C20,'Tree List'!$C$3:$C$601,0)),SUMPRODUCT(--ISNUMBER(SEARCH(Tables2!$C$677:$C$772,$O20)))>0), Error!$B$57, IF(AND(_xlpm.hasDM,$F20="Remove",$H20<>"",OR($I20="On-site replacement",$I20="Off-site replacement",$I20="Payment In Lieu")), Error!$B$56, IF(AND(_xlpm.hasDM,$F20="Remove",$H20<>"",$I20="Relocation"), Error!$B$66, IF(AND(OR(_xlpm.hasCN,_xlpm.hasPH,_xlpm.hasGR),$H20<>"",COUNTIF(Tables!$B$132:$B$134,$H20)>0,$I20="N/A (No replacement required)"), Error!$B$62, IF(AND(_xlpm.baseRow,$E20<>"",ISNA(MATCH($E20,Tables!$B$225:$B$232,0))), Error!$B$2, IF(AND(_xlpm.baseRow,$F20<>"",ISNA(MATCH($F20,Tables!$B$234:$B$235,0))), Error!$B$24, IF(AND(_xlpm.baseRow,_xlpm.ECA_H>0,_xlpm.Shore_H>0), Error!$B$16, IF(AND(_xlpm.baseRow,$E20<>"",$D20=""), Error!$B$3, IF(AND(_xlpm.baseRow,OR($E20="Tier 3",$E20="Tier 4"),$C20<>"",$D20>=24,COUNTIF(Tables2!$B$166:$B$674,$C20)>0), Error!$B$44, IF(AND(_xlpm.baseRow,OR($E20="Tier 3",$E20="Tier 4"),$C20<>"",$D20<>"",COUNTIF(Tables2!$B$73:$B$152,$C20)>0, $D20>=IFERROR(INDEX(Tables2!$C$73:$C$152,MATCH($C20,Tables2!$B$73:$B$152,0)),-1)), Error!$B$44, IF(AND(_xlpm.baseRow,OR($E20="Tier 2",$E20="Tier 2 Grove"),$C20<>"",$D20>=12,COUNTIF(Tables2!$B$153:$B$162,$C20)>0), Error!$B$45, IF(AND(_xlpm.baseRow,$E20="Tier 2 Grove",$D20<12), Error!$B$41, IF(AND(_xlpm.baseRow,$E20="Tier 2",$D20<5.88), Error!$B$40, IF(AND(_xlpm.baseRow,OR($E20="Tier 2",$E20="Tier 2 Grove"),$C20<>"",$D20<12,$D20>=6,COUNTIF(Tables2!$B$153:$B$162,$C20)>0), Error!$B$54, IF(AND(_xlpm.baseRow,$E20="Tier 2",COUNTIF(Tables2!$B$166:$B$674,$C20)>0,$D20<24), Error!$B$54, IF(AND(_xlpm.baseRow,$E20="Tier 3",ISNA(MATCH($C20,Tables2!$B$153:$B$162,0)),OR($D20<12,$D20>=24)), Error!$B$9, IF(AND(_xlpm.baseRow,$E20="Tier 3",COUNTIF(Tables2!$B$153:$B$162,$C20)>0,$D20<12), Error!$B$46, IF(AND(_xlpm.baseRow,$E20="Tier 4",OR($D20<6,$D20>=12)), Error!$B$10, IF(AND(_xlpm.baseRow,$E20="<6in DSH for Tree Points",OR($D20>=6,$D20="")), Error!$B$8, IF(AND(_xlpm.baseRow,$E20="Street Tree for Green Factor",$F20<>"",$F20<>"Retain"), Error!$B$14, IF(AND($E20="<6in DSH for Tree Points",$F20="Retain",$H20<>"",ISNA(MATCH($H20,Tables!$B$174:$B$174,0))), Error!$B$15, IF(AND($E20="Street Tree for Green Factor",$F20="Retain",$H20<>"",$H20<>"Zoning: Green Factor"), Error!$B$15, IF(AND($E20="ECA / Shoreline Tree",$F20="Remove",$H20<>"",ISNA(MATCH($H20,Tables!$B$189:$B$190,0))), Error!$B$15, IF(AND($E20="ECA / Shoreline Tree",$F20="Retain",$H20<>"",ISNA(MATCH($H20,Tables!$B$184:$B$186,0))), Error!$B$15, IF(AND($E20="Tier 4",$F20="Remove",$H20<>"",ISNA(MATCH($H20,Tables!$B$171,0))), Error!$B$15, IF(AND($E20="Tier 4",$F20="Retain",$H20<>"",ISNA(MATCH($H20,Tables!$B$166:$B$168,0))), Error!$B$15, IF(AND($E20="Tier 3",$F20="Retain",$H20<>"",ISNA(MATCH($H20,Tables!$B$158:$B$160,0))), Error!$B$15, IF(AND($E20="Tier 3",$F20="Remove",$H20<>"",ISNA(MATCH($H20,Tables!$B$163,0))), Error!$B$15, IF(AND(OR($E20="Tier 2",$E20="Tier 2 Grove"),$F20="Remove",$H20<>"",ISNA(MATCH($H20,Tables!$B$153:$B$155,0))), Error!$B$15, IF(AND(OR($E20="Tier 2",$E20="Tier 2 Grove"),$F20="Retain",$H20<>"",ISNA(MATCH($H20,Tables!$B$147:$B$150,0))), Error!$B$15, IF(AND($E20="Tier 1",$F20="Remove",$H20<>"",ISNA(MATCH($H20,Tables!$B$143:$B$144,0))), Error!$B$15, IF(AND($E20="Tier 1",$F20="Retain",$H20<>"",ISNA(MATCH($H20,Tables!$B$137:$B$140,0))), Error!$B$15, IF(AND($E20<>"Tier 2",$E20<>"Tier 2 Grove",$E20<>"Tier 3",$E20<>"Tier 4",$H20="Zoning: Green Factor",OR($D20="",$D20<6)), Error!$B$11, IF(AND(_xlpm.baseRow,$D20<6,$E20="<6in DSH for Tree Points",_xlpm.TreePoints_H=0), Error!$B$21, IF(AND(_xlpm.baseRow,$E20<>"",$D20<>"",$F20=""), Error!$B$4, IF(AND(_xlpm.baseRow,$F20="Remove",OR($E20="Tier 1",$E20="Tier 2",$E20="Tier 2 Grove"),COUNTBLANK(_xlpm.HRange)<3,_xlpm.uniqueH>=2), Error!$B$48, IF(AND(_xlpm.baseRow,$F20="Retain",OR($E20="Tier 1",$E20="Tier 2",$E20="Tier 2 Grove"),COUNTIF(_xlpm.HRange,"Tree Code: Required to Retain Tier 1-2 Tree")=0), Error!$B$47, IF(AND(_xlpm.baseRow,$E20<>"",$D20<>"",$F20<>"",COUNTBLANK(_xlpm.HRange)=4), Error!$B$5, IF(AND($F20="Remove",$H20<>"",$I20=""), Error!$B$18, IF(AND($E20="Tier 4",$F20="Remove",$H20="Tree Protection Code: Tier 3 or Tier 4 Allowance",$H20<>"",ISNA(MATCH($I20,Tables!$B$200,0))), Error!$B$17, IF(AND($E20="Tier 3",$F20="Remove",$H20<>"",$H20="Tree Protection Code: Tier 3 or Tier 4 Allowance",OR($I20="",ISNA(MATCH($I20,Tables!$B$193:$B$197,0)))), Error!$B$17, IF(AND(OR($E20="Tier 2",$E20="Tier 2 Grove"),$F20="Remove",$H20="Tree Protection Code: Other removal allowance or exemption",$I20<>"",ISNA(MATCH($I20,Tables!$B$215:$B$218,0))), Error!$B$17, IF(AND(OR($E20="Tier 2",$E20="Tier 2 Grove"),$F20="Remove",$H20="Tree Protection Code: Development Capacity",$I20<>"",ISNA(MATCH($I20,Tables!$B$193:$B$197,0))), Error!$B$17, IF(AND(OR($E20="Tier 2",$E20="Tier 2 Grove"),$F20="Remove",$H20="Tree Protection Code: Necessary for Construction",$I20<>"",ISNA(MATCH($I20,Tables!$B$193:$B$197,0))), Error!$B$17, IF(AND($E20="Tier 1",$F20="Remove",$H20="Tree Protection Code: Special Exception",$I20<>"",ISNA(MATCH($I20,Tables!$B$215:$B$218,0))), Error!$B$17, IF(AND($E20="Tier 1",$F20="Remove",$H20="Tree Protection Code: Other removal allowance or exemption",$I20<>"",ISNA(MATCH($I20,Tables!$B$215:$B$218,0))), Error!$B$17, IF(AND($E20="ECA / Shoreline Tree",$F20="Remove",$H20<>"",OR($H20="Shoreline",$H20="Environmental Critical Area (ECA)"),ISNA(MATCH($I20,Tables!$B$209:$B$212,0))), Error!$B$17, IF(AND(_xlpm.baseRow,$F20="Retain",$E20="ECA / Shoreline Tree",_xlpm.ECA_Short=0), Error!$B$61, IF(AND($F20="Remove",ISNUMBER(MATCH($E20,{"Tier 1","Tier 2","Tier 3","Tier 4","Tier 2 Grove"},0)),ISNUMBER(MATCH($I20,{"On-site replacement","Off-site replacement"},0)),$J20="",$H20<>""), Error!$B$19, IF(AND(_xlpm.baseRow,$E20<>"",$D20<>"",$F20<>"",COUNTBLANK($B20:$C20)>0,COUNTBLANK(_xlpm.HRange)<>4), Error!$B$22, IF(AND($H20="Zoning: Tree Points",$K20<>"",ISNA(MATCH($K20,Tables!$B$242:$B$253,0))), Error!$B$58, IF(AND($H20="Zoning: Tree Points",$K20="Small",$L20<>"",ISNA(MATCH($L20,Tables!$C$243:$C$244,0))), Error!$B$59, IF(AND($H20="Zoning: Tree Points",$K20="Small/Medium",$L20<>"",ISNA(MATCH($L20,Tables!$C$246:$C$247,0))), Error!$B$59, IF(AND($H20="Zoning: Tree Points",$K20="Medium/Large",$L20<>"",ISNA(MATCH($L20,Tables!$C$249:$C$250,0))), Error!$B$59, IF(AND($H20="Zoning: Tree Points",$K20="Large",$L20<>"",ISNA(MATCH($L20,Tables!$C$252:$C$253,0))), Error!$B$59, IF(AND($F20="Retain",$H20="Zoning: Tree Points",$C20<>"",$D20<>"",OR($K20="",$L20="",$M20="")), Error!$B$20, "" )))))))))))))))))))))))))))))))))))))))))))))))))))))))), Error!$B$23))} | O20: {=IFERROR(_xlfn.LET( _xlpm.txt, $C20, _xlpm.chars, MID(_xlpm.txt, ROW(INDIRECT("1:" & LEN(_xlpm.txt))), 1), _xlpm.validChars, "0123456789ABCDEFGHIJKLMNOPQRSTUVWXYZabcdefghijklmnopqrstuvwxyz", _xlpm.isValid, ISNUMBER(MATCH(_xlpm.chars, MID(_xlpm.validChars, ROW(INDIRECT("1:" & LEN(_xlpm.validChars))), 1), 0)), _xlfn.TEXTJOIN("", TRUE, IF(_xlpm.isValid, _xlpm.chars, "")) ),"")}
B21: =IF($B20="", "", $B20) | C21: =IF($C20="", "", $C20) | D21: =IF($D20="", "", $D20) | E21: =IF($E20="", "", $E20) | F21: =IF($F20="", "", $F20) | G21: =IF(Tree_Table1[[#This Row],[Tree Status &]]="Retain", Tables!$B$237, IF(Tree_Table1[[#This Row],[Tree Status &]]="Remove", Tables!$B$238, "")) | K21: =IFERROR( IF( AND($H21="Zoning: Tree Points", NOT(ISNUMBER(SEARCH("sp.", $C21)))), VLOOKUP($C21, 'Tree List'!$C$3:$F$601, 4, FALSE), "" ), "") | L21: {=IFERROR( IF( AND($H21="Zoning: Tree Points", NOT(ISNUMBER(SEARCH("sp.", $C21)))), _xlfn.IFS( (COUNTIFS('Tree List'!$C$3:$C$601,$C21,'Tree List'!$D$3:$D$601,"Coniferous") + COUNTIFS('Tree List'!$C$3:$C$601,$C21,'Tree List'!$D$3:$D$601,"Deciduous Conifer")) > 0, _xlfn.IFS($K21="Small",0.5,$K21="Small/Medium",1,$K21="Medium/Large",1.4,$K21="Large",1.8), (COUNTIFS('Tree List'!$C$3:$C$601,$C21,'Tree List'!$D$3:$D$601,"Deciduous") + COUNTIFS('Tree List'!$C$3:$C$601,$C21,'Tree List'!$D$3:$D$601,"Broadleaf Evergreen")) > 0, _xlfn.IFS($K21="Small",0.4,$K21="Small/Medium",0.8,$K21="Medium/Large",1.2,$K21="Large",1.6) ), "" ), "")} | M21: =IFERROR($D21*$L21,"") | N21: {=_xlfn.LET( _xlpm.r,ROW(), _xlpm.blockIndex,INT((_xlpm.r-11)/4), _xlpm.baseRow,MOD(_xlpm.r-11,4)=0, _xlpm.baseStart,_xlpm.blockIndex*4+11, _xlpm.baseEnd,_xlpm.baseStart+3, _xlpm.HRange,INDEX($H:$H,_xlpm.baseStart):INDEX($H:$H,_xlpm.baseEnd), _xlpm.hasDM,ISNUMBER(SEARCH("DM",$I$2)), _xlpm.hasCN,ISNUMBER(SEARCH("CN",$I$2)), _xlpm.hasPH,ISNUMBER(SEARCH("PH",$I$2)), _xlpm.hasGR,ISNUMBER(SEARCH("GR",$I$2)), _xlpm.ECA_H,COUNTIF(_xlpm.HRange,"Environmental Critical Area (ECA)"), _xlpm.Shore_H,COUNTIF(_xlpm.HRange,"Shoreline"), _xlpm.TreePoints_H,COUNTIF(_xlpm.HRange,"Zoning: Tree Points"), _xlpm.GF_H,COUNTIF(_xlpm.HRange,"Zoning: Green Factor"), _xlpm.ECA_Short,COUNTIF(_xlpm.HRange,"Environmental Critical Area / Shoreline"), _xlpm.uniqueH,COUNTA(_xlfn.UNIQUE(_xlfn._xlws.FILTER(_xlpm.HRange,_xlpm.HRange<>""))), IFERROR( IF(AND(_xlpm.baseRow,ISNA(MATCH($C21,'Tree List'!$C$3:$C$601,0)),SUMPRODUCT(--ISNUMBER(SEARCH(Tables2!$C$677:$C$772,$O21)))>0), Error!$B$57, IF(AND(_xlpm.hasDM,$F21="Remove",$H21<>"",OR($I21="On-site replacement",$I21="Off-site replacement",$I21="Payment In Lieu")), Error!$B$56, IF(AND(_xlpm.hasDM,$F21="Remove",$H21<>"",$I21="Relocation"), Error!$B$66, IF(AND(OR(_xlpm.hasCN,_xlpm.hasPH,_xlpm.hasGR),$H21<>"",COUNTIF(Tables!$B$132:$B$134,$H21)>0,$I21="N/A (No replacement required)"), Error!$B$62, IF(AND(_xlpm.baseRow,$E21<>"",ISNA(MATCH($E21,Tables!$B$225:$B$232,0))), Error!$B$2, IF(AND(_xlpm.baseRow,$F21<>"",ISNA(MATCH($F21,Tables!$B$234:$B$235,0))), Error!$B$24, IF(AND(_xlpm.baseRow,_xlpm.ECA_H>0,_xlpm.Shore_H>0), Error!$B$16, IF(AND(_xlpm.baseRow,$E21<>"",$D21=""), Error!$B$3, IF(AND(_xlpm.baseRow,OR($E21="Tier 3",$E21="Tier 4"),$C21<>"",$D21>=24,COUNTIF(Tables2!$B$166:$B$674,$C21)>0), Error!$B$44, IF(AND(_xlpm.baseRow,OR($E21="Tier 3",$E21="Tier 4"),$C21<>"",$D21<>"",COUNTIF(Tables2!$B$73:$B$152,$C21)>0, $D21>=IFERROR(INDEX(Tables2!$C$73:$C$152,MATCH($C21,Tables2!$B$73:$B$152,0)),-1)), Error!$B$44, IF(AND(_xlpm.baseRow,OR($E21="Tier 2",$E21="Tier 2 Grove"),$C21<>"",$D21>=12,COUNTIF(Tables2!$B$153:$B$162,$C21)>0), Error!$B$45, IF(AND(_xlpm.baseRow,$E21="Tier 2 Grove",$D21<12), Error!$B$41, IF(AND(_xlpm.baseRow,$E21="Tier 2",$D21<5.88), Error!$B$40, IF(AND(_xlpm.baseRow,OR($E21="Tier 2",$E21="Tier 2 Grove"),$C21<>"",$D21<12,$D21>=6,COUNTIF(Tables2!$B$153:$B$162,$C21)>0), Error!$B$54, IF(AND(_xlpm.baseRow,$E21="Tier 2",COUNTIF(Tables2!$B$166:$B$674,$C21)>0,$D21<24), Error!$B$54, IF(AND(_xlpm.baseRow,$E21="Tier 3",ISNA(MATCH($C21,Tables2!$B$153:$B$162,0)),OR($D21<12,$D21>=24)), Error!$B$9, IF(AND(_xlpm.baseRow,$E21="Tier 3",COUNTIF(Tables2!$B$153:$B$162,$C21)>0,$D21<12), Error!$B$46, IF(AND(_xlpm.baseRow,$E21="Tier 4",OR($D21<6,$D21>=12)), Error!$B$10, IF(AND(_xlpm.baseRow,$E21="<6in DSH for Tree Points",OR($D21>=6,$D21="")), Error!$B$8, IF(AND(_xlpm.baseRow,$E21="Street Tree for Green Factor",$F21<>"",$F21<>"Retain"), Error!$B$14, IF(AND($E21="<6in DSH for Tree Points",$F21="Retain",$H21<>"",ISNA(MATCH($H21,Tables!$B$174:$B$174,0))), Error!$B$15, IF(AND($E21="Street Tree for Green Factor",$F21="Retain",$H21<>"",$H21<>"Zoning: Green Factor"), Error!$B$15, IF(AND($E21="ECA / Shoreline Tree",$F21="Remove",$H21<>"",ISNA(MATCH($H21,Tables!$B$189:$B$190,0))), Error!$B$15, IF(AND($E21="ECA / Shoreline Tree",$F21="Retain",$H21<>"",ISNA(MATCH($H21,Tables!$B$184:$B$186,0))), Error!$B$15, IF(AND($E21="Tier 4",$F21="Remove",$H21<>"",ISNA(MATCH($H21,Tables!$B$171,0))), Error!$B$15, IF(AND($E21="Tier 4",$F21="Retain",$H21<>"",ISNA(MATCH($H21,Tables!$B$166:$B$168,0))), Error!$B$15, IF(AND($E21="Tier 3",$F21="Retain",$H21<>"",ISNA(MATCH($H21,Tables!$B$158:$B$160,0))), Error!$B$15, IF(AND($E21="Tier 3",$F21="Remove",$H21<>"",ISNA(MATCH($H21,Tables!$B$163,0))), Error!$B$15, IF(AND(OR($E21="Tier 2",$E21="Tier 2 Grove"),$F21="Remove",$H21<>"",ISNA(MATCH($H21,Tables!$B$153:$B$155,0))), Error!$B$15, IF(AND(OR($E21="Tier 2",$E21="Tier 2 Grove"),$F21="Retain",$H21<>"",ISNA(MATCH($H21,Tables!$B$147:$B$150,0))), Error!$B$15, IF(AND($E21="Tier 1",$F21="Remove",$H21<>"",ISNA(MATCH($H21,Tables!$B$143:$B$144,0))), Error!$B$15, IF(AND($E21="Tier 1",$F21="Retain",$H21<>"",ISNA(MATCH($H21,Tables!$B$137:$B$140,0))), Error!$B$15, IF(AND($E21<>"Tier 2",$E21<>"Tier 2 Grove",$E21<>"Tier 3",$E21<>"Tier 4",$H21="Zoning: Green Factor",OR($D21="",$D21<6)), Error!$B$11, IF(AND(_xlpm.baseRow,$D21<6,$E21="<6in DSH for Tree Points",_xlpm.TreePoints_H=0), Error!$B$21, IF(AND(_xlpm.baseRow,$E21<>"",$D21<>"",$F21=""), Error!$B$4, IF(AND(_xlpm.baseRow,$F21="Remove",OR($E21="Tier 1",$E21="Tier 2",$E21="Tier 2 Grove"),COUNTBLANK(_xlpm.HRange)<3,_xlpm.uniqueH>=2), Error!$B$48, IF(AND(_xlpm.baseRow,$F21="Retain",OR($E21="Tier 1",$E21="Tier 2",$E21="Tier 2 Grove"),COUNTIF(_xlpm.HRange,"Tree Code: Required to Retain Tier 1-2 Tree")=0), Error!$B$47, IF(AND(_xlpm.baseRow,$E21<>"",$D21<>"",$F21<>"",COUNTBLANK(_xlpm.HRange)=4), Error!$B$5, IF(AND($F21="Remove",$H21<>"",$I21=""), Error!$B$18, IF(AND($E21="Tier 4",$F21="Remove",$H21="Tree Protection Code: Tier 3 or Tier 4 Allowance",$H21<>"",ISNA(MATCH($I21,Tables!$B$200,0))), Error!$B$17, IF(AND($E21="Tier 3",$F21="Remove",$H21<>"",$H21="Tree Protection Code: Tier 3 or Tier 4 Allowance",OR($I21="",ISNA(MATCH($I21,Tables!$B$193:$B$197,0)))), Error!$B$17, IF(AND(OR($E21="Tier 2",$E21="Tier 2 Grove"),$F21="Remove",$H21="Tree Protection Code: Other removal allowance or exemption",$I21<>"",ISNA(MATCH($I21,Tables!$B$215:$B$218,0))), Error!$B$17, IF(AND(OR($E21="Tier 2",$E21="Tier 2 Grove"),$F21="Remove",$H21="Tree Protection Code: Development Capacity",$I21<>"",ISNA(MATCH($I21,Tables!$B$193:$B$197,0))), Error!$B$17, IF(AND(OR($E21="Tier 2",$E21="Tier 2 Grove"),$F21="Remove",$H21="Tree Protection Code: Necessary for Construction",$I21<>"",ISNA(MATCH($I21,Tables!$B$193:$B$197,0))), Error!$B$17, IF(AND($E21="Tier 1",$F21="Remove",$H21="Tree Protection Code: Special Exception",$I21<>"",ISNA(MATCH($I21,Tables!$B$215:$B$218,0))), Error!$B$17, IF(AND($E21="Tier 1",$F21="Remove",$H21="Tree Protection Code: Other removal allowance or exemption",$I21<>"",ISNA(MATCH($I21,Tables!$B$215:$B$218,0))), Error!$B$17, IF(AND($E21="ECA / Shoreline Tree",$F21="Remove",$H21<>"",OR($H21="Shoreline",$H21="Environmental Critical Area (ECA)"),ISNA(MATCH($I21,Tables!$B$209:$B$212,0))), Error!$B$17, IF(AND(_xlpm.baseRow,$F21="Retain",$E21="ECA / Shoreline Tree",_xlpm.ECA_Short=0), Error!$B$61, IF(AND($F21="Remove",ISNUMBER(MATCH($E21,{"Tier 1","Tier 2","Tier 3","Tier 4","Tier 2 Grove"},0)),ISNUMBER(MATCH($I21,{"On-site replacement","Off-site replacement"},0)),$J21="",$H21<>""), Error!$B$19, IF(AND(_xlpm.baseRow,$E21<>"",$D21<>"",$F21<>"",COUNTBLANK($B21:$C21)>0,COUNTBLANK(_xlpm.HRange)<>4), Error!$B$22, IF(AND($H21="Zoning: Tree Points",$K21<>"",ISNA(MATCH($K21,Tables!$B$242:$B$253,0))), Error!$B$58, IF(AND($H21="Zoning: Tree Points",$K21="Small",$L21<>"",ISNA(MATCH($L21,Tables!$C$243:$C$244,0))), Error!$B$59, IF(AND($H21="Zoning: Tree Points",$K21="Small/Medium",$L21<>"",ISNA(MATCH($L21,Tables!$C$246:$C$247,0))), Error!$B$59, IF(AND($H21="Zoning: Tree Points",$K21="Medium/Large",$L21<>"",ISNA(MATCH($L21,Tables!$C$249:$C$250,0))), Error!$B$59, IF(AND($H21="Zoning: Tree Points",$K21="Large",$L21<>"",ISNA(MATCH($L21,Tables!$C$252:$C$253,0))), Error!$B$59, IF(AND($F21="Retain",$H21="Zoning: Tree Points",$C21<>"",$D21<>"",OR($K21="",$L21="",$M21="")), Error!$B$20, "" )))))))))))))))))))))))))))))))))))))))))))))))))))))))), Error!$B$23))} | O21: {=IFERROR(_xlfn.LET( _xlpm.txt, $C21, _xlpm.chars, MID(_xlpm.txt, ROW(INDIRECT("1:" & LEN(_xlpm.txt))), 1), _xlpm.validChars, "0123456789ABCDEFGHIJKLMNOPQRSTUVWXYZabcdefghijklmnopqrstuvwxyz", _xlpm.isValid, ISNUMBER(MATCH(_xlpm.chars, MID(_xlpm.validChars, ROW(INDIRECT("1:" & LEN(_xlpm.validChars))), 1), 0)), _xlfn.TEXTJOIN("", TRUE, IF(_xlpm.isValid, _xlpm.chars, "")) ),"")}
B22: =IF($B21="", "", $B21) | C22: =IF($C21="", "", $C21) | D22: =IF($D21="", "", $D21) | E22: =IF($E21="", "", $E21) | F22: =IF($F21="", "", $F21) | G22: =IF(Tree_Table1[[#This Row],[Tree Status &]]="Retain", Tables!$B$237, IF(Tree_Table1[[#This Row],[Tree Status &]]="Remove", Tables!$B$238, "")) | K22: =IFERROR( IF( AND($H22="Zoning: Tree Points", NOT(ISNUMBER(SEARCH("sp.", $C22)))), VLOOKUP($C22, 'Tree List'!$C$3:$F$601, 4, FALSE), "" ), "") | L22: {=IFERROR( IF( AND($H22="Zoning: Tree Points", NOT(ISNUMBER(SEARCH("sp.", $C22)))), _xlfn.IFS( (COUNTIFS('Tree List'!$C$3:$C$601,$C22,'Tree List'!$D$3:$D$601,"Coniferous") + COUNTIFS('Tree List'!$C$3:$C$601,$C22,'Tree List'!$D$3:$D$601,"Deciduous Conifer")) > 0, _xlfn.IFS($K22="Small",0.5,$K22="Small/Medium",1,$K22="Medium/Large",1.4,$K22="Large",1.8), (COUNTIFS('Tree List'!$C$3:$C$601,$C22,'Tree List'!$D$3:$D$601,"Deciduous") + COUNTIFS('Tree List'!$C$3:$C$601,$C22,'Tree List'!$D$3:$D$601,"Broadleaf Evergreen")) > 0, _xlfn.IFS($K22="Small",0.4,$K22="Small/Medium",0.8,$K22="Medium/Large",1.2,$K22="Large",1.6) ), "" ), "")} | M22: =IFERROR($D22*$L22,"") | N22: {=_xlfn.LET( _xlpm.r,ROW(), _xlpm.blockIndex,INT((_xlpm.r-11)/4), _xlpm.baseRow,MOD(_xlpm.r-11,4)=0, _xlpm.baseStart,_xlpm.blockIndex*4+11, _xlpm.baseEnd,_xlpm.baseStart+3, _xlpm.HRange,INDEX($H:$H,_xlpm.baseStart):INDEX($H:$H,_xlpm.baseEnd), _xlpm.hasDM,ISNUMBER(SEARCH("DM",$I$2)), _xlpm.hasCN,ISNUMBER(SEARCH("CN",$I$2)), _xlpm.hasPH,ISNUMBER(SEARCH("PH",$I$2)), _xlpm.hasGR,ISNUMBER(SEARCH("GR",$I$2)), _xlpm.ECA_H,COUNTIF(_xlpm.HRange,"Environmental Critical Area (ECA)"), _xlpm.Shore_H,COUNTIF(_xlpm.HRange,"Shoreline"), _xlpm.TreePoints_H,COUNTIF(_xlpm.HRange,"Zoning: Tree Points"), _xlpm.GF_H,COUNTIF(_xlpm.HRange,"Zoning: Green Factor"), _xlpm.ECA_Short,COUNTIF(_xlpm.HRange,"Environmental Critical Area / Shoreline"), _xlpm.uniqueH,COUNTA(_xlfn.UNIQUE(_xlfn._xlws.FILTER(_xlpm.HRange,_xlpm.HRange<>""))), IFERROR( IF(AND(_xlpm.baseRow,ISNA(MATCH($C22,'Tree List'!$C$3:$C$601,0)),SUMPRODUCT(--ISNUMBER(SEARCH(Tables2!$C$677:$C$772,$O22)))>0), Error!$B$57, IF(AND(_xlpm.hasDM,$F22="Remove",$H22<>"",OR($I22="On-site replacement",$I22="Off-site replacement",$I22="Payment In Lieu")), Error!$B$56, IF(AND(_xlpm.hasDM,$F22="Remove",$H22<>"",$I22="Relocation"), Error!$B$66, IF(AND(OR(_xlpm.hasCN,_xlpm.hasPH,_xlpm.hasGR),$H22<>"",COUNTIF(Tables!$B$132:$B$134,$H22)>0,$I22="N/A (No replacement required)"), Error!$B$62, IF(AND(_xlpm.baseRow,$E22<>"",ISNA(MATCH($E22,Tables!$B$225:$B$232,0))), Error!$B$2, IF(AND(_xlpm.baseRow,$F22<>"",ISNA(MATCH($F22,Tables!$B$234:$B$235,0))), Error!$B$24, IF(AND(_xlpm.baseRow,_xlpm.ECA_H>0,_xlpm.Shore_H>0), Error!$B$16, IF(AND(_xlpm.baseRow,$E22<>"",$D22=""), Error!$B$3, IF(AND(_xlpm.baseRow,OR($E22="Tier 3",$E22="Tier 4"),$C22<>"",$D22>=24,COUNTIF(Tables2!$B$166:$B$674,$C22)>0), Error!$B$44, IF(AND(_xlpm.baseRow,OR($E22="Tier 3",$E22="Tier 4"),$C22<>"",$D22<>"",COUNTIF(Tables2!$B$73:$B$152,$C22)>0, $D22>=IFERROR(INDEX(Tables2!$C$73:$C$152,MATCH($C22,Tables2!$B$73:$B$152,0)),-1)), Error!$B$44, IF(AND(_xlpm.baseRow,OR($E22="Tier 2",$E22="Tier 2 Grove"),$C22<>"",$D22>=12,COUNTIF(Tables2!$B$153:$B$162,$C22)>0), Error!$B$45, IF(AND(_xlpm.baseRow,$E22="Tier 2 Grove",$D22<12), Error!$B$41, IF(AND(_xlpm.baseRow,$E22="Tier 2",$D22<5.88), Error!$B$40, IF(AND(_xlpm.baseRow,OR($E22="Tier 2",$E22="Tier 2 Grove"),$C22<>"",$D22<12,$D22>=6,COUNTIF(Tables2!$B$153:$B$162,$C22)>0), Error!$B$54, IF(AND(_xlpm.baseRow,$E22="Tier 2",COUNTIF(Tables2!$B$166:$B$674,$C22)>0,$D22<24), Error!$B$54, IF(AND(_xlpm.baseRow,$E22="Tier 3",ISNA(MATCH($C22,Tables2!$B$153:$B$162,0)),OR($D22<12,$D22>=24)), Error!$B$9, IF(AND(_xlpm.baseRow,$E22="Tier 3",COUNTIF(Tables2!$B$153:$B$162,$C22)>0,$D22<12), Error!$B$46, IF(AND(_xlpm.baseRow,$E22="Tier 4",OR($D22<6,$D22>=12)), Error!$B$10, IF(AND(_xlpm.baseRow,$E22="<6in DSH for Tree Points",OR($D22>=6,$D22="")), Error!$B$8, IF(AND(_xlpm.baseRow,$E22="Street Tree for Green Factor",$F22<>"",$F22<>"Retain"), Error!$B$14, IF(AND($E22="<6in DSH for Tree Points",$F22="Retain",$H22<>"",ISNA(MATCH($H22,Tables!$B$174:$B$174,0))), Error!$B$15, IF(AND($E22="Street Tree for Green Factor",$F22="Retain",$H22<>"",$H22<>"Zoning: Green Factor"), Error!$B$15, IF(AND($E22="ECA / Shoreline Tree",$F22="Remove",$H22<>"",ISNA(MATCH($H22,Tables!$B$189:$B$190,0))), Error!$B$15, IF(AND($E22="ECA / Shoreline Tree",$F22="Retain",$H22<>"",ISNA(MATCH($H22,Tables!$B$184:$B$186,0))), Error!$B$15, IF(AND($E22="Tier 4",$F22="Remove",$H22<>"",ISNA(MATCH($H22,Tables!$B$171,0))), Error!$B$15, IF(AND($E22="Tier 4",$F22="Retain",$H22<>"",ISNA(MATCH($H22,Tables!$B$166:$B$168,0))), Error!$B$15, IF(AND($E22="Tier 3",$F22="Retain",$H22<>"",ISNA(MATCH($H22,Tables!$B$158:$B$160,0))), Error!$B$15, IF(AND($E22="Tier 3",$F22="Remove",$H22<>"",ISNA(MATCH($H22,Tables!$B$163,0))), Error!$B$15, IF(AND(OR($E22="Tier 2",$E22="Tier 2 Grove"),$F22="Remove",$H22<>"",ISNA(MATCH($H22,Tables!$B$153:$B$155,0))), Error!$B$15, IF(AND(OR($E22="Tier 2",$E22="Tier 2 Grove"),$F22="Retain",$H22<>"",ISNA(MATCH($H22,Tables!$B$147:$B$150,0))), Error!$B$15, IF(AND($E22="Tier 1",$F22="Remove",$H22<>"",ISNA(MATCH($H22,Tables!$B$143:$B$144,0))), Error!$B$15, IF(AND($E22="Tier 1",$F22="Retain",$H22<>"",ISNA(MATCH($H22,Tables!$B$137:$B$140,0))), Error!$B$15, IF(AND($E22<>"Tier 2",$E22<>"Tier 2 Grove",$E22<>"Tier 3",$E22<>"Tier 4",$H22="Zoning: Green Factor",OR($D22="",$D22<6)), Error!$B$11, IF(AND(_xlpm.baseRow,$D22<6,$E22="<6in DSH for Tree Points",_xlpm.TreePoints_H=0), Error!$B$21, IF(AND(_xlpm.baseRow,$E22<>"",$D22<>"",$F22=""), Error!$B$4, IF(AND(_xlpm.baseRow,$F22="Remove",OR($E22="Tier 1",$E22="Tier 2",$E22="Tier 2 Grove"),COUNTBLANK(_xlpm.HRange)<3,_xlpm.uniqueH>=2), Error!$B$48, IF(AND(_xlpm.baseRow,$F22="Retain",OR($E22="Tier 1",$E22="Tier 2",$E22="Tier 2 Grove"),COUNTIF(_xlpm.HRange,"Tree Code: Required to Retain Tier 1-2 Tree")=0), Error!$B$47, IF(AND(_xlpm.baseRow,$E22<>"",$D22<>"",$F22<>"",COUNTBLANK(_xlpm.HRange)=4), Error!$B$5, IF(AND($F22="Remove",$H22<>"",$I22=""), Error!$B$18, IF(AND($E22="Tier 4",$F22="Remove",$H22="Tree Protection Code: Tier 3 or Tier 4 Allowance",$H22<>"",ISNA(MATCH($I22,Tables!$B$200,0))), Error!$B$17, IF(AND($E22="Tier 3",$F22="Remove",$H22<>"",$H22="Tree Protection Code: Tier 3 or Tier 4 Allowance",OR($I22="",ISNA(MATCH($I22,Tables!$B$193:$B$197,0)))), Error!$B$17, IF(AND(OR($E22="Tier 2",$E22="Tier 2 Grove"),$F22="Remove",$H22="Tree Protection Code: Other removal allowance or exemption",$I22<>"",ISNA(MATCH($I22,Tables!$B$215:$B$218,0))), Error!$B$17, IF(AND(OR($E22="Tier 2",$E22="Tier 2 Grove"),$F22="Remove",$H22="Tree Protection Code: Development Capacity",$I22<>"",ISNA(MATCH($I22,Tables!$B$193:$B$197,0))), Error!$B$17, IF(AND(OR($E22="Tier 2",$E22="Tier 2 Grove"),$F22="Remove",$H22="Tree Protection Code: Necessary for Construction",$I22<>"",ISNA(MATCH($I22,Tables!$B$193:$B$197,0))), Error!$B$17, IF(AND($E22="Tier 1",$F22="Remove",$H22="Tree Protection Code: Special Exception",$I22<>"",ISNA(MATCH($I22,Tables!$B$215:$B$218,0))), Error!$B$17, IF(AND($E22="Tier 1",$F22="Remove",$H22="Tree Protection Code: Other removal allowance or exemption",$I22<>"",ISNA(MATCH($I22,Tables!$B$215:$B$218,0))), Error!$B$17, IF(AND($E22="ECA / Shoreline Tree",$F22="Remove",$H22<>"",OR($H22="Shoreline",$H22="Environmental Critical Area (ECA)"),ISNA(MATCH($I22,Tables!$B$209:$B$212,0))), Error!$B$17, IF(AND(_xlpm.baseRow,$F22="Retain",$E22="ECA / Shoreline Tree",_xlpm.ECA_Short=0), Error!$B$61, IF(AND($F22="Remove",ISNUMBER(MATCH($E22,{"Tier 1","Tier 2","Tier 3","Tier 4","Tier 2 Grove"},0)),ISNUMBER(MATCH($I22,{"On-site replacement","Off-site replacement"},0)),$J22="",$H22<>""), Error!$B$19, IF(AND(_xlpm.baseRow,$E22<>"",$D22<>"",$F22<>"",COUNTBLANK($B22:$C22)>0,COUNTBLANK(_xlpm.HRange)<>4), Error!$B$22, IF(AND($H22="Zoning: Tree Points",$K22<>"",ISNA(MATCH($K22,Tables!$B$242:$B$253,0))), Error!$B$58, IF(AND($H22="Zoning: Tree Points",$K22="Small",$L22<>"",ISNA(MATCH($L22,Tables!$C$243:$C$244,0))), Error!$B$59, IF(AND($H22="Zoning: Tree Points",$K22="Small/Medium",$L22<>"",ISNA(MATCH($L22,Tables!$C$246:$C$247,0))), Error!$B$59, IF(AND($H22="Zoning: Tree Points",$K22="Medium/Large",$L22<>"",ISNA(MATCH($L22,Tables!$C$249:$C$250,0))), Error!$B$59, IF(AND($H22="Zoning: Tree Points",$K22="Large",$L22<>"",ISNA(MATCH($L22,Tables!$C$252:$C$253,0))), Error!$B$59, IF(AND($F22="Retain",$H22="Zoning: Tree Points",$C22<>"",$D22<>"",OR($K22="",$L22="",$M22="")), Error!$B$20, "" )))))))))))))))))))))))))))))))))))))))))))))))))))))))), Error!$B$23))} | O22: {=IFERROR(_xlfn.LET( _xlpm.txt, $C22, _xlpm.chars, MID(_xlpm.txt, ROW(INDIRECT("1:" & LEN(_xlpm.txt))), 1), _xlpm.validChars, "0123456789ABCDEFGHIJKLMNOPQRSTUVWXYZabcdefghijklmnopqrstuvwxyz", _xlpm.isValid, ISNUMBER(MATCH(_xlpm.chars, MID(_xlpm.validChars, ROW(INDIRECT("1:" & LEN(_xlpm.validChars))), 1), 0)), _xlfn.TEXTJOIN("", TRUE, IF(_xlpm.isValid, _xlpm.chars, "")) ),"")}
A23: 4 | G23: =IF(Tree_Table1[[#This Row],[Tree Status &]]="Retain", Tables!$B$237, IF(Tree_Table1[[#This Row],[Tree Status &]]="Remove", Tables!$B$238, "")) | K23: =IFERROR( IF( AND($H23="Zoning: Tree Points", NOT(ISNUMBER(SEARCH("sp.", $C23)))), VLOOKUP($C23, 'Tree List'!$C$3:$F$601, 4, FALSE), "" ), "") | L23: {=IFERROR( IF( AND($H23="Zoning: Tree Points", NOT(ISNUMBER(SEARCH("sp.", $C23)))), _xlfn.IFS( (COUNTIFS('Tree List'!$C$3:$C$601,$C23,'Tree List'!$D$3:$D$601,"Coniferous") + COUNTIFS('Tree List'!$C$3:$C$601,$C23,'Tree List'!$D$3:$D$601,"Deciduous Conifer")) > 0, _xlfn.IFS($K23="Small",0.5,$K23="Small/Medium",1,$K23="Medium/Large",1.4,$K23="Large",1.8), (COUNTIFS('Tree List'!$C$3:$C$601,$C23,'Tree List'!$D$3:$D$601,"Deciduous") + COUNTIFS('Tree List'!$C$3:$C$601,$C23,'Tree List'!$D$3:$D$601,"Broadleaf Evergreen")) > 0, _xlfn.IFS($K23="Small",0.4,$K23="Small/Medium",0.8,$K23="Medium/Large",1.2,$K23="Large",1.6) ), "" ), "")} | M23: =IFERROR($D23*$L23,"") | N23: {=_xlfn.LET( _xlpm.r,ROW(), _xlpm.blockIndex,INT((_xlpm.r-11)/4), _xlpm.baseRow,MOD(_xlpm.r-11,4)=0, _xlpm.baseStart,_xlpm.blockIndex*4+11, _xlpm.baseEnd,_xlpm.baseStart+3, _xlpm.HRange,INDEX($H:$H,_xlpm.baseStart):INDEX($H:$H,_xlpm.baseEnd), _xlpm.hasDM,ISNUMBER(SEARCH("DM",$I$2)), _xlpm.hasCN,ISNUMBER(SEARCH("CN",$I$2)), _xlpm.hasPH,ISNUMBER(SEARCH("PH",$I$2)), _xlpm.hasGR,ISNUMBER(SEARCH("GR",$I$2)), _xlpm.ECA_H,COUNTIF(_xlpm.HRange,"Environmental Critical Area (ECA)"), _xlpm.Shore_H,COUNTIF(_xlpm.HRange,"Shoreline"), _xlpm.TreePoints_H,COUNTIF(_xlpm.HRange,"Zoning: Tree Points"), _xlpm.GF_H,COUNTIF(_xlpm.HRange,"Zoning: Green Factor"), _xlpm.ECA_Short,COUNTIF(_xlpm.HRange,"Environmental Critical Area / Shoreline"), _xlpm.uniqueH,COUNTA(_xlfn.UNIQUE(_xlfn._xlws.FILTER(_xlpm.HRange,_xlpm.HRange<>""))), IFERROR( IF(AND(_xlpm.baseRow,ISNA(MATCH($C23,'Tree List'!$C$3:$C$601,0)),SUMPRODUCT(--ISNUMBER(SEARCH(Tables2!$C$677:$C$772,$O23)))>0), Error!$B$57, IF(AND(_xlpm.hasDM,$F23="Remove",$H23<>"",OR($I23="On-site replacement",$I23="Off-site replacement",$I23="Payment In Lieu")), Error!$B$56, IF(AND(_xlpm.hasDM,$F23="Remove",$H23<>"",$I23="Relocation"), Error!$B$66, IF(AND(OR(_xlpm.hasCN,_xlpm.hasPH,_xlpm.hasGR),$H23<>"",COUNTIF(Tables!$B$132:$B$134,$H23)>0,$I23="N/A (No replacement required)"), Error!$B$62, IF(AND(_xlpm.baseRow,$E23<>"",ISNA(MATCH($E23,Tables!$B$225:$B$232,0))), Error!$B$2, IF(AND(_xlpm.baseRow,$F23<>"",ISNA(MATCH($F23,Tables!$B$234:$B$235,0))), Error!$B$24, IF(AND(_xlpm.baseRow,_xlpm.ECA_H>0,_xlpm.Shore_H>0), Error!$B$16, IF(AND(_xlpm.baseRow,$E23<>"",$D23=""), Error!$B$3, IF(AND(_xlpm.baseRow,OR($E23="Tier 3",$E23="Tier 4"),$C23<>"",$D23>=24,COUNTIF(Tables2!$B$166:$B$674,$C23)>0), Error!$B$44, IF(AND(_xlpm.baseRow,OR($E23="Tier 3",$E23="Tier 4"),$C23<>"",$D23<>"",COUNTIF(Tables2!$B$73:$B$152,$C23)>0, $D23>=IFERROR(INDEX(Tables2!$C$73:$C$152,MATCH($C23,Tables2!$B$73:$B$152,0)),-1)), Error!$B$44, IF(AND(_xlpm.baseRow,OR($E23="Tier 2",$E23="Tier 2 Grove"),$C23<>"",$D23>=12,COUNTIF(Tables2!$B$153:$B$162,$C23)>0), Error!$B$45, IF(AND(_xlpm.baseRow,$E23="Tier 2 Grove",$D23<12), Error!$B$41, IF(AND(_xlpm.baseRow,$E23="Tier 2",$D23<5.88), Error!$B$40, IF(AND(_xlpm.baseRow,OR($E23="Tier 2",$E23="Tier 2 Grove"),$C23<>"",$D23<12,$D23>=6,COUNTIF(Tables2!$B$153:$B$162,$C23)>0), Error!$B$54, IF(AND(_xlpm.baseRow,$E23="Tier 2",COUNTIF(Tables2!$B$166:$B$674,$C23)>0,$D23<24), Error!$B$54, IF(AND(_xlpm.baseRow,$E23="Tier 3",ISNA(MATCH($C23,Tables2!$B$153:$B$162,0)),OR($D23<12,$D23>=24)), Error!$B$9, IF(AND(_xlpm.baseRow,$E23="Tier 3",COUNTIF(Tables2!$B$153:$B$162,$C23)>0,$D23<12), Error!$B$46, IF(AND(_xlpm.baseRow,$E23="Tier 4",OR($D23<6,$D23>=12)), Error!$B$10, IF(AND(_xlpm.baseRow,$E23="<6in DSH for Tree Points",OR($D23>=6,$D23="")), Error!$B$8, IF(AND(_xlpm.baseRow,$E23="Street Tree for Green Factor",$F23<>"",$F23<>"Retain"), Error!$B$14, IF(AND($E23="<6in DSH for Tree Points",$F23="Retain",$H23<>"",ISNA(MATCH($H23,Tables!$B$174:$B$174,0))), Error!$B$15, IF(AND($E23="Street Tree for Green Factor",$F23="Retain",$H23<>"",$H23<>"Zoning: Green Factor"), Error!$B$15, IF(AND($E23="ECA / Shoreline Tree",$F23="Remove",$H23<>"",ISNA(MATCH($H23,Tables!$B$189:$B$190,0))), Error!$B$15, IF(AND($E23="ECA / Shoreline Tree",$F23="Retain",$H23<>"",ISNA(MATCH($H23,Tables!$B$184:$B$186,0))), Error!$B$15, IF(AND($E23="Tier 4",$F23="Remove",$H23<>"",ISNA(MATCH($H23,Tables!$B$171,0))), Error!$B$15, IF(AND($E23="Tier 4",$F23="Retain",$H23<>"",ISNA(MATCH($H23,Tables!$B$166:$B$168,0))), Error!$B$15, IF(AND($E23="Tier 3",$F23="Retain",$H23<>"",ISNA(MATCH($H23,Tables!$B$158:$B$160,0))), Error!$B$15, IF(AND($E23="Tier 3",$F23="Remove",$H23<>"",ISNA(MATCH($H23,Tables!$B$163,0))), Error!$B$15, IF(AND(OR($E23="Tier 2",$E23="Tier 2 Grove"),$F23="Remove",$H23<>"",ISNA(MATCH($H23,Tables!$B$153:$B$155,0))), Error!$B$15, IF(AND(OR($E23="Tier 2",$E23="Tier 2 Grove"),$F23="Retain",$H23<>"",ISNA(MATCH($H23,Tables!$B$147:$B$150,0))), Error!$B$15, IF(AND($E23="Tier 1",$F23="Remove",$H23<>"",ISNA(MATCH($H23,Tables!$B$143:$B$144,0))), Error!$B$15, IF(AND($E23="Tier 1",$F23="Retain",$H23<>"",ISNA(MATCH($H23,Tables!$B$137:$B$140,0))), Error!$B$15, IF(AND($E23<>"Tier 2",$E23<>"Tier 2 Grove",$E23<>"Tier 3",$E23<>"Tier 4",$H23="Zoning: Green Factor",OR($D23="",$D23<6)), Error!$B$11, IF(AND(_xlpm.baseRow,$D23<6,$E23="<6in DSH for Tree Points",_xlpm.TreePoints_H=0), Error!$B$21, IF(AND(_xlpm.baseRow,$E23<>"",$D23<>"",$F23=""), Error!$B$4, IF(AND(_xlpm.baseRow,$F23="Remove",OR($E23="Tier 1",$E23="Tier 2",$E23="Tier 2 Grove"),COUNTBLANK(_xlpm.HRange)<3,_xlpm.uniqueH>=2), Error!$B$48, IF(AND(_xlpm.baseRow,$F23="Retain",OR($E23="Tier 1",$E23="Tier 2",$E23="Tier 2 Grove"),COUNTIF(_xlpm.HRange,"Tree Code: Required to Retain Tier 1-2 Tree")=0), Error!$B$47, IF(AND(_xlpm.baseRow,$E23<>"",$D23<>"",$F23<>"",COUNTBLANK(_xlpm.HRange)=4), Error!$B$5, IF(AND($F23="Remove",$H23<>"",$I23=""), Error!$B$18, IF(AND($E23="Tier 4",$F23="Remove",$H23="Tree Protection Code: Tier 3 or Tier 4 Allowance",$H23<>"",ISNA(MATCH($I23,Tables!$B$200,0))), Error!$B$17, IF(AND($E23="Tier 3",$F23="Remove",$H23<>"",$H23="Tree Protection Code: Tier 3 or Tier 4 Allowance",OR($I23="",ISNA(MATCH($I23,Tables!$B$193:$B$197,0)))), Error!$B$17, IF(AND(OR($E23="Tier 2",$E23="Tier 2 Grove"),$F23="Remove",$H23="Tree Protection Code: Other removal allowance or exemption",$I23<>"",ISNA(MATCH($I23,Tables!$B$215:$B$218,0))), Error!$B$17, IF(AND(OR($E23="Tier 2",$E23="Tier 2 Grove"),$F23="Remove",$H23="Tree Protection Code: Development Capacity",$I23<>"",ISNA(MATCH($I23,Tables!$B$193:$B$197,0))), Error!$B$17, IF(AND(OR($E23="Tier 2",$E23="Tier 2 Grove"),$F23="Remove",$H23="Tree Protection Code: Necessary for Construction",$I23<>"",ISNA(MATCH($I23,Tables!$B$193:$B$197,0))), Error!$B$17, IF(AND($E23="Tier 1",$F23="Remove",$H23="Tree Protection Code: Special Exception",$I23<>"",ISNA(MATCH($I23,Tables!$B$215:$B$218,0))), Error!$B$17, IF(AND($E23="Tier 1",$F23="Remove",$H23="Tree Protection Code: Other removal allowance or exemption",$I23<>"",ISNA(MATCH($I23,Tables!$B$215:$B$218,0))), Error!$B$17, IF(AND($E23="ECA / Shoreline Tree",$F23="Remove",$H23<>"",OR($H23="Shoreline",$H23="Environmental Critical Area (ECA)"),ISNA(MATCH($I23,Tables!$B$209:$B$212,0))), Error!$B$17, IF(AND(_xlpm.baseRow,$F23="Retain",$E23="ECA / Shoreline Tree",_xlpm.ECA_Short=0), Error!$B$61, IF(AND($F23="Remove",ISNUMBER(MATCH($E23,{"Tier 1","Tier 2","Tier 3","Tier 4","Tier 2 Grove"},0)),ISNUMBER(MATCH($I23,{"On-site replacement","Off-site replacement"},0)),$J23="",$H23<>""), Error!$B$19, IF(AND(_xlpm.baseRow,$E23<>"",$D23<>"",$F23<>"",COUNTBLANK($B23:$C23)>0,COUNTBLANK(_xlpm.HRange)<>4), Error!$B$22, IF(AND($H23="Zoning: Tree Points",$K23<>"",ISNA(MATCH($K23,Tables!$B$242:$B$253,0))), Error!$B$58, IF(AND($H23="Zoning: Tree Points",$K23="Small",$L23<>"",ISNA(MATCH($L23,Tables!$C$243:$C$244,0))), Error!$B$59, IF(AND($H23="Zoning: Tree Points",$K23="Small/Medium",$L23<>"",ISNA(MATCH($L23,Tables!$C$246:$C$247,0))), Error!$B$59, IF(AND($H23="Zoning: Tree Points",$K23="Medium/Large",$L23<>"",ISNA(MATCH($L23,Tables!$C$249:$C$250,0))), Error!$B$59, IF(AND($H23="Zoning: Tree Points",$K23="Large",$L23<>"",ISNA(MATCH($L23,Tables!$C$252:$C$253,0))), Error!$B$59, IF(AND($F23="Retain",$H23="Zoning: Tree Points",$C23<>"",$D23<>"",OR($K23="",$L23="",$M23="")), Error!$B$20, "" )))))))))))))))))))))))))))))))))))))))))))))))))))))))), Error!$B$23))} | O23: {=IFERROR(_xlfn.LET( _xlpm.txt, $C23, _xlpm.chars, MID(_xlpm.txt, ROW(INDIRECT("1:" & LEN(_xlpm.txt))), 1), _xlpm.validChars, "0123456789ABCDEFGHIJKLMNOPQRSTUVWXYZabcdefghijklmnopqrstuvwxyz", _xlpm.isValid, ISNUMBER(MATCH(_xlpm.chars, MID(_xlpm.validChars, ROW(INDIRECT("1:" & LEN(_xlpm.validChars))), 1), 0)), _xlfn.TEXTJOIN("", TRUE, IF(_xlpm.isValid, _xlpm.chars, "")) ),"")}
B24: =IF($B23="", "", $B23) | C24: =IF($C23="", "", $C23) | D24: =IF($D23="", "", $D23) | E24: =IF($E23="", "", $E23) | F24: =IF($F23="", "", $F23) | G24: =IF(Tree_Table1[[#This Row],[Tree Status &]]="Retain", Tables!$B$237, IF(Tree_Table1[[#This Row],[Tree Status &]]="Remove", Tables!$B$238, "")) | K24: =IFERROR( IF( AND($H24="Zoning: Tree Points", NOT(ISNUMBER(SEARCH("sp.", $C24)))), VLOOKUP($C24, 'Tree List'!$C$3:$F$601, 4, FALSE), "" ), "") | L24: {=IFERROR( IF( AND($H24="Zoning: Tree Points", NOT(ISNUMBER(SEARCH("sp.", $C24)))), _xlfn.IFS( (COUNTIFS('Tree List'!$C$3:$C$601,$C24,'Tree List'!$D$3:$D$601,"Coniferous") + COUNTIFS('Tree List'!$C$3:$C$601,$C24,'Tree List'!$D$3:$D$601,"Deciduous Conifer")) > 0, _xlfn.IFS($K24="Small",0.5,$K24="Small/Medium",1,$K24="Medium/Large",1.4,$K24="Large",1.8), (COUNTIFS('Tree List'!$C$3:$C$601,$C24,'Tree List'!$D$3:$D$601,"Deciduous") + COUNTIFS('Tree List'!$C$3:$C$601,$C24,'Tree List'!$D$3:$D$601,"Broadleaf Evergreen")) > 0, _xlfn.IFS($K24="Small",0.4,$K24="Small/Medium",0.8,$K24="Medium/Large",1.2,$K24="Large",1.6) ), "" ), "")} | M24: =IFERROR($D24*$L24,"") | N24: {=_xlfn.LET( _xlpm.r,ROW(), _xlpm.blockIndex,INT((_xlpm.r-11)/4), _xlpm.baseRow,MOD(_xlpm.r-11,4)=0, _xlpm.baseStart,_xlpm.blockIndex*4+11, _xlpm.baseEnd,_xlpm.baseStart+3, _xlpm.HRange,INDEX($H:$H,_xlpm.baseStart):INDEX($H:$H,_xlpm.baseEnd), _xlpm.hasDM,ISNUMBER(SEARCH("DM",$I$2)), _xlpm.hasCN,ISNUMBER(SEARCH("CN",$I$2)), _xlpm.hasPH,ISNUMBER(SEARCH("PH",$I$2)), _xlpm.hasGR,ISNUMBER(SEARCH("GR",$I$2)), _xlpm.ECA_H,COUNTIF(_xlpm.HRange,"Environmental Critical Area (ECA)"), _xlpm.Shore_H,COUNTIF(_xlpm.HRange,"Shoreline"), _xlpm.TreePoints_H,COUNTIF(_xlpm.HRange,"Zoning: Tree Points"), _xlpm.GF_H,COUNTIF(_xlpm.HRange,"Zoning: Green Factor"), _xlpm.ECA_Short,COUNTIF(_xlpm.HRange,"Environmental Critical Area / Shoreline"), _xlpm.uniqueH,COUNTA(_xlfn.UNIQUE(_xlfn._xlws.FILTER(_xlpm.HRange,_xlpm.HRange<>""))), IFERROR( IF(AND(_xlpm.baseRow,ISNA(MATCH($C24,'Tree List'!$C$3:$C$601,0)),SUMPRODUCT(--ISNUMBER(SEARCH(Tables2!$C$677:$C$772,$O24)))>0), Error!$B$57, IF(AND(_xlpm.hasDM,$F24="Remove",$H24<>"",OR($I24="On-site replacement",$I24="Off-site replacement",$I24="Payment In Lieu")), Error!$B$56, IF(AND(_xlpm.hasDM,$F24="Remove",$H24<>"",$I24="Relocation"), Error!$B$66, IF(AND(OR(_xlpm.hasCN,_xlpm.hasPH,_xlpm.hasGR),$H24<>"",COUNTIF(Tables!$B$132:$B$134,$H24)>0,$I24="N/A (No replacement required)"), Error!$B$62, IF(AND(_xlpm.baseRow,$E24<>"",ISNA(MATCH($E24,Tables!$B$225:$B$232,0))), Error!$B$2, IF(AND(_xlpm.baseRow,$F24<>"",ISNA(MATCH($F24,Tables!$B$234:$B$235,0))), Error!$B$24, IF(AND(_xlpm.baseRow,_xlpm.ECA_H>0,_xlpm.Shore_H>0), Error!$B$16, IF(AND(_xlpm.baseRow,$E24<>"",$D24=""), Error!$B$3, IF(AND(_xlpm.baseRow,OR($E24="Tier 3",$E24="Tier 4"),$C24<>"",$D24>=24,COUNTIF(Tables2!$B$166:$B$674,$C24)>0), Error!$B$44, IF(AND(_xlpm.baseRow,OR($E24="Tier 3",$E24="Tier 4"),$C24<>"",$D24<>"",COUNTIF(Tables2!$B$73:$B$152,$C24)>0, $D24>=IFERROR(INDEX(Tables2!$C$73:$C$152,MATCH($C24,Tables2!$B$73:$B$152,0)),-1)), Error!$B$44, IF(AND(_xlpm.baseRow,OR($E24="Tier 2",$E24="Tier 2 Grove"),$C24<>"",$D24>=12,COUNTIF(Tables2!$B$153:$B$162,$C24)>0), Error!$B$45, IF(AND(_xlpm.baseRow,$E24="Tier 2 Grove",$D24<12), Error!$B$41, IF(AND(_xlpm.baseRow,$E24="Tier 2",$D24<5.88), Error!$B$40, IF(AND(_xlpm.baseRow,OR($E24="Tier 2",$E24="Tier 2 Grove"),$C24<>"",$D24<12,$D24>=6,COUNTIF(Tables2!$B$153:$B$162,$C24)>0), Error!$B$54, IF(AND(_xlpm.baseRow,$E24="Tier 2",COUNTIF(Tables2!$B$166:$B$674,$C24)>0,$D24<24), Error!$B$54, IF(AND(_xlpm.baseRow,$E24="Tier 3",ISNA(MATCH($C24,Tables2!$B$153:$B$162,0)),OR($D24<12,$D24>=24)), Error!$B$9, IF(AND(_xlpm.baseRow,$E24="Tier 3",COUNTIF(Tables2!$B$153:$B$162,$C24)>0,$D24<12), Error!$B$46, IF(AND(_xlpm.baseRow,$E24="Tier 4",OR($D24<6,$D24>=12)), Error!$B$10, IF(AND(_xlpm.baseRow,$E24="<6in DSH for Tree Points",OR($D24>=6,$D24="")), Error!$B$8, IF(AND(_xlpm.baseRow,$E24="Street Tree for Green Factor",$F24<>"",$F24<>"Retain"), Error!$B$14, IF(AND($E24="<6in DSH for Tree Points",$F24="Retain",$H24<>"",ISNA(MATCH($H24,Tables!$B$174:$B$174,0))), Error!$B$15, IF(AND($E24="Street Tree for Green Factor",$F24="Retain",$H24<>"",$H24<>"Zoning: Green Factor"), Error!$B$15, IF(AND($E24="ECA / Shoreline Tree",$F24="Remove",$H24<>"",ISNA(MATCH($H24,Tables!$B$189:$B$190,0))), Error!$B$15, IF(AND($E24="ECA / Shoreline Tree",$F24="Retain",$H24<>"",ISNA(MATCH($H24,Tables!$B$184:$B$186,0))), Error!$B$15, IF(AND($E24="Tier 4",$F24="Remove",$H24<>"",ISNA(MATCH($H24,Tables!$B$171,0))), Error!$B$15, IF(AND($E24="Tier 4",$F24="Retain",$H24<>"",ISNA(MATCH($H24,Tables!$B$166:$B$168,0))), Error!$B$15, IF(AND($E24="Tier 3",$F24="Retain",$H24<>"",ISNA(MATCH($H24,Tables!$B$158:$B$160,0))), Error!$B$15, IF(AND($E24="Tier 3",$F24="Remove",$H24<>"",ISNA(MATCH($H24,Tables!$B$163,0))), Error!$B$15, IF(AND(OR($E24="Tier 2",$E24="Tier 2 Grove"),$F24="Remove",$H24<>"",ISNA(MATCH($H24,Tables!$B$153:$B$155,0))), Error!$B$15, IF(AND(OR($E24="Tier 2",$E24="Tier 2 Grove"),$F24="Retain",$H24<>"",ISNA(MATCH($H24,Tables!$B$147:$B$150,0))), Error!$B$15, IF(AND($E24="Tier 1",$F24="Remove",$H24<>"",ISNA(MATCH($H24,Tables!$B$143:$B$144,0))), Error!$B$15, IF(AND($E24="Tier 1",$F24="Retain",$H24<>"",ISNA(MATCH($H24,Tables!$B$137:$B$140,0))), Error!$B$15, IF(AND($E24<>"Tier 2",$E24<>"Tier 2 Grove",$E24<>"Tier 3",$E24<>"Tier 4",$H24="Zoning: Green Factor",OR($D24="",$D24<6)), Error!$B$11, IF(AND(_xlpm.baseRow,$D24<6,$E24="<6in DSH for Tree Points",_xlpm.TreePoints_H=0), Error!$B$21, IF(AND(_xlpm.baseRow,$E24<>"",$D24<>"",$F24=""), Error!$B$4, IF(AND(_xlpm.baseRow,$F24="Remove",OR($E24="Tier 1",$E24="Tier 2",$E24="Tier 2 Grove"),COUNTBLANK(_xlpm.HRange)<3,_xlpm.uniqueH>=2), Error!$B$48, IF(AND(_xlpm.baseRow,$F24="Retain",OR($E24="Tier 1",$E24="Tier 2",$E24="Tier 2 Grove"),COUNTIF(_xlpm.HRange,"Tree Code: Required to Retain Tier 1-2 Tree")=0), Error!$B$47, IF(AND(_xlpm.baseRow,$E24<>"",$D24<>"",$F24<>"",COUNTBLANK(_xlpm.HRange)=4), Error!$B$5, IF(AND($F24="Remove",$H24<>"",$I24=""), Error!$B$18, IF(AND($E24="Tier 4",$F24="Remove",$H24="Tree Protection Code: Tier 3 or Tier 4 Allowance",$H24<>"",ISNA(MATCH($I24,Tables!$B$200,0))), Error!$B$17, IF(AND($E24="Tier 3",$F24="Remove",$H24<>"",$H24="Tree Protection Code: Tier 3 or Tier 4 Allowance",OR($I24="",ISNA(MATCH($I24,Tables!$B$193:$B$197,0)))), Error!$B$17, IF(AND(OR($E24="Tier 2",$E24="Tier 2 Grove"),$F24="Remove",$H24="Tree Protection Code: Other removal allowance or exemption",$I24<>"",ISNA(MATCH($I24,Tables!$B$215:$B$218,0))), Error!$B$17, IF(AND(OR($E24="Tier 2",$E24="Tier 2 Grove"),$F24="Remove",$H24="Tree Protection Code: Development Capacity",$I24<>"",ISNA(MATCH($I24,Tables!$B$193:$B$197,0))), Error!$B$17, IF(AND(OR($E24="Tier 2",$E24="Tier 2 Grove"),$F24="Remove",$H24="Tree Protection Code: Necessary for Construction",$I24<>"",ISNA(MATCH($I24,Tables!$B$193:$B$197,0))), Error!$B$17, IF(AND($E24="Tier 1",$F24="Remove",$H24="Tree Protection Code: Special Exception",$I24<>"",ISNA(MATCH($I24,Tables!$B$215:$B$218,0))), Error!$B$17, IF(AND($E24="Tier 1",$F24="Remove",$H24="Tree Protection Code: Other removal allowance or exemption",$I24<>"",ISNA(MATCH($I24,Tables!$B$215:$B$218,0))), Error!$B$17, IF(AND($E24="ECA / Shoreline Tree",$F24="Remove",$H24<>"",OR($H24="Shoreline",$H24="Environmental Critical Area (ECA)"),ISNA(MATCH($I24,Tables!$B$209:$B$212,0))), Error!$B$17, IF(AND(_xlpm.baseRow,$F24="Retain",$E24="ECA / Shoreline Tree",_xlpm.ECA_Short=0), Error!$B$61, IF(AND($F24="Remove",ISNUMBER(MATCH($E24,{"Tier 1","Tier 2","Tier 3","Tier 4","Tier 2 Grove"},0)),ISNUMBER(MATCH($I24,{"On-site replacement","Off-site replacement"},0)),$J24="",$H24<>""), Error!$B$19, IF(AND(_xlpm.baseRow,$E24<>"",$D24<>"",$F24<>"",COUNTBLANK($B24:$C24)>0,COUNTBLANK(_xlpm.HRange)<>4), Error!$B$22, IF(AND($H24="Zoning: Tree Points",$K24<>"",ISNA(MATCH($K24,Tables!$B$242:$B$253,0))), Error!$B$58, IF(AND($H24="Zoning: Tree Points",$K24="Small",$L24<>"",ISNA(MATCH($L24,Tables!$C$243:$C$244,0))), Error!$B$59, IF(AND($H24="Zoning: Tree Points",$K24="Small/Medium",$L24<>"",ISNA(MATCH($L24,Tables!$C$246:$C$247,0))), Error!$B$59, IF(AND($H24="Zoning: Tree Points",$K24="Medium/Large",$L24<>"",ISNA(MATCH($L24,Tables!$C$249:$C$250,0))), Error!$B$59, IF(AND($H24="Zoning: Tree Points",$K24="Large",$L24<>"",ISNA(MATCH($L24,Tables!$C$252:$C$253,0))), Error!$B$59, IF(AND($F24="Retain",$H24="Zoning: Tree Points",$C24<>"",$D24<>"",OR($K24="",$L24="",$M24="")), Error!$B$20, "" )))))))))))))))))))))))))))))))))))))))))))))))))))))))), Error!$B$23))} | O24: {=IFERROR(_xlfn.LET( _xlpm.txt, $C24, _xlpm.chars, MID(_xlpm.txt, ROW(INDIRECT("1:" & LEN(_xlpm.txt))), 1), _xlpm.validChars, "0123456789ABCDEFGHIJKLMNOPQRSTUVWXYZabcdefghijklmnopqrstuvwxyz", _xlpm.isValid, ISNUMBER(MATCH(_xlpm.chars, MID(_xlpm.validChars, ROW(INDIRECT("1:" & LEN(_xlpm.validChars))), 1), 0)), _xlfn.TEXTJOIN("", TRUE, IF(_xlpm.isValid, _xlpm.chars, "")) ),"")}
B25: =IF($B24="", "", $B24) | C25: =IF($C24="", "", $C24) | D25: =IF($D24="", "", $D24) | E25: =IF($E24="", "", $E24) | F25: =IF($F24="", "", $F24) | G25: =IF(Tree_Table1[[#This Row],[Tree Status &]]="Retain", Tables!$B$237, IF(Tree_Table1[[#This Row],[Tree Status &]]="Remove", Tables!$B$238, "")) | K25: =IFERROR( IF( AND($H25="Zoning: Tree Points", NOT(ISNUMBER(SEARCH("sp.", $C25)))), VLOOKUP($C25, 'Tree List'!$C$3:$F$601, 4, FALSE), "" ), "") | L25: {=IFERROR( IF( AND($H25="Zoning: Tree Points", NOT(ISNUMBER(SEARCH("sp.", $C25)))), _xlfn.IFS( (COUNTIFS('Tree List'!$C$3:$C$601,$C25,'Tree List'!$D$3:$D$601,"Coniferous") + COUNTIFS('Tree List'!$C$3:$C$601,$C25,'Tree List'!$D$3:$D$601,"Deciduous Conifer")) > 0, _xlfn.IFS($K25="Small",0.5,$K25="Small/Medium",1,$K25="Medium/Large",1.4,$K25="Large",1.8), (COUNTIFS('Tree List'!$C$3:$C$601,$C25,'Tree List'!$D$3:$D$601,"Deciduous") + COUNTIFS('Tree List'!$C$3:$C$601,$C25,'Tree List'!$D$3:$D$601,"Broadleaf Evergreen")) > 0, _xlfn.IFS($K25="Small",0.4,$K25="Small/Medium",0.8,$K25="Medium/Large",1.2,$K25="Large",1.6) ), "" ), "")} | M25: =IFERROR($D25*$L25,"") | N25: {=_xlfn.LET( _xlpm.r,ROW(), _xlpm.blockIndex,INT((_xlpm.r-11)/4), _xlpm.baseRow,MOD(_xlpm.r-11,4)=0, _xlpm.baseStart,_xlpm.blockIndex*4+11, _xlpm.baseEnd,_xlpm.baseStart+3, _xlpm.HRange,INDEX($H:$H,_xlpm.baseStart):INDEX($H:$H,_xlpm.baseEnd), _xlpm.hasDM,ISNUMBER(SEARCH("DM",$I$2)), _xlpm.hasCN,ISNUMBER(SEARCH("CN",$I$2)), _xlpm.hasPH,ISNUMBER(SEARCH("PH",$I$2)), _xlpm.hasGR,ISNUMBER(SEARCH("GR",$I$2)), _xlpm.ECA_H,COUNTIF(_xlpm.HRange,"Environmental Critical Area (ECA)"), _xlpm.Shore_H,COUNTIF(_xlpm.HRange,"Shoreline"), _xlpm.TreePoints_H,COUNTIF(_xlpm.HRange,"Zoning: Tree Points"), _xlpm.GF_H,COUNTIF(_xlpm.HRange,"Zoning: Green Factor"), _xlpm.ECA_Short,COUNTIF(_xlpm.HRange,"Environmental Critical Area / Shoreline"), _xlpm.uniqueH,COUNTA(_xlfn.UNIQUE(_xlfn._xlws.FILTER(_xlpm.HRange,_xlpm.HRange<>""))), IFERROR( IF(AND(_xlpm.baseRow,ISNA(MATCH($C25,'Tree List'!$C$3:$C$601,0)),SUMPRODUCT(--ISNUMBER(SEARCH(Tables2!$C$677:$C$772,$O25)))>0), Error!$B$57, IF(AND(_xlpm.hasDM,$F25="Remove",$H25<>"",OR($I25="On-site replacement",$I25="Off-site replacement",$I25="Payment In Lieu")), Error!$B$56, IF(AND(_xlpm.hasDM,$F25="Remove",$H25<>"",$I25="Relocation"), Error!$B$66, IF(AND(OR(_xlpm.hasCN,_xlpm.hasPH,_xlpm.hasGR),$H25<>"",COUNTIF(Tables!$B$132:$B$134,$H25)>0,$I25="N/A (No replacement required)"), Error!$B$62, IF(AND(_xlpm.baseRow,$E25<>"",ISNA(MATCH($E25,Tables!$B$225:$B$232,0))), Error!$B$2, IF(AND(_xlpm.baseRow,$F25<>"",ISNA(MATCH($F25,Tables!$B$234:$B$235,0))), Error!$B$24, IF(AND(_xlpm.baseRow,_xlpm.ECA_H>0,_xlpm.Shore_H>0), Error!$B$16, IF(AND(_xlpm.baseRow,$E25<>"",$D25=""), Error!$B$3, IF(AND(_xlpm.baseRow,OR($E25="Tier 3",$E25="Tier 4"),$C25<>"",$D25>=24,COUNTIF(Tables2!$B$166:$B$674,$C25)>0), Error!$B$44, IF(AND(_xlpm.baseRow,OR($E25="Tier 3",$E25="Tier 4"),$C25<>"",$D25<>"",COUNTIF(Tables2!$B$73:$B$152,$C25)>0, $D25>=IFERROR(INDEX(Tables2!$C$73:$C$152,MATCH($C25,Tables2!$B$73:$B$152,0)),-1)), Error!$B$44, IF(AND(_xlpm.baseRow,OR($E25="Tier 2",$E25="Tier 2 Grove"),$C25<>"",$D25>=12,COUNTIF(Tables2!$B$153:$B$162,$C25)>0), Error!$B$45, IF(AND(_xlpm.baseRow,$E25="Tier 2 Grove",$D25<12), Error!$B$41, IF(AND(_xlpm.baseRow,$E25="Tier 2",$D25<5.88), Error!$B$40, IF(AND(_xlpm.baseRow,OR($E25="Tier 2",$E25="Tier 2 Grove"),$C25<>"",$D25<12,$D25>=6,COUNTIF(Tables2!$B$153:$B$162,$C25)>0), Error!$B$54, IF(AND(_xlpm.baseRow,$E25="Tier 2",COUNTIF(Tables2!$B$166:$B$674,$C25)>0,$D25<24), Error!$B$54, IF(AND(_xlpm.baseRow,$E25="Tier 3",ISNA(MATCH($C25,Tables2!$B$153:$B$162,0)),OR($D25<12,$D25>=24)), Error!$B$9, IF(AND(_xlpm.baseRow,$E25="Tier 3",COUNTIF(Tables2!$B$153:$B$162,$C25)>0,$D25<12), Error!$B$46, IF(AND(_xlpm.baseRow,$E25="Tier 4",OR($D25<6,$D25>=12)), Error!$B$10, IF(AND(_xlpm.baseRow,$E25="<6in DSH for Tree Points",OR($D25>=6,$D25="")), Error!$B$8, IF(AND(_xlpm.baseRow,$E25="Street Tree for Green Factor",$F25<>"",$F25<>"Retain"), Error!$B$14, IF(AND($E25="<6in DSH for Tree Points",$F25="Retain",$H25<>"",ISNA(MATCH($H25,Tables!$B$174:$B$174,0))), Error!$B$15, IF(AND($E25="Street Tree for Green Factor",$F25="Retain",$H25<>"",$H25<>"Zoning: Green Factor"), Error!$B$15, IF(AND($E25="ECA / Shoreline Tree",$F25="Remove",$H25<>"",ISNA(MATCH($H25,Tables!$B$189:$B$190,0))), Error!$B$15, IF(AND($E25="ECA / Shoreline Tree",$F25="Retain",$H25<>"",ISNA(MATCH($H25,Tables!$B$184:$B$186,0))), Error!$B$15, IF(AND($E25="Tier 4",$F25="Remove",$H25<>"",ISNA(MATCH($H25,Tables!$B$171,0))), Error!$B$15, IF(AND($E25="Tier 4",$F25="Retain",$H25<>"",ISNA(MATCH($H25,Tables!$B$166:$B$168,0))), Error!$B$15, IF(AND($E25="Tier 3",$F25="Retain",$H25<>"",ISNA(MATCH($H25,Tables!$B$158:$B$160,0))), Error!$B$15, IF(AND($E25="Tier 3",$F25="Remove",$H25<>"",ISNA(MATCH($H25,Tables!$B$163,0))), Error!$B$15, IF(AND(OR($E25="Tier 2",$E25="Tier 2 Grove"),$F25="Remove",$H25<>"",ISNA(MATCH($H25,Tables!$B$153:$B$155,0))), Error!$B$15, IF(AND(OR($E25="Tier 2",$E25="Tier 2 Grove"),$F25="Retain",$H25<>"",ISNA(MATCH($H25,Tables!$B$147:$B$150,0))), Error!$B$15, IF(AND($E25="Tier 1",$F25="Remove",$H25<>"",ISNA(MATCH($H25,Tables!$B$143:$B$144,0))), Error!$B$15, IF(AND($E25="Tier 1",$F25="Retain",$H25<>"",ISNA(MATCH($H25,Tables!$B$137:$B$140,0))), Error!$B$15, IF(AND($E25<>"Tier 2",$E25<>"Tier 2 Grove",$E25<>"Tier 3",$E25<>"Tier 4",$H25="Zoning: Green Factor",OR($D25="",$D25<6)), Error!$B$11, IF(AND(_xlpm.baseRow,$D25<6,$E25="<6in DSH for Tree Points",_xlpm.TreePoints_H=0), Error!$B$21, IF(AND(_xlpm.baseRow,$E25<>"",$D25<>"",$F25=""), Error!$B$4, IF(AND(_xlpm.baseRow,$F25="Remove",OR($E25="Tier 1",$E25="Tier 2",$E25="Tier 2 Grove"),COUNTBLANK(_xlpm.HRange)<3,_xlpm.uniqueH>=2), Error!$B$48, IF(AND(_xlpm.baseRow,$F25="Retain",OR($E25="Tier 1",$E25="Tier 2",$E25="Tier 2 Grove"),COUNTIF(_xlpm.HRange,"Tree Code: Required to Retain Tier 1-2 Tree")=0), Error!$B$47, IF(AND(_xlpm.baseRow,$E25<>"",$D25<>"",$F25<>"",COUNTBLANK(_xlpm.HRange)=4), Error!$B$5, IF(AND($F25="Remove",$H25<>"",$I25=""), Error!$B$18, IF(AND($E25="Tier 4",$F25="Remove",$H25="Tree Protection Code: Tier 3 or Tier 4 Allowance",$H25<>"",ISNA(MATCH($I25,Tables!$B$200,0))), Error!$B$17, IF(AND($E25="Tier 3",$F25="Remove",$H25<>"",$H25="Tree Protection Code: Tier 3 or Tier 4 Allowance",OR($I25="",ISNA(MATCH($I25,Tables!$B$193:$B$197,0)))), Error!$B$17, IF(AND(OR($E25="Tier 2",$E25="Tier 2 Grove"),$F25="Remove",$H25="Tree Protection Code: Other removal allowance or exemption",$I25<>"",ISNA(MATCH($I25,Tables!$B$215:$B$218,0))), Error!$B$17, IF(AND(OR($E25="Tier 2",$E25="Tier 2 Grove"),$F25="Remove",$H25="Tree Protection Code: Development Capacity",$I25<>"",ISNA(MATCH($I25,Tables!$B$193:$B$197,0))), Error!$B$17, IF(AND(OR($E25="Tier 2",$E25="Tier 2 Grove"),$F25="Remove",$H25="Tree Protection Code: Necessary for Construction",$I25<>"",ISNA(MATCH($I25,Tables!$B$193:$B$197,0))), Error!$B$17, IF(AND($E25="Tier 1",$F25="Remove",$H25="Tree Protection Code: Special Exception",$I25<>"",ISNA(MATCH($I25,Tables!$B$215:$B$218,0))), Error!$B$17, IF(AND($E25="Tier 1",$F25="Remove",$H25="Tree Protection Code: Other removal allowance or exemption",$I25<>"",ISNA(MATCH($I25,Tables!$B$215:$B$218,0))), Error!$B$17, IF(AND($E25="ECA / Shoreline Tree",$F25="Remove",$H25<>"",OR($H25="Shoreline",$H25="Environmental Critical Area (ECA)"),ISNA(MATCH($I25,Tables!$B$209:$B$212,0))), Error!$B$17, IF(AND(_xlpm.baseRow,$F25="Retain",$E25="ECA / Shoreline Tree",_xlpm.ECA_Short=0), Error!$B$61, IF(AND($F25="Remove",ISNUMBER(MATCH($E25,{"Tier 1","Tier 2","Tier 3","Tier 4","Tier 2 Grove"},0)),ISNUMBER(MATCH($I25,{"On-site replacement","Off-site replacement"},0)),$J25="",$H25<>""), Error!$B$19, IF(AND(_xlpm.baseRow,$E25<>"",$D25<>"",$F25<>"",COUNTBLANK($B25:$C25)>0,COUNTBLANK(_xlpm.HRange)<>4), Error!$B$22, IF(AND($H25="Zoning: Tree Points",$K25<>"",ISNA(MATCH($K25,Tables!$B$242:$B$253,0))), Error!$B$58, IF(AND($H25="Zoning: Tree Points",$K25="Small",$L25<>"",ISNA(MATCH($L25,Tables!$C$243:$C$244,0))), Error!$B$59, IF(AND($H25="Zoning: Tree Points",$K25="Small/Medium",$L25<>"",ISNA(MATCH($L25,Tables!$C$246:$C$247,0))), Error!$B$59, IF(AND($H25="Zoning: Tree Points",$K25="Medium/Large",$L25<>"",ISNA(MATCH($L25,Tables!$C$249:$C$250,0))), Error!$B$59, IF(AND($H25="Zoning: Tree Points",$K25="Large",$L25<>"",ISNA(MATCH($L25,Tables!$C$252:$C$253,0))), Error!$B$59, IF(AND($F25="Retain",$H25="Zoning: Tree Points",$C25<>"",$D25<>"",OR($K25="",$L25="",$M25="")), Error!$B$20, "" )))))))))))))))))))))))))))))))))))))))))))))))))))))))), Error!$B$23))} | O25: {=IFERROR(_xlfn.LET( _xlpm.txt, $C25, _xlpm.chars, MID(_xlpm.txt, ROW(INDIRECT("1:" & LEN(_xlpm.txt))), 1), _xlpm.validChars, "0123456789ABCDEFGHIJKLMNOPQRSTUVWXYZabcdefghijklmnopqrstuvwxyz", _xlpm.isValid, ISNUMBER(MATCH(_xlpm.chars, MID(_xlpm.validChars, ROW(INDIRECT("1:" & LEN(_xlpm.validChars))), 1), 0)), _xlfn.TEXTJOIN("", TRUE, IF(_xlpm.isValid, _xlpm.chars, "")) ),"")}
B26: =IF($B25="", "", $B25) | C26: =IF($C25="", "", $C25) | D26: =IF($D25="", "", $D25) | E26: =IF($E25="", "", $E25) | F26: =IF($F25="", "", $F25) | G26: =IF(Tree_Table1[[#This Row],[Tree Status &]]="Retain", Tables!$B$237, IF(Tree_Table1[[#This Row],[Tree Status &]]="Remove", Tables!$B$238, "")) | K26: =IFERROR( IF( AND($H26="Zoning: Tree Points", NOT(ISNUMBER(SEARCH("sp.", $C26)))), VLOOKUP($C26, 'Tree List'!$C$3:$F$601, 4, FALSE), "" ), "") | L26: {=IFERROR( IF( AND($H26="Zoning: Tree Points", NOT(ISNUMBER(SEARCH("sp.", $C26)))), _xlfn.IFS( (COUNTIFS('Tree List'!$C$3:$C$601,$C26,'Tree List'!$D$3:$D$601,"Coniferous") + COUNTIFS('Tree List'!$C$3:$C$601,$C26,'Tree List'!$D$3:$D$601,"Deciduous Conifer")) > 0, _xlfn.IFS($K26="Small",0.5,$K26="Small/Medium",1,$K26="Medium/Large",1.4,$K26="Large",1.8), (COUNTIFS('Tree List'!$C$3:$C$601,$C26,'Tree List'!$D$3:$D$601,"Deciduous") + COUNTIFS('Tree List'!$C$3:$C$601,$C26,'Tree List'!$D$3:$D$601,"Broadleaf Evergreen")) > 0, _xlfn.IFS($K26="Small",0.4,$K26="Small/Medium",0.8,$K26="Medium/Large",1.2,$K26="Large",1.6) ), "" ), "")} | M26: =IFERROR($D26*$L26,"") | N26: {=_xlfn.LET( _xlpm.r,ROW(), _xlpm.blockIndex,INT((_xlpm.r-11)/4), _xlpm.baseRow,MOD(_xlpm.r-11,4)=0, _xlpm.baseStart,_xlpm.blockIndex*4+11, _xlpm.baseEnd,_xlpm.baseStart+3, _xlpm.HRange,INDEX($H:$H,_xlpm.baseStart):INDEX($H:$H,_xlpm.baseEnd), _xlpm.hasDM,ISNUMBER(SEARCH("DM",$I$2)), _xlpm.hasCN,ISNUMBER(SEARCH("CN",$I$2)), _xlpm.hasPH,ISNUMBER(SEARCH("PH",$I$2)), _xlpm.hasGR,ISNUMBER(SEARCH("GR",$I$2)), _xlpm.ECA_H,COUNTIF(_xlpm.HRange,"Environmental Critical Area (ECA)"), _xlpm.Shore_H,COUNTIF(_xlpm.HRange,"Shoreline"), _xlpm.TreePoints_H,COUNTIF(_xlpm.HRange,"Zoning: Tree Points"), _xlpm.GF_H,COUNTIF(_xlpm.HRange,"Zoning: Green Factor"), _xlpm.ECA_Short,COUNTIF(_xlpm.HRange,"Environmental Critical Area / Shoreline"), _xlpm.uniqueH,COUNTA(_xlfn.UNIQUE(_xlfn._xlws.FILTER(_xlpm.HRange,_xlpm.HRange<>""))), IFERROR( IF(AND(_xlpm.baseRow,ISNA(MATCH($C26,'Tree List'!$C$3:$C$601,0)),SUMPRODUCT(--ISNUMBER(SEARCH(Tables2!$C$677:$C$772,$O26)))>0), Error!$B$57, IF(AND(_xlpm.hasDM,$F26="Remove",$H26<>"",OR($I26="On-site replacement",$I26="Off-site replacement",$I26="Payment In Lieu")), Error!$B$56, IF(AND(_xlpm.hasDM,$F26="Remove",$H26<>"",$I26="Relocation"), Error!$B$66, IF(AND(OR(_xlpm.hasCN,_xlpm.hasPH,_xlpm.hasGR),$H26<>"",COUNTIF(Tables!$B$132:$B$134,$H26)>0,$I26="N/A (No replacement required)"), Error!$B$62, IF(AND(_xlpm.baseRow,$E26<>"",ISNA(MATCH($E26,Tables!$B$225:$B$232,0))), Error!$B$2, IF(AND(_xlpm.baseRow,$F26<>"",ISNA(MATCH($F26,Tables!$B$234:$B$235,0))), Error!$B$24, IF(AND(_xlpm.baseRow,_xlpm.ECA_H>0,_xlpm.Shore_H>0), Error!$B$16, IF(AND(_xlpm.baseRow,$E26<>"",$D26=""), Error!$B$3, IF(AND(_xlpm.baseRow,OR($E26="Tier 3",$E26="Tier 4"),$C26<>"",$D26>=24,COUNTIF(Tables2!$B$166:$B$674,$C26)>0), Error!$B$44, IF(AND(_xlpm.baseRow,OR($E26="Tier 3",$E26="Tier 4"),$C26<>"",$D26<>"",COUNTIF(Tables2!$B$73:$B$152,$C26)>0, $D26>=IFERROR(INDEX(Tables2!$C$73:$C$152,MATCH($C26,Tables2!$B$73:$B$152,0)),-1)), Error!$B$44, IF(AND(_xlpm.baseRow,OR($E26="Tier 2",$E26="Tier 2 Grove"),$C26<>"",$D26>=12,COUNTIF(Tables2!$B$153:$B$162,$C26)>0), Error!$B$45, IF(AND(_xlpm.baseRow,$E26="Tier 2 Grove",$D26<12), Error!$B$41, IF(AND(_xlpm.baseRow,$E26="Tier 2",$D26<5.88), Error!$B$40, IF(AND(_xlpm.baseRow,OR($E26="Tier 2",$E26="Tier 2 Grove"),$C26<>"",$D26<12,$D26>=6,COUNTIF(Tables2!$B$153:$B$162,$C26)>0), Error!$B$54, IF(AND(_xlpm.baseRow,$E26="Tier 2",COUNTIF(Tables2!$B$166:$B$674,$C26)>0,$D26<24), Error!$B$54, IF(AND(_xlpm.baseRow,$E26="Tier 3",ISNA(MATCH($C26,Tables2!$B$153:$B$162,0)),OR($D26<12,$D26>=24)), Error!$B$9, IF(AND(_xlpm.baseRow,$E26="Tier 3",COUNTIF(Tables2!$B$153:$B$162,$C26)>0,$D26<12), Error!$B$46, IF(AND(_xlpm.baseRow,$E26="Tier 4",OR($D26<6,$D26>=12)), Error!$B$10, IF(AND(_xlpm.baseRow,$E26="<6in DSH for Tree Points",OR($D26>=6,$D26="")), Error!$B$8, IF(AND(_xlpm.baseRow,$E26="Street Tree for Green Factor",$F26<>"",$F26<>"Retain"), Error!$B$14, IF(AND($E26="<6in DSH for Tree Points",$F26="Retain",$H26<>"",ISNA(MATCH($H26,Tables!$B$174:$B$174,0))), Error!$B$15, IF(AND($E26="Street Tree for Green Factor",$F26="Retain",$H26<>"",$H26<>"Zoning: Green Factor"), Error!$B$15, IF(AND($E26="ECA / Shoreline Tree",$F26="Remove",$H26<>"",ISNA(MATCH($H26,Tables!$B$189:$B$190,0))), Error!$B$15, IF(AND($E26="ECA / Shoreline Tree",$F26="Retain",$H26<>"",ISNA(MATCH($H26,Tables!$B$184:$B$186,0))), Error!$B$15, IF(AND($E26="Tier 4",$F26="Remove",$H26<>"",ISNA(MATCH($H26,Tables!$B$171,0))), Error!$B$15, IF(AND($E26="Tier 4",$F26="Retain",$H26<>"",ISNA(MATCH($H26,Tables!$B$166:$B$168,0))), Error!$B$15, IF(AND($E26="Tier 3",$F26="Retain",$H26<>"",ISNA(MATCH($H26,Tables!$B$158:$B$160,0))), Error!$B$15, IF(AND($E26="Tier 3",$F26="Remove",$H26<>"",ISNA(MATCH($H26,Tables!$B$163,0))), Error!$B$15, IF(AND(OR($E26="Tier 2",$E26="Tier 2 Grove"),$F26="Remove",$H26<>"",ISNA(MATCH($H26,Tables!$B$153:$B$155,0))), Error!$B$15, IF(AND(OR($E26="Tier 2",$E26="Tier 2 Grove"),$F26="Retain",$H26<>"",ISNA(MATCH($H26,Tables!$B$147:$B$150,0))), Error!$B$15, IF(AND($E26="Tier 1",$F26="Remove",$H26<>"",ISNA(MATCH($H26,Tables!$B$143:$B$144,0))), Error!$B$15, IF(AND($E26="Tier 1",$F26="Retain",$H26<>"",ISNA(MATCH($H26,Tables!$B$137:$B$140,0))), Error!$B$15, IF(AND($E26<>"Tier 2",$E26<>"Tier 2 Grove",$E26<>"Tier 3",$E26<>"Tier 4",$H26="Zoning: Green Factor",OR($D26="",$D26<6)), Error!$B$11, IF(AND(_xlpm.baseRow,$D26<6,$E26="<6in DSH for Tree Points",_xlpm.TreePoints_H=0), Error!$B$21, IF(AND(_xlpm.baseRow,$E26<>"",$D26<>"",$F26=""), Error!$B$4, IF(AND(_xlpm.baseRow,$F26="Remove",OR($E26="Tier 1",$E26="Tier 2",$E26="Tier 2 Grove"),COUNTBLANK(_xlpm.HRange)<3,_xlpm.uniqueH>=2), Error!$B$48, IF(AND(_xlpm.baseRow,$F26="Retain",OR($E26="Tier 1",$E26="Tier 2",$E26="Tier 2 Grove"),COUNTIF(_xlpm.HRange,"Tree Code: Required to Retain Tier 1-2 Tree")=0), Error!$B$47, IF(AND(_xlpm.baseRow,$E26<>"",$D26<>"",$F26<>"",COUNTBLANK(_xlpm.HRange)=4), Error!$B$5, IF(AND($F26="Remove",$H26<>"",$I26=""), Error!$B$18, IF(AND($E26="Tier 4",$F26="Remove",$H26="Tree Protection Code: Tier 3 or Tier 4 Allowance",$H26<>"",ISNA(MATCH($I26,Tables!$B$200,0))), Error!$B$17, IF(AND($E26="Tier 3",$F26="Remove",$H26<>"",$H26="Tree Protection Code: Tier 3 or Tier 4 Allowance",OR($I26="",ISNA(MATCH($I26,Tables!$B$193:$B$197,0)))), Error!$B$17, IF(AND(OR($E26="Tier 2",$E26="Tier 2 Grove"),$F26="Remove",$H26="Tree Protection Code: Other removal allowance or exemption",$I26<>"",ISNA(MATCH($I26,Tables!$B$215:$B$218,0))), Error!$B$17, IF(AND(OR($E26="Tier 2",$E26="Tier 2 Grove"),$F26="Remove",$H26="Tree Protection Code: Development Capacity",$I26<>"",ISNA(MATCH($I26,Tables!$B$193:$B$197,0))), Error!$B$17, IF(AND(OR($E26="Tier 2",$E26="Tier 2 Grove"),$F26="Remove",$H26="Tree Protection Code: Necessary for Construction",$I26<>"",ISNA(MATCH($I26,Tables!$B$193:$B$197,0))), Error!$B$17, IF(AND($E26="Tier 1",$F26="Remove",$H26="Tree Protection Code: Special Exception",$I26<>"",ISNA(MATCH($I26,Tables!$B$215:$B$218,0))), Error!$B$17, IF(AND($E26="Tier 1",$F26="Remove",$H26="Tree Protection Code: Other removal allowance or exemption",$I26<>"",ISNA(MATCH($I26,Tables!$B$215:$B$218,0))), Error!$B$17, IF(AND($E26="ECA / Shoreline Tree",$F26="Remove",$H26<>"",OR($H26="Shoreline",$H26="Environmental Critical Area (ECA)"),ISNA(MATCH($I26,Tables!$B$209:$B$212,0))), Error!$B$17, IF(AND(_xlpm.baseRow,$F26="Retain",$E26="ECA / Shoreline Tree",_xlpm.ECA_Short=0), Error!$B$61, IF(AND($F26="Remove",ISNUMBER(MATCH($E26,{"Tier 1","Tier 2","Tier 3","Tier 4","Tier 2 Grove"},0)),ISNUMBER(MATCH($I26,{"On-site replacement","Off-site replacement"},0)),$J26="",$H26<>""), Error!$B$19, IF(AND(_xlpm.baseRow,$E26<>"",$D26<>"",$F26<>"",COUNTBLANK($B26:$C26)>0,COUNTBLANK(_xlpm.HRange)<>4), Error!$B$22, IF(AND($H26="Zoning: Tree Points",$K26<>"",ISNA(MATCH($K26,Tables!$B$242:$B$253,0))), Error!$B$58, IF(AND($H26="Zoning: Tree Points",$K26="Small",$L26<>"",ISNA(MATCH($L26,Tables!$C$243:$C$244,0))), Error!$B$59, IF(AND($H26="Zoning: Tree Points",$K26="Small/Medium",$L26<>"",ISNA(MATCH($L26,Tables!$C$246:$C$247,0))), Error!$B$59, IF(AND($H26="Zoning: Tree Points",$K26="Medium/Large",$L26<>"",ISNA(MATCH($L26,Tables!$C$249:$C$250,0))), Error!$B$59, IF(AND($H26="Zoning: Tree Points",$K26="Large",$L26<>"",ISNA(MATCH($L26,Tables!$C$252:$C$253,0))), Error!$B$59, IF(AND($F26="Retain",$H26="Zoning: Tree Points",$C26<>"",$D26<>"",OR($K26="",$L26="",$M26="")), Error!$B$20, "" )))))))))))))))))))))))))))))))))))))))))))))))))))))))), Error!$B$23))} | O26: {=IFERROR(_xlfn.LET( _xlpm.txt, $C26, _xlpm.chars, MID(_xlpm.txt, ROW(INDIRECT("1:" & LEN(_xlpm.txt))), 1), _xlpm.validChars, "0123456789ABCDEFGHIJKLMNOPQRSTUVWXYZabcdefghijklmnopqrstuvwxyz", _xlpm.isValid, ISNUMBER(MATCH(_xlpm.chars, MID(_xlpm.validChars, ROW(INDIRECT("1:" & LEN(_xlpm.validChars))), 1), 0)), _xlfn.TEXTJOIN("", TRUE, IF(_xlpm.isValid, _xlpm.chars, "")) ),"")}
A27: 5 | G27: =IF(Tree_Table1[[#This Row],[Tree Status &]]="Retain", Tables!$B$237, IF(Tree_Table1[[#This Row],[Tree Status &]]="Remove", Tables!$B$238, "")) | K27: =IFERROR( IF( AND($H27="Zoning: Tree Points", NOT(ISNUMBER(SEARCH("sp.", $C27)))), VLOOKUP($C27, 'Tree List'!$C$3:$F$601, 4, FALSE), "" ), "") | L27: {=IFERROR( IF( AND($H27="Zoning: Tree Points", NOT(ISNUMBER(SEARCH("sp.", $C27)))), _xlfn.IFS( (COUNTIFS('Tree List'!$C$3:$C$601,$C27,'Tree List'!$D$3:$D$601,"Coniferous") + COUNTIFS('Tree List'!$C$3:$C$601,$C27,'Tree List'!$D$3:$D$601,"Deciduous Conifer")) > 0, _xlfn.IFS($K27="Small",0.5,$K27="Small/Medium",1,$K27="Medium/Large",1.4,$K27="Large",1.8), (COUNTIFS('Tree List'!$C$3:$C$601,$C27,'Tree List'!$D$3:$D$601,"Deciduous") + COUNTIFS('Tree List'!$C$3:$C$601,$C27,'Tree List'!$D$3:$D$601,"Broadleaf Evergreen")) > 0, _xlfn.IFS($K27="Small",0.4,$K27="Small/Medium",0.8,$K27="Medium/Large",1.2,$K27="Large",1.6) ), "" ), "")} | M27: =IFERROR($D27*$L27,"") | N27: {=_xlfn.LET( _xlpm.r,ROW(), _xlpm.blockIndex,INT((_xlpm.r-11)/4), _xlpm.baseRow,MOD(_xlpm.r-11,4)=0, _xlpm.baseStart,_xlpm.blockIndex*4+11, _xlpm.baseEnd,_xlpm.baseStart+3, _xlpm.HRange,INDEX($H:$H,_xlpm.baseStart):INDEX($H:$H,_xlpm.baseEnd), _xlpm.hasDM,ISNUMBER(SEARCH("DM",$I$2)), _xlpm.hasCN,ISNUMBER(SEARCH("CN",$I$2)), _xlpm.hasPH,ISNUMBER(SEARCH("PH",$I$2)), _xlpm.hasGR,ISNUMBER(SEARCH("GR",$I$2)), _xlpm.ECA_H,COUNTIF(_xlpm.HRange,"Environmental Critical Area (ECA)"), _xlpm.Shore_H,COUNTIF(_xlpm.HRange,"Shoreline"), _xlpm.TreePoints_H,COUNTIF(_xlpm.HRange,"Zoning: Tree Points"), _xlpm.GF_H,COUNTIF(_xlpm.HRange,"Zoning: Green Factor"), _xlpm.ECA_Short,COUNTIF(_xlpm.HRange,"Environmental Critical Area / Shoreline"), _xlpm.uniqueH,COUNTA(_xlfn.UNIQUE(_xlfn._xlws.FILTER(_xlpm.HRange,_xlpm.HRange<>""))), IFERROR( IF(AND(_xlpm.baseRow,ISNA(MATCH($C27,'Tree List'!$C$3:$C$601,0)),SUMPRODUCT(--ISNUMBER(SEARCH(Tables2!$C$677:$C$772,$O27)))>0), Error!$B$57, IF(AND(_xlpm.hasDM,$F27="Remove",$H27<>"",OR($I27="On-site replacement",$I27="Off-site replacement",$I27="Payment In Lieu")), Error!$B$56, IF(AND(_xlpm.hasDM,$F27="Remove",$H27<>"",$I27="Relocation"), Error!$B$66, IF(AND(OR(_xlpm.hasCN,_xlpm.hasPH,_xlpm.hasGR),$H27<>"",COUNTIF(Tables!$B$132:$B$134,$H27)>0,$I27="N/A (No replacement required)"), Error!$B$62, IF(AND(_xlpm.baseRow,$E27<>"",ISNA(MATCH($E27,Tables!$B$225:$B$232,0))), Error!$B$2, IF(AND(_xlpm.baseRow,$F27<>"",ISNA(MATCH($F27,Tables!$B$234:$B$235,0))), Error!$B$24, IF(AND(_xlpm.baseRow,_xlpm.ECA_H>0,_xlpm.Shore_H>0), Error!$B$16, IF(AND(_xlpm.baseRow,$E27<>"",$D27=""), Error!$B$3, IF(AND(_xlpm.baseRow,OR($E27="Tier 3",$E27="Tier 4"),$C27<>"",$D27>=24,COUNTIF(Tables2!$B$166:$B$674,$C27)>0), Error!$B$44, IF(AND(_xlpm.baseRow,OR($E27="Tier 3",$E27="Tier 4"),$C27<>"",$D27<>"",COUNTIF(Tables2!$B$73:$B$152,$C27)>0, $D27>=IFERROR(INDEX(Tables2!$C$73:$C$152,MATCH($C27,Tables2!$B$73:$B$152,0)),-1)), Error!$B$44, IF(AND(_xlpm.baseRow,OR($E27="Tier 2",$E27="Tier 2 Grove"),$C27<>"",$D27>=12,COUNTIF(Tables2!$B$153:$B$162,$C27)>0), Error!$B$45, IF(AND(_xlpm.baseRow,$E27="Tier 2 Grove",$D27<12), Error!$B$41, IF(AND(_xlpm.baseRow,$E27="Tier 2",$D27<5.88), Error!$B$40, IF(AND(_xlpm.baseRow,OR($E27="Tier 2",$E27="Tier 2 Grove"),$C27<>"",$D27<12,$D27>=6,COUNTIF(Tables2!$B$153:$B$162,$C27)>0), Error!$B$54, IF(AND(_xlpm.baseRow,$E27="Tier 2",COUNTIF(Tables2!$B$166:$B$674,$C27)>0,$D27<24), Error!$B$54, IF(AND(_xlpm.baseRow,$E27="Tier 3",ISNA(MATCH($C27,Tables2!$B$153:$B$162,0)),OR($D27<12,$D27>=24)), Error!$B$9, IF(AND(_xlpm.baseRow,$E27="Tier 3",COUNTIF(Tables2!$B$153:$B$162,$C27)>0,$D27<12), Error!$B$46, IF(AND(_xlpm.baseRow,$E27="Tier 4",OR($D27<6,$D27>=12)), Error!$B$10, IF(AND(_xlpm.baseRow,$E27="<6in DSH for Tree Points",OR($D27>=6,$D27="")), Error!$B$8, IF(AND(_xlpm.baseRow,$E27="Street Tree for Green Factor",$F27<>"",$F27<>"Retain"), Error!$B$14, IF(AND($E27="<6in DSH for Tree Points",$F27="Retain",$H27<>"",ISNA(MATCH($H27,Tables!$B$174:$B$174,0))), Error!$B$15, IF(AND($E27="Street Tree for Green Factor",$F27="Retain",$H27<>"",$H27<>"Zoning: Green Factor"), Error!$B$15, IF(AND($E27="ECA / Shoreline Tree",$F27="Remove",$H27<>"",ISNA(MATCH($H27,Tables!$B$189:$B$190,0))), Error!$B$15, IF(AND($E27="ECA / Shoreline Tree",$F27="Retain",$H27<>"",ISNA(MATCH($H27,Tables!$B$184:$B$186,0))), Error!$B$15, IF(AND($E27="Tier 4",$F27="Remove",$H27<>"",ISNA(MATCH($H27,Tables!$B$171,0))), Error!$B$15, IF(AND($E27="Tier 4",$F27="Retain",$H27<>"",ISNA(MATCH($H27,Tables!$B$166:$B$168,0))), Error!$B$15, IF(AND($E27="Tier 3",$F27="Retain",$H27<>"",ISNA(MATCH($H27,Tables!$B$158:$B$160,0))), Error!$B$15, IF(AND($E27="Tier 3",$F27="Remove",$H27<>"",ISNA(MATCH($H27,Tables!$B$163,0))), Error!$B$15, IF(AND(OR($E27="Tier 2",$E27="Tier 2 Grove"),$F27="Remove",$H27<>"",ISNA(MATCH($H27,Tables!$B$153:$B$155,0))), Error!$B$15, IF(AND(OR($E27="Tier 2",$E27="Tier 2 Grove"),$F27="Retain",$H27<>"",ISNA(MATCH($H27,Tables!$B$147:$B$150,0))), Error!$B$15, IF(AND($E27="Tier 1",$F27="Remove",$H27<>"",ISNA(MATCH($H27,Tables!$B$143:$B$144,0))), Error!$B$15, IF(AND($E27="Tier 1",$F27="Retain",$H27<>"",ISNA(MATCH($H27,Tables!$B$137:$B$140,0))), Error!$B$15, IF(AND($E27<>"Tier 2",$E27<>"Tier 2 Grove",$E27<>"Tier 3",$E27<>"Tier 4",$H27="Zoning: Green Factor",OR($D27="",$D27<6)), Error!$B$11, IF(AND(_xlpm.baseRow,$D27<6,$E27="<6in DSH for Tree Points",_xlpm.TreePoints_H=0), Error!$B$21, IF(AND(_xlpm.baseRow,$E27<>"",$D27<>"",$F27=""), Error!$B$4, IF(AND(_xlpm.baseRow,$F27="Remove",OR($E27="Tier 1",$E27="Tier 2",$E27="Tier 2 Grove"),COUNTBLANK(_xlpm.HRange)<3,_xlpm.uniqueH>=2), Error!$B$48, IF(AND(_xlpm.baseRow,$F27="Retain",OR($E27="Tier 1",$E27="Tier 2",$E27="Tier 2 Grove"),COUNTIF(_xlpm.HRange,"Tree Code: Required to Retain Tier 1-2 Tree")=0), Error!$B$47, IF(AND(_xlpm.baseRow,$E27<>"",$D27<>"",$F27<>"",COUNTBLANK(_xlpm.HRange)=4), Error!$B$5, IF(AND($F27="Remove",$H27<>"",$I27=""), Error!$B$18, IF(AND($E27="Tier 4",$F27="Remove",$H27="Tree Protection Code: Tier 3 or Tier 4 Allowance",$H27<>"",ISNA(MATCH($I27,Tables!$B$200,0))), Error!$B$17, IF(AND($E27="Tier 3",$F27="Remove",$H27<>"",$H27="Tree Protection Code: Tier 3 or Tier 4 Allowance",OR($I27="",ISNA(MATCH($I27,Tables!$B$193:$B$197,0)))), Error!$B$17, IF(AND(OR($E27="Tier 2",$E27="Tier 2 Grove"),$F27="Remove",$H27="Tree Protection Code: Other removal allowance or exemption",$I27<>"",ISNA(MATCH($I27,Tables!$B$215:$B$218,0))), Error!$B$17, IF(AND(OR($E27="Tier 2",$E27="Tier 2 Grove"),$F27="Remove",$H27="Tree Protection Code: Development Capacity",$I27<>"",ISNA(MATCH($I27,Tables!$B$193:$B$197,0))), Error!$B$17, IF(AND(OR($E27="Tier 2",$E27="Tier 2 Grove"),$F27="Remove",$H27="Tree Protection Code: Necessary for Construction",$I27<>"",ISNA(MATCH($I27,Tables!$B$193:$B$197,0))), Error!$B$17, IF(AND($E27="Tier 1",$F27="Remove",$H27="Tree Protection Code: Special Exception",$I27<>"",ISNA(MATCH($I27,Tables!$B$215:$B$218,0))), Error!$B$17, IF(AND($E27="Tier 1",$F27="Remove",$H27="Tree Protection Code: Other removal allowance or exemption",$I27<>"",ISNA(MATCH($I27,Tables!$B$215:$B$218,0))), Error!$B$17, IF(AND($E27="ECA / Shoreline Tree",$F27="Remove",$H27<>"",OR($H27="Shoreline",$H27="Environmental Critical Area (ECA)"),ISNA(MATCH($I27,Tables!$B$209:$B$212,0))), Error!$B$17, IF(AND(_xlpm.baseRow,$F27="Retain",$E27="ECA / Shoreline Tree",_xlpm.ECA_Short=0), Error!$B$61, IF(AND($F27="Remove",ISNUMBER(MATCH($E27,{"Tier 1","Tier 2","Tier 3","Tier 4","Tier 2 Grove"},0)),ISNUMBER(MATCH($I27,{"On-site replacement","Off-site replacement"},0)),$J27="",$H27<>""), Error!$B$19, IF(AND(_xlpm.baseRow,$E27<>"",$D27<>"",$F27<>"",COUNTBLANK($B27:$C27)>0,COUNTBLANK(_xlpm.HRange)<>4), Error!$B$22, IF(AND($H27="Zoning: Tree Points",$K27<>"",ISNA(MATCH($K27,Tables!$B$242:$B$253,0))), Error!$B$58, IF(AND($H27="Zoning: Tree Points",$K27="Small",$L27<>"",ISNA(MATCH($L27,Tables!$C$243:$C$244,0))), Error!$B$59, IF(AND($H27="Zoning: Tree Points",$K27="Small/Medium",$L27<>"",ISNA(MATCH($L27,Tables!$C$246:$C$247,0))), Error!$B$59, IF(AND($H27="Zoning: Tree Points",$K27="Medium/Large",$L27<>"",ISNA(MATCH($L27,Tables!$C$249:$C$250,0))), Error!$B$59, IF(AND($H27="Zoning: Tree Points",$K27="Large",$L27<>"",ISNA(MATCH($L27,Tables!$C$252:$C$253,0))), Error!$B$59, IF(AND($F27="Retain",$H27="Zoning: Tree Points",$C27<>"",$D27<>"",OR($K27="",$L27="",$M27="")), Error!$B$20, "" )))))))))))))))))))))))))))))))))))))))))))))))))))))))), Error!$B$23))} | O27: {=IFERROR(_xlfn.LET( _xlpm.txt, $C27, _xlpm.chars, MID(_xlpm.txt, ROW(INDIRECT("1:" & LEN(_xlpm.txt))), 1), _xlpm.validChars, "0123456789ABCDEFGHIJKLMNOPQRSTUVWXYZabcdefghijklmnopqrstuvwxyz", _xlpm.isValid, ISNUMBER(MATCH(_xlpm.chars, MID(_xlpm.validChars, ROW(INDIRECT("1:" & LEN(_xlpm.validChars))), 1), 0)), _xlfn.TEXTJOIN("", TRUE, IF(_xlpm.isValid, _xlpm.chars, "")) ),"")}
B28: =IF($B27="", "", $B27) | C28: =IF($C27="", "", $C27) | D28: =IF($D27="", "", $D27) | E28: =IF($E27="", "", $E27) | F28: =IF($F27="", "", $F27) | G28: =IF(Tree_Table1[[#This Row],[Tree Status &]]="Retain", Tables!$B$237, IF(Tree_Table1[[#This Row],[Tree Status &]]="Remove", Tables!$B$238, "")) | K28: =IFERROR( IF( AND($H28="Zoning: Tree Points", NOT(ISNUMBER(SEARCH("sp.", $C28)))), VLOOKUP($C28, 'Tree List'!$C$3:$F$601, 4, FALSE), "" ), "") | L28: {=IFERROR( IF( AND($H28="Zoning: Tree Points", NOT(ISNUMBER(SEARCH("sp.", $C28)))), _xlfn.IFS( (COUNTIFS('Tree List'!$C$3:$C$601,$C28,'Tree List'!$D$3:$D$601,"Coniferous") + COUNTIFS('Tree List'!$C$3:$C$601,$C28,'Tree List'!$D$3:$D$601,"Deciduous Conifer")) > 0, _xlfn.IFS($K28="Small",0.5,$K28="Small/Medium",1,$K28="Medium/Large",1.4,$K28="Large",1.8), (COUNTIFS('Tree List'!$C$3:$C$601,$C28,'Tree List'!$D$3:$D$601,"Deciduous") + COUNTIFS('Tree List'!$C$3:$C$601,$C28,'Tree List'!$D$3:$D$601,"Broadleaf Evergreen")) > 0, _xlfn.IFS($K28="Small",0.4,$K28="Small/Medium",0.8,$K28="Medium/Large",1.2,$K28="Large",1.6) ), "" ), "")} | M28: =IFERROR($D28*$L28,"") | N28: {=_xlfn.LET( _xlpm.r,ROW(), _xlpm.blockIndex,INT((_xlpm.r-11)/4), _xlpm.baseRow,MOD(_xlpm.r-11,4)=0, _xlpm.baseStart,_xlpm.blockIndex*4+11, _xlpm.baseEnd,_xlpm.baseStart+3, _xlpm.HRange,INDEX($H:$H,_xlpm.baseStart):INDEX($H:$H,_xlpm.baseEnd), _xlpm.hasDM,ISNUMBER(SEARCH("DM",$I$2)), _xlpm.hasCN,ISNUMBER(SEARCH("CN",$I$2)), _xlpm.hasPH,ISNUMBER(SEARCH("PH",$I$2)), _xlpm.hasGR,ISNUMBER(SEARCH("GR",$I$2)), _xlpm.ECA_H,COUNTIF(_xlpm.HRange,"Environmental Critical Area (ECA)"), _xlpm.Shore_H,COUNTIF(_xlpm.HRange,"Shoreline"), _xlpm.TreePoints_H,COUNTIF(_xlpm.HRange,"Zoning: Tree Points"), _xlpm.GF_H,COUNTIF(_xlpm.HRange,"Zoning: Green Factor"), _xlpm.ECA_Short,COUNTIF(_xlpm.HRange,"Environmental Critical Area / Shoreline"), _xlpm.uniqueH,COUNTA(_xlfn.UNIQUE(_xlfn._xlws.FILTER(_xlpm.HRange,_xlpm.HRange<>""))), IFERROR( IF(AND(_xlpm.baseRow,ISNA(MATCH($C28,'Tree List'!$C$3:$C$601,0)),SUMPRODUCT(--ISNUMBER(SEARCH(Tables2!$C$677:$C$772,$O28)))>0), Error!$B$57, IF(AND(_xlpm.hasDM,$F28="Remove",$H28<>"",OR($I28="On-site replacement",$I28="Off-site replacement",$I28="Payment In Lieu")), Error!$B$56, IF(AND(_xlpm.hasDM,$F28="Remove",$H28<>"",$I28="Relocation"), Error!$B$66, IF(AND(OR(_xlpm.hasCN,_xlpm.hasPH,_xlpm.hasGR),$H28<>"",COUNTIF(Tables!$B$132:$B$134,$H28)>0,$I28="N/A (No replacement required)"), Error!$B$62, IF(AND(_xlpm.baseRow,$E28<>"",ISNA(MATCH($E28,Tables!$B$225:$B$232,0))), Error!$B$2, IF(AND(_xlpm.baseRow,$F28<>"",ISNA(MATCH($F28,Tables!$B$234:$B$235,0))), Error!$B$24, IF(AND(_xlpm.baseRow,_xlpm.ECA_H>0,_xlpm.Shore_H>0), Error!$B$16, IF(AND(_xlpm.baseRow,$E28<>"",$D28=""), Error!$B$3, IF(AND(_xlpm.baseRow,OR($E28="Tier 3",$E28="Tier 4"),$C28<>"",$D28>=24,COUNTIF(Tables2!$B$166:$B$674,$C28)>0), Error!$B$44, IF(AND(_xlpm.baseRow,OR($E28="Tier 3",$E28="Tier 4"),$C28<>"",$D28<>"",COUNTIF(Tables2!$B$73:$B$152,$C28)>0, $D28>=IFERROR(INDEX(Tables2!$C$73:$C$152,MATCH($C28,Tables2!$B$73:$B$152,0)),-1)), Error!$B$44, IF(AND(_xlpm.baseRow,OR($E28="Tier 2",$E28="Tier 2 Grove"),$C28<>"",$D28>=12,COUNTIF(Tables2!$B$153:$B$162,$C28)>0), Error!$B$45, IF(AND(_xlpm.baseRow,$E28="Tier 2 Grove",$D28<12), Error!$B$41, IF(AND(_xlpm.baseRow,$E28="Tier 2",$D28<5.88), Error!$B$40, IF(AND(_xlpm.baseRow,OR($E28="Tier 2",$E28="Tier 2 Grove"),$C28<>"",$D28<12,$D28>=6,COUNTIF(Tables2!$B$153:$B$162,$C28)>0), Error!$B$54, IF(AND(_xlpm.baseRow,$E28="Tier 2",COUNTIF(Tables2!$B$166:$B$674,$C28)>0,$D28<24), Error!$B$54, IF(AND(_xlpm.baseRow,$E28="Tier 3",ISNA(MATCH($C28,Tables2!$B$153:$B$162,0)),OR($D28<12,$D28>=24)), Error!$B$9, IF(AND(_xlpm.baseRow,$E28="Tier 3",COUNTIF(Tables2!$B$153:$B$162,$C28)>0,$D28<12), Error!$B$46, IF(AND(_xlpm.baseRow,$E28="Tier 4",OR($D28<6,$D28>=12)), Error!$B$10, IF(AND(_xlpm.baseRow,$E28="<6in DSH for Tree Points",OR($D28>=6,$D28="")), Error!$B$8, IF(AND(_xlpm.baseRow,$E28="Street Tree for Green Factor",$F28<>"",$F28<>"Retain"), Error!$B$14, IF(AND($E28="<6in DSH for Tree Points",$F28="Retain",$H28<>"",ISNA(MATCH($H28,Tables!$B$174:$B$174,0))), Error!$B$15, IF(AND($E28="Street Tree for Green Factor",$F28="Retain",$H28<>"",$H28<>"Zoning: Green Factor"), Error!$B$15, IF(AND($E28="ECA / Shoreline Tree",$F28="Remove",$H28<>"",ISNA(MATCH($H28,Tables!$B$189:$B$190,0))), Error!$B$15, IF(AND($E28="ECA / Shoreline Tree",$F28="Retain",$H28<>"",ISNA(MATCH($H28,Tables!$B$184:$B$186,0))), Error!$B$15, IF(AND($E28="Tier 4",$F28="Remove",$H28<>"",ISNA(MATCH($H28,Tables!$B$171,0))), Error!$B$15, IF(AND($E28="Tier 4",$F28="Retain",$H28<>"",ISNA(MATCH($H28,Tables!$B$166:$B$168,0))), Error!$B$15, IF(AND($E28="Tier 3",$F28="Retain",$H28<>"",ISNA(MATCH($H28,Tables!$B$158:$B$160,0))), Error!$B$15, IF(AND($E28="Tier 3",$F28="Remove",$H28<>"",ISNA(MATCH($H28,Tables!$B$163,0))), Error!$B$15, IF(AND(OR($E28="Tier 2",$E28="Tier 2 Grove"),$F28="Remove",$H28<>"",ISNA(MATCH($H28,Tables!$B$153:$B$155,0))), Error!$B$15, IF(AND(OR($E28="Tier 2",$E28="Tier 2 Grove"),$F28="Retain",$H28<>"",ISNA(MATCH($H28,Tables!$B$147:$B$150,0))), Error!$B$15, IF(AND($E28="Tier 1",$F28="Remove",$H28<>"",ISNA(MATCH($H28,Tables!$B$143:$B$144,0))), Error!$B$15, IF(AND($E28="Tier 1",$F28="Retain",$H28<>"",ISNA(MATCH($H28,Tables!$B$137:$B$140,0))), Error!$B$15, IF(AND($E28<>"Tier 2",$E28<>"Tier 2 Grove",$E28<>"Tier 3",$E28<>"Tier 4",$H28="Zoning: Green Factor",OR($D28="",$D28<6)), Error!$B$11, IF(AND(_xlpm.baseRow,$D28<6,$E28="<6in DSH for Tree Points",_xlpm.TreePoints_H=0), Error!$B$21, IF(AND(_xlpm.baseRow,$E28<>"",$D28<>"",$F28=""), Error!$B$4, IF(AND(_xlpm.baseRow,$F28="Remove",OR($E28="Tier 1",$E28="Tier 2",$E28="Tier 2 Grove"),COUNTBLANK(_xlpm.HRange)<3,_xlpm.uniqueH>=2), Error!$B$48, IF(AND(_xlpm.baseRow,$F28="Retain",OR($E28="Tier 1",$E28="Tier 2",$E28="Tier 2 Grove"),COUNTIF(_xlpm.HRange,"Tree Code: Required to Retain Tier 1-2 Tree")=0), Error!$B$47, IF(AND(_xlpm.baseRow,$E28<>"",$D28<>"",$F28<>"",COUNTBLANK(_xlpm.HRange)=4), Error!$B$5, IF(AND($F28="Remove",$H28<>"",$I28=""), Error!$B$18, IF(AND($E28="Tier 4",$F28="Remove",$H28="Tree Protection Code: Tier 3 or Tier 4 Allowance",$H28<>"",ISNA(MATCH($I28,Tables!$B$200,0))), Error!$B$17, IF(AND($E28="Tier 3",$F28="Remove",$H28<>"",$H28="Tree Protection Code: Tier 3 or Tier 4 Allowance",OR($I28="",ISNA(MATCH($I28,Tables!$B$193:$B$197,0)))), Error!$B$17, IF(AND(OR($E28="Tier 2",$E28="Tier 2 Grove"),$F28="Remove",$H28="Tree Protection Code: Other removal allowance or exemption",$I28<>"",ISNA(MATCH($I28,Tables!$B$215:$B$218,0))), Error!$B$17, IF(AND(OR($E28="Tier 2",$E28="Tier 2 Grove"),$F28="Remove",$H28="Tree Protection Code: Development Capacity",$I28<>"",ISNA(MATCH($I28,Tables!$B$193:$B$197,0))), Error!$B$17, IF(AND(OR($E28="Tier 2",$E28="Tier 2 Grove"),$F28="Remove",$H28="Tree Protection Code: Necessary for Construction",$I28<>"",ISNA(MATCH($I28,Tables!$B$193:$B$197,0))), Error!$B$17, IF(AND($E28="Tier 1",$F28="Remove",$H28="Tree Protection Code: Special Exception",$I28<>"",ISNA(MATCH($I28,Tables!$B$215:$B$218,0))), Error!$B$17, IF(AND($E28="Tier 1",$F28="Remove",$H28="Tree Protection Code: Other removal allowance or exemption",$I28<>"",ISNA(MATCH($I28,Tables!$B$215:$B$218,0))), Error!$B$17, IF(AND($E28="ECA / Shoreline Tree",$F28="Remove",$H28<>"",OR($H28="Shoreline",$H28="Environmental Critical Area (ECA)"),ISNA(MATCH($I28,Tables!$B$209:$B$212,0))), Error!$B$17, IF(AND(_xlpm.baseRow,$F28="Retain",$E28="ECA / Shoreline Tree",_xlpm.ECA_Short=0), Error!$B$61, IF(AND($F28="Remove",ISNUMBER(MATCH($E28,{"Tier 1","Tier 2","Tier 3","Tier 4","Tier 2 Grove"},0)),ISNUMBER(MATCH($I28,{"On-site replacement","Off-site replacement"},0)),$J28="",$H28<>""), Error!$B$19, IF(AND(_xlpm.baseRow,$E28<>"",$D28<>"",$F28<>"",COUNTBLANK($B28:$C28)>0,COUNTBLANK(_xlpm.HRange)<>4), Error!$B$22, IF(AND($H28="Zoning: Tree Points",$K28<>"",ISNA(MATCH($K28,Tables!$B$242:$B$253,0))), Error!$B$58, IF(AND($H28="Zoning: Tree Points",$K28="Small",$L28<>"",ISNA(MATCH($L28,Tables!$C$243:$C$244,0))), Error!$B$59, IF(AND($H28="Zoning: Tree Points",$K28="Small/Medium",$L28<>"",ISNA(MATCH($L28,Tables!$C$246:$C$247,0))), Error!$B$59, IF(AND($H28="Zoning: Tree Points",$K28="Medium/Large",$L28<>"",ISNA(MATCH($L28,Tables!$C$249:$C$250,0))), Error!$B$59, IF(AND($H28="Zoning: Tree Points",$K28="Large",$L28<>"",ISNA(MATCH($L28,Tables!$C$252:$C$253,0))), Error!$B$59, IF(AND($F28="Retain",$H28="Zoning: Tree Points",$C28<>"",$D28<>"",OR($K28="",$L28="",$M28="")), Error!$B$20, "" )))))))))))))))))))))))))))))))))))))))))))))))))))))))), Error!$B$23))} | O28: {=IFERROR(_xlfn.LET( _xlpm.txt, $C28, _xlpm.chars, MID(_xlpm.txt, ROW(INDIRECT("1:" & LEN(_xlpm.txt))), 1), _xlpm.validChars, "0123456789ABCDEFGHIJKLMNOPQRSTUVWXYZabcdefghijklmnopqrstuvwxyz", _xlpm.isValid, ISNUMBER(MATCH(_xlpm.chars, MID(_xlpm.validChars, ROW(INDIRECT("1:" & LEN(_xlpm.validChars))), 1), 0)), _xlfn.TEXTJOIN("", TRUE, IF(_xlpm.isValid, _xlpm.chars, "")) ),"")}
B29: =IF($B28="", "", $B28) | C29: =IF($C28="", "", $C28) | D29: =IF($D28="", "", $D28) | E29: =IF($E28="", "", $E28) | F29: =IF($F28="", "", $F28) | G29: =IF(Tree_Table1[[#This Row],[Tree Status &]]="Retain", Tables!$B$237, IF(Tree_Table1[[#This Row],[Tree Status &]]="Remove", Tables!$B$238, "")) | K29: =IFERROR( IF( AND($H29="Zoning: Tree Points", NOT(ISNUMBER(SEARCH("sp.", $C29)))), VLOOKUP($C29, 'Tree List'!$C$3:$F$601, 4, FALSE), "" ), "") | L29: {=IFERROR( IF( AND($H29="Zoning: Tree Points", NOT(ISNUMBER(SEARCH("sp.", $C29)))), _xlfn.IFS( (COUNTIFS('Tree List'!$C$3:$C$601,$C29,'Tree List'!$D$3:$D$601,"Coniferous") + COUNTIFS('Tree List'!$C$3:$C$601,$C29,'Tree List'!$D$3:$D$601,"Deciduous Conifer")) > 0, _xlfn.IFS($K29="Small",0.5,$K29="Small/Medium",1,$K29="Medium/Large",1.4,$K29="Large",1.8), (COUNTIFS('Tree List'!$C$3:$C$601,$C29,'Tree List'!$D$3:$D$601,"Deciduous") + COUNTIFS('Tree List'!$C$3:$C$601,$C29,'Tree List'!$D$3:$D$601,"Broadleaf Evergreen")) > 0, _xlfn.IFS($K29="Small",0.4,$K29="Small/Medium",0.8,$K29="Medium/Large",1.2,$K29="Large",1.6) ), "" ), "")} | M29: =IFERROR($D29*$L29,"") | N29: {=_xlfn.LET( _xlpm.r,ROW(), _xlpm.blockIndex,INT((_xlpm.r-11)/4), _xlpm.baseRow,MOD(_xlpm.r-11,4)=0, _xlpm.baseStart,_xlpm.blockIndex*4+11, _xlpm.baseEnd,_xlpm.baseStart+3, _xlpm.HRange,INDEX($H:$H,_xlpm.baseStart):INDEX($H:$H,_xlpm.baseEnd), _xlpm.hasDM,ISNUMBER(SEARCH("DM",$I$2)), _xlpm.hasCN,ISNUMBER(SEARCH("CN",$I$2)), _xlpm.hasPH,ISNUMBER(SEARCH("PH",$I$2)), _xlpm.hasGR,ISNUMBER(SEARCH("GR",$I$2)), _xlpm.ECA_H,COUNTIF(_xlpm.HRange,"Environmental Critical Area (ECA)"), _xlpm.Shore_H,COUNTIF(_xlpm.HRange,"Shoreline"), _xlpm.TreePoints_H,COUNTIF(_xlpm.HRange,"Zoning: Tree Points"), _xlpm.GF_H,COUNTIF(_xlpm.HRange,"Zoning: Green Factor"), _xlpm.ECA_Short,COUNTIF(_xlpm.HRange,"Environmental Critical Area / Shoreline"), _xlpm.uniqueH,COUNTA(_xlfn.UNIQUE(_xlfn._xlws.FILTER(_xlpm.HRange,_xlpm.HRange<>""))), IFERROR( IF(AND(_xlpm.baseRow,ISNA(MATCH($C29,'Tree List'!$C$3:$C$601,0)),SUMPRODUCT(--ISNUMBER(SEARCH(Tables2!$C$677:$C$772,$O29)))>0), Error!$B$57, IF(AND(_xlpm.hasDM,$F29="Remove",$H29<>"",OR($I29="On-site replacement",$I29="Off-site replacement",$I29="Payment In Lieu")), Error!$B$56, IF(AND(_xlpm.hasDM,$F29="Remove",$H29<>"",$I29="Relocation"), Error!$B$66, IF(AND(OR(_xlpm.hasCN,_xlpm.hasPH,_xlpm.hasGR),$H29<>"",COUNTIF(Tables!$B$132:$B$134,$H29)>0,$I29="N/A (No replacement required)"), Error!$B$62, IF(AND(_xlpm.baseRow,$E29<>"",ISNA(MATCH($E29,Tables!$B$225:$B$232,0))), Error!$B$2, IF(AND(_xlpm.baseRow,$F29<>"",ISNA(MATCH($F29,Tables!$B$234:$B$235,0))), Error!$B$24, IF(AND(_xlpm.baseRow,_xlpm.ECA_H>0,_xlpm.Shore_H>0), Error!$B$16, IF(AND(_xlpm.baseRow,$E29<>"",$D29=""), Error!$B$3, IF(AND(_xlpm.baseRow,OR($E29="Tier 3",$E29="Tier 4"),$C29<>"",$D29>=24,COUNTIF(Tables2!$B$166:$B$674,$C29)>0), Error!$B$44, IF(AND(_xlpm.baseRow,OR($E29="Tier 3",$E29="Tier 4"),$C29<>"",$D29<>"",COUNTIF(Tables2!$B$73:$B$152,$C29)>0, $D29>=IFERROR(INDEX(Tables2!$C$73:$C$152,MATCH($C29,Tables2!$B$73:$B$152,0)),-1)), Error!$B$44, IF(AND(_xlpm.baseRow,OR($E29="Tier 2",$E29="Tier 2 Grove"),$C29<>"",$D29>=12,COUNTIF(Tables2!$B$153:$B$162,$C29)>0), Error!$B$45, IF(AND(_xlpm.baseRow,$E29="Tier 2 Grove",$D29<12), Error!$B$41, IF(AND(_xlpm.baseRow,$E29="Tier 2",$D29<5.88), Error!$B$40, IF(AND(_xlpm.baseRow,OR($E29="Tier 2",$E29="Tier 2 Grove"),$C29<>"",$D29<12,$D29>=6,COUNTIF(Tables2!$B$153:$B$162,$C29)>0), Error!$B$54, IF(AND(_xlpm.baseRow,$E29="Tier 2",COUNTIF(Tables2!$B$166:$B$674,$C29)>0,$D29<24), Error!$B$54, IF(AND(_xlpm.baseRow,$E29="Tier 3",ISNA(MATCH($C29,Tables2!$B$153:$B$162,0)),OR($D29<12,$D29>=24)), Error!$B$9, IF(AND(_xlpm.baseRow,$E29="Tier 3",COUNTIF(Tables2!$B$153:$B$162,$C29)>0,$D29<12), Error!$B$46, IF(AND(_xlpm.baseRow,$E29="Tier 4",OR($D29<6,$D29>=12)), Error!$B$10, IF(AND(_xlpm.baseRow,$E29="<6in DSH for Tree Points",OR($D29>=6,$D29="")), Error!$B$8, IF(AND(_xlpm.baseRow,$E29="Street Tree for Green Factor",$F29<>"",$F29<>"Retain"), Error!$B$14, IF(AND($E29="<6in DSH for Tree Points",$F29="Retain",$H29<>"",ISNA(MATCH($H29,Tables!$B$174:$B$174,0))), Error!$B$15, IF(AND($E29="Street Tree for Green Factor",$F29="Retain",$H29<>"",$H29<>"Zoning: Green Factor"), Error!$B$15, IF(AND($E29="ECA / Shoreline Tree",$F29="Remove",$H29<>"",ISNA(MATCH($H29,Tables!$B$189:$B$190,0))), Error!$B$15, IF(AND($E29="ECA / Shoreline Tree",$F29="Retain",$H29<>"",ISNA(MATCH($H29,Tables!$B$184:$B$186,0))), Error!$B$15, IF(AND($E29="Tier 4",$F29="Remove",$H29<>"",ISNA(MATCH($H29,Tables!$B$171,0))), Error!$B$15, IF(AND($E29="Tier 4",$F29="Retain",$H29<>"",ISNA(MATCH($H29,Tables!$B$166:$B$168,0))), Error!$B$15, IF(AND($E29="Tier 3",$F29="Retain",$H29<>"",ISNA(MATCH($H29,Tables!$B$158:$B$160,0))), Error!$B$15, IF(AND($E29="Tier 3",$F29="Remove",$H29<>"",ISNA(MATCH($H29,Tables!$B$163,0))), Error!$B$15, IF(AND(OR($E29="Tier 2",$E29="Tier 2 Grove"),$F29="Remove",$H29<>"",ISNA(MATCH($H29,Tables!$B$153:$B$155,0))), Error!$B$15, IF(AND(OR($E29="Tier 2",$E29="Tier 2 Grove"),$F29="Retain",$H29<>"",ISNA(MATCH($H29,Tables!$B$147:$B$150,0))), Error!$B$15, IF(AND($E29="Tier 1",$F29="Remove",$H29<>"",ISNA(MATCH($H29,Tables!$B$143:$B$144,0))), Error!$B$15, IF(AND($E29="Tier 1",$F29="Retain",$H29<>"",ISNA(MATCH($H29,Tables!$B$137:$B$140,0))), Error!$B$15, IF(AND($E29<>"Tier 2",$E29<>"Tier 2 Grove",$E29<>"Tier 3",$E29<>"Tier 4",$H29="Zoning: Green Factor",OR($D29="",$D29<6)), Error!$B$11, IF(AND(_xlpm.baseRow,$D29<6,$E29="<6in DSH for Tree Points",_xlpm.TreePoints_H=0), Error!$B$21, IF(AND(_xlpm.baseRow,$E29<>"",$D29<>"",$F29=""), Error!$B$4, IF(AND(_xlpm.baseRow,$F29="Remove",OR($E29="Tier 1",$E29="Tier 2",$E29="Tier 2 Grove"),COUNTBLANK(_xlpm.HRange)<3,_xlpm.uniqueH>=2), Error!$B$48, IF(AND(_xlpm.baseRow,$F29="Retain",OR($E29="Tier 1",$E29="Tier 2",$E29="Tier 2 Grove"),COUNTIF(_xlpm.HRange,"Tree Code: Required to Retain Tier 1-2 Tree")=0), Error!$B$47, IF(AND(_xlpm.baseRow,$E29<>"",$D29<>"",$F29<>"",COUNTBLANK(_xlpm.HRange)=4), Error!$B$5, IF(AND($F29="Remove",$H29<>"",$I29=""), Error!$B$18, IF(AND($E29="Tier 4",$F29="Remove",$H29="Tree Protection Code: Tier 3 or Tier 4 Allowance",$H29<>"",ISNA(MATCH($I29,Tables!$B$200,0))), Error!$B$17, IF(AND($E29="Tier 3",$F29="Remove",$H29<>"",$H29="Tree Protection Code: Tier 3 or Tier 4 Allowance",OR($I29="",ISNA(MATCH($I29,Tables!$B$193:$B$197,0)))), Error!$B$17, IF(AND(OR($E29="Tier 2",$E29="Tier 2 Grove"),$F29="Remove",$H29="Tree Protection Code: Other removal allowance or exemption",$I29<>"",ISNA(MATCH($I29,Tables!$B$215:$B$218,0))), Error!$B$17, IF(AND(OR($E29="Tier 2",$E29="Tier 2 Grove"),$F29="Remove",$H29="Tree Protection Code: Development Capacity",$I29<>"",ISNA(MATCH($I29,Tables!$B$193:$B$197,0))), Error!$B$17, IF(AND(OR($E29="Tier 2",$E29="Tier 2 Grove"),$F29="Remove",$H29="Tree Protection Code: Necessary for Construction",$I29<>"",ISNA(MATCH($I29,Tables!$B$193:$B$197,0))), Error!$B$17, IF(AND($E29="Tier 1",$F29="Remove",$H29="Tree Protection Code: Special Exception",$I29<>"",ISNA(MATCH($I29,Tables!$B$215:$B$218,0))), Error!$B$17, IF(AND($E29="Tier 1",$F29="Remove",$H29="Tree Protection Code: Other removal allowance or exemption",$I29<>"",ISNA(MATCH($I29,Tables!$B$215:$B$218,0))), Error!$B$17, IF(AND($E29="ECA / Shoreline Tree",$F29="Remove",$H29<>"",OR($H29="Shoreline",$H29="Environmental Critical Area (ECA)"),ISNA(MATCH($I29,Tables!$B$209:$B$212,0))), Error!$B$17, IF(AND(_xlpm.baseRow,$F29="Retain",$E29="ECA / Shoreline Tree",_xlpm.ECA_Short=0), Error!$B$61, IF(AND($F29="Remove",ISNUMBER(MATCH($E29,{"Tier 1","Tier 2","Tier 3","Tier 4","Tier 2 Grove"},0)),ISNUMBER(MATCH($I29,{"On-site replacement","Off-site replacement"},0)),$J29="",$H29<>""), Error!$B$19, IF(AND(_xlpm.baseRow,$E29<>"",$D29<>"",$F29<>"",COUNTBLANK($B29:$C29)>0,COUNTBLANK(_xlpm.HRange)<>4), Error!$B$22, IF(AND($H29="Zoning: Tree Points",$K29<>"",ISNA(MATCH($K29,Tables!$B$242:$B$253,0))), Error!$B$58, IF(AND($H29="Zoning: Tree Points",$K29="Small",$L29<>"",ISNA(MATCH($L29,Tables!$C$243:$C$244,0))), Error!$B$59, IF(AND($H29="Zoning: Tree Points",$K29="Small/Medium",$L29<>"",ISNA(MATCH($L29,Tables!$C$246:$C$247,0))), Error!$B$59, IF(AND($H29="Zoning: Tree Points",$K29="Medium/Large",$L29<>"",ISNA(MATCH($L29,Tables!$C$249:$C$250,0))), Error!$B$59, IF(AND($H29="Zoning: Tree Points",$K29="Large",$L29<>"",ISNA(MATCH($L29,Tables!$C$252:$C$253,0))), Error!$B$59, IF(AND($F29="Retain",$H29="Zoning: Tree Points",$C29<>"",$D29<>"",OR($K29="",$L29="",$M29="")), Error!$B$20, "" )))))))))))))))))))))))))))))))))))))))))))))))))))))))), Error!$B$23))} | O29: {=IFERROR(_xlfn.LET( _xlpm.txt, $C29, _xlpm.chars, MID(_xlpm.txt, ROW(INDIRECT("1:" & LEN(_xlpm.txt))), 1), _xlpm.validChars, "0123456789ABCDEFGHIJKLMNOPQRSTUVWXYZabcdefghijklmnopqrstuvwxyz", _xlpm.isValid, ISNUMBER(MATCH(_xlpm.chars, MID(_xlpm.validChars, ROW(INDIRECT("1:" & LEN(_xlpm.validChars))), 1), 0)), _xlfn.TEXTJOIN("", TRUE, IF(_xlpm.isValid, _xlpm.chars, "")) ),"")}
B30: =IF($B29="", "", $B29) | C30: =IF($C29="", "", $C29) | D30: =IF($D29="", "", $D29) | E30: =IF($E29="", "", $E29) | F30: =IF($F29="", "", $F29) | G30: =IF(Tree_Table1[[#This Row],[Tree Status &]]="Retain", Tables!$B$237, IF(Tree_Table1[[#This Row],[Tree Status &]]="Remove", Tables!$B$238, "")) | K30: =IFERROR( IF( AND($H30="Zoning: Tree Points", NOT(ISNUMBER(SEARCH("sp.", $C30)))), VLOOKUP($C30, 'Tree List'!$C$3:$F$601, 4, FALSE), "" ), "") | L30: {=IFERROR( IF( AND($H30="Zoning: Tree Points", NOT(ISNUMBER(SEARCH("sp.", $C30)))), _xlfn.IFS( (COUNTIFS('Tree List'!$C$3:$C$601,$C30,'Tree List'!$D$3:$D$601,"Coniferous") + COUNTIFS('Tree List'!$C$3:$C$601,$C30,'Tree List'!$D$3:$D$601,"Deciduous Conifer")) > 0, _xlfn.IFS($K30="Small",0.5,$K30="Small/Medium",1,$K30="Medium/Large",1.4,$K30="Large",1.8), (COUNTIFS('Tree List'!$C$3:$C$601,$C30,'Tree List'!$D$3:$D$601,"Deciduous") + COUNTIFS('Tree List'!$C$3:$C$601,$C30,'Tree List'!$D$3:$D$601,"Broadleaf Evergreen")) > 0, _xlfn.IFS($K30="Small",0.4,$K30="Small/Medium",0.8,$K30="Medium/Large",1.2,$K30="Large",1.6) ), "" ), "")} | M30: =IFERROR($D30*$L30,"") | N30: {=_xlfn.LET( _xlpm.r,ROW(), _xlpm.blockIndex,INT((_xlpm.r-11)/4), _xlpm.baseRow,MOD(_xlpm.r-11,4)=0, _xlpm.baseStart,_xlpm.blockIndex*4+11, _xlpm.baseEnd,_xlpm.baseStart+3, _xlpm.HRange,INDEX($H:$H,_xlpm.baseStart):INDEX($H:$H,_xlpm.baseEnd), _xlpm.hasDM,ISNUMBER(SEARCH("DM",$I$2)), _xlpm.hasCN,ISNUMBER(SEARCH("CN",$I$2)), _xlpm.hasPH,ISNUMBER(SEARCH("PH",$I$2)), _xlpm.hasGR,ISNUMBER(SEARCH("GR",$I$2)), _xlpm.ECA_H,COUNTIF(_xlpm.HRange,"Environmental Critical Area (ECA)"), _xlpm.Shore_H,COUNTIF(_xlpm.HRange,"Shoreline"), _xlpm.TreePoints_H,COUNTIF(_xlpm.HRange,"Zoning: Tree Points"), _xlpm.GF_H,COUNTIF(_xlpm.HRange,"Zoning: Green Factor"), _xlpm.ECA_Short,COUNTIF(_xlpm.HRange,"Environmental Critical Area / Shoreline"), _xlpm.uniqueH,COUNTA(_xlfn.UNIQUE(_xlfn._xlws.FILTER(_xlpm.HRange,_xlpm.HRange<>""))), IFERROR( IF(AND(_xlpm.baseRow,ISNA(MATCH($C30,'Tree List'!$C$3:$C$601,0)),SUMPRODUCT(--ISNUMBER(SEARCH(Tables2!$C$677:$C$772,$O30)))>0), Error!$B$57, IF(AND(_xlpm.hasDM,$F30="Remove",$H30<>"",OR($I30="On-site replacement",$I30="Off-site replacement",$I30="Payment In Lieu")), Error!$B$56, IF(AND(_xlpm.hasDM,$F30="Remove",$H30<>"",$I30="Relocation"), Error!$B$66, IF(AND(OR(_xlpm.hasCN,_xlpm.hasPH,_xlpm.hasGR),$H30<>"",COUNTIF(Tables!$B$132:$B$134,$H30)>0,$I30="N/A (No replacement required)"), Error!$B$62, IF(AND(_xlpm.baseRow,$E30<>"",ISNA(MATCH($E30,Tables!$B$225:$B$232,0))), Error!$B$2, IF(AND(_xlpm.baseRow,$F30<>"",ISNA(MATCH($F30,Tables!$B$234:$B$235,0))), Error!$B$24, IF(AND(_xlpm.baseRow,_xlpm.ECA_H>0,_xlpm.Shore_H>0), Error!$B$16, IF(AND(_xlpm.baseRow,$E30<>"",$D30=""), Error!$B$3, IF(AND(_xlpm.baseRow,OR($E30="Tier 3",$E30="Tier 4"),$C30<>"",$D30>=24,COUNTIF(Tables2!$B$166:$B$674,$C30)>0), Error!$B$44, IF(AND(_xlpm.baseRow,OR($E30="Tier 3",$E30="Tier 4"),$C30<>"",$D30<>"",COUNTIF(Tables2!$B$73:$B$152,$C30)>0, $D30>=IFERROR(INDEX(Tables2!$C$73:$C$152,MATCH($C30,Tables2!$B$73:$B$152,0)),-1)), Error!$B$44, IF(AND(_xlpm.baseRow,OR($E30="Tier 2",$E30="Tier 2 Grove"),$C30<>"",$D30>=12,COUNTIF(Tables2!$B$153:$B$162,$C30)>0), Error!$B$45, IF(AND(_xlpm.baseRow,$E30="Tier 2 Grove",$D30<12), Error!$B$41, IF(AND(_xlpm.baseRow,$E30="Tier 2",$D30<5.88), Error!$B$40, IF(AND(_xlpm.baseRow,OR($E30="Tier 2",$E30="Tier 2 Grove"),$C30<>"",$D30<12,$D30>=6,COUNTIF(Tables2!$B$153:$B$162,$C30)>0), Error!$B$54, IF(AND(_xlpm.baseRow,$E30="Tier 2",COUNTIF(Tables2!$B$166:$B$674,$C30)>0,$D30<24), Error!$B$54, IF(AND(_xlpm.baseRow,$E30="Tier 3",ISNA(MATCH($C30,Tables2!$B$153:$B$162,0)),OR($D30<12,$D30>=24)), Error!$B$9, IF(AND(_xlpm.baseRow,$E30="Tier 3",COUNTIF(Tables2!$B$153:$B$162,$C30)>0,$D30<12), Error!$B$46, IF(AND(_xlpm.baseRow,$E30="Tier 4",OR($D30<6,$D30>=12)), Error!$B$10, IF(AND(_xlpm.baseRow,$E30="<6in DSH for Tree Points",OR($D30>=6,$D30="")), Error!$B$8, IF(AND(_xlpm.baseRow,$E30="Street Tree for Green Factor",$F30<>"",$F30<>"Retain"), Error!$B$14, IF(AND($E30="<6in DSH for Tree Points",$F30="Retain",$H30<>"",ISNA(MATCH($H30,Tables!$B$174:$B$174,0))), Error!$B$15, IF(AND($E30="Street Tree for Green Factor",$F30="Retain",$H30<>"",$H30<>"Zoning: Green Factor"), Error!$B$15, IF(AND($E30="ECA / Shoreline Tree",$F30="Remove",$H30<>"",ISNA(MATCH($H30,Tables!$B$189:$B$190,0))), Error!$B$15, IF(AND($E30="ECA / Shoreline Tree",$F30="Retain",$H30<>"",ISNA(MATCH($H30,Tables!$B$184:$B$186,0))), Error!$B$15, IF(AND($E30="Tier 4",$F30="Remove",$H30<>"",ISNA(MATCH($H30,Tables!$B$171,0))), Error!$B$15, IF(AND($E30="Tier 4",$F30="Retain",$H30<>"",ISNA(MATCH($H30,Tables!$B$166:$B$168,0))), Error!$B$15, IF(AND($E30="Tier 3",$F30="Retain",$H30<>"",ISNA(MATCH($H30,Tables!$B$158:$B$160,0))), Error!$B$15, IF(AND($E30="Tier 3",$F30="Remove",$H30<>"",ISNA(MATCH($H30,Tables!$B$163,0))), Error!$B$15, IF(AND(OR($E30="Tier 2",$E30="Tier 2 Grove"),$F30="Remove",$H30<>"",ISNA(MATCH($H30,Tables!$B$153:$B$155,0))), Error!$B$15, IF(AND(OR($E30="Tier 2",$E30="Tier 2 Grove"),$F30="Retain",$H30<>"",ISNA(MATCH($H30,Tables!$B$147:$B$150,0))), Error!$B$15, IF(AND($E30="Tier 1",$F30="Remove",$H30<>"",ISNA(MATCH($H30,Tables!$B$143:$B$144,0))), Error!$B$15, IF(AND($E30="Tier 1",$F30="Retain",$H30<>"",ISNA(MATCH($H30,Tables!$B$137:$B$140,0))), Error!$B$15, IF(AND($E30<>"Tier 2",$E30<>"Tier 2 Grove",$E30<>"Tier 3",$E30<>"Tier 4",$H30="Zoning: Green Factor",OR($D30="",$D30<6)), Error!$B$11, IF(AND(_xlpm.baseRow,$D30<6,$E30="<6in DSH for Tree Points",_xlpm.TreePoints_H=0), Error!$B$21, IF(AND(_xlpm.baseRow,$E30<>"",$D30<>"",$F30=""), Error!$B$4, IF(AND(_xlpm.baseRow,$F30="Remove",OR($E30="Tier 1",$E30="Tier 2",$E30="Tier 2 Grove"),COUNTBLANK(_xlpm.HRange)<3,_xlpm.uniqueH>=2), Error!$B$48, IF(AND(_xlpm.baseRow,$F30="Retain",OR($E30="Tier 1",$E30="Tier 2",$E30="Tier 2 Grove"),COUNTIF(_xlpm.HRange,"Tree Code: Required to Retain Tier 1-2 Tree")=0), Error!$B$47, IF(AND(_xlpm.baseRow,$E30<>"",$D30<>"",$F30<>"",COUNTBLANK(_xlpm.HRange)=4), Error!$B$5, IF(AND($F30="Remove",$H30<>"",$I30=""), Error!$B$18, IF(AND($E30="Tier 4",$F30="Remove",$H30="Tree Protection Code: Tier 3 or Tier 4 Allowance",$H30<>"",ISNA(MATCH($I30,Tables!$B$200,0))), Error!$B$17, IF(AND($E30="Tier 3",$F30="Remove",$H30<>"",$H30="Tree Protection Code: Tier 3 or Tier 4 Allowance",OR($I30="",ISNA(MATCH($I30,Tables!$B$193:$B$197,0)))), Error!$B$17, IF(AND(OR($E30="Tier 2",$E30="Tier 2 Grove"),$F30="Remove",$H30="Tree Protection Code: Other removal allowance or exemption",$I30<>"",ISNA(MATCH($I30,Tables!$B$215:$B$218,0))), Error!$B$17, IF(AND(OR($E30="Tier 2",$E30="Tier 2 Grove"),$F30="Remove",$H30="Tree Protection Code: Development Capacity",$I30<>"",ISNA(MATCH($I30,Tables!$B$193:$B$197,0))), Error!$B$17, IF(AND(OR($E30="Tier 2",$E30="Tier 2 Grove"),$F30="Remove",$H30="Tree Protection Code: Necessary for Construction",$I30<>"",ISNA(MATCH($I30,Tables!$B$193:$B$197,0))), Error!$B$17, IF(AND($E30="Tier 1",$F30="Remove",$H30="Tree Protection Code: Special Exception",$I30<>"",ISNA(MATCH($I30,Tables!$B$215:$B$218,0))), Error!$B$17, IF(AND($E30="Tier 1",$F30="Remove",$H30="Tree Protection Code: Other removal allowance or exemption",$I30<>"",ISNA(MATCH($I30,Tables!$B$215:$B$218,0))), Error!$B$17, IF(AND($E30="ECA / Shoreline Tree",$F30="Remove",$H30<>"",OR($H30="Shoreline",$H30="Environmental Critical Area (ECA)"),ISNA(MATCH($I30,Tables!$B$209:$B$212,0))), Error!$B$17, IF(AND(_xlpm.baseRow,$F30="Retain",$E30="ECA / Shoreline Tree",_xlpm.ECA_Short=0), Error!$B$61, IF(AND($F30="Remove",ISNUMBER(MATCH($E30,{"Tier 1","Tier 2","Tier 3","Tier 4","Tier 2 Grove"},0)),ISNUMBER(MATCH($I30,{"On-site replacement","Off-site replacement"},0)),$J30="",$H30<>""), Error!$B$19, IF(AND(_xlpm.baseRow,$E30<>"",$D30<>"",$F30<>"",COUNTBLANK($B30:$C30)>0,COUNTBLANK(_xlpm.HRange)<>4), Error!$B$22, IF(AND($H30="Zoning: Tree Points",$K30<>"",ISNA(MATCH($K30,Tables!$B$242:$B$253,0))), Error!$B$58, IF(AND($H30="Zoning: Tree Points",$K30="Small",$L30<>"",ISNA(MATCH($L30,Tables!$C$243:$C$244,0))), Error!$B$59, IF(AND($H30="Zoning: Tree Points",$K30="Small/Medium",$L30<>"",ISNA(MATCH($L30,Tables!$C$246:$C$247,0))), Error!$B$59, IF(AND($H30="Zoning: Tree Points",$K30="Medium/Large",$L30<>"",ISNA(MATCH($L30,Tables!$C$249:$C$250,0))), Error!$B$59, IF(AND($H30="Zoning: Tree Points",$K30="Large",$L30<>"",ISNA(MATCH($L30,Tables!$C$252:$C$253,0))), Error!$B$59, IF(AND($F30="Retain",$H30="Zoning: Tree Points",$C30<>"",$D30<>"",OR($K30="",$L30="",$M30="")), Error!$B$20, "" )))))))))))))))))))))))))))))))))))))))))))))))))))))))), Error!$B$23))} | O30: {=IFERROR(_xlfn.LET( _xlpm.txt, $C30, _xlpm.chars, MID(_xlpm.txt, ROW(INDIRECT("1:" & LEN(_xlpm.txt))), 1), _xlpm.validChars, "0123456789ABCDEFGHIJKLMNOPQRSTUVWXYZabcdefghijklmnopqrstuvwxyz", _xlpm.isValid, ISNUMBER(MATCH(_xlpm.chars, MID(_xlpm.validChars, ROW(INDIRECT("1:" & LEN(_xlpm.validChars))), 1), 0)), _xlfn.TEXTJOIN("", TRUE, IF(_xlpm.isValid, _xlpm.chars, "")) ),"")}
A31: 6 | G31: =IF(Tree_Table1[[#This Row],[Tree Status &]]="Retain", Tables!$B$237, IF(Tree_Table1[[#This Row],[Tree Status &]]="Remove", Tables!$B$238, "")) | K31: =IFERROR( IF( AND($H31="Zoning: Tree Points", NOT(ISNUMBER(SEARCH("sp.", $C31)))), VLOOKUP($C31, 'Tree List'!$C$3:$F$601, 4, FALSE), "" ), "") | L31: {=IFERROR( IF( AND($H31="Zoning: Tree Points", NOT(ISNUMBER(SEARCH("sp.", $C31)))), _xlfn.IFS( (COUNTIFS('Tree List'!$C$3:$C$601,$C31,'Tree List'!$D$3:$D$601,"Coniferous") + COUNTIFS('Tree List'!$C$3:$C$601,$C31,'Tree List'!$D$3:$D$601,"Deciduous Conifer")) > 0, _xlfn.IFS($K31="Small",0.5,$K31="Small/Medium",1,$K31="Medium/Large",1.4,$K31="Large",1.8), (COUNTIFS('Tree List'!$C$3:$C$601,$C31,'Tree List'!$D$3:$D$601,"Deciduous") + COUNTIFS('Tree List'!$C$3:$C$601,$C31,'Tree List'!$D$3:$D$601,"Broadleaf Evergreen")) > 0, _xlfn.IFS($K31="Small",0.4,$K31="Small/Medium",0.8,$K31="Medium/Large",1.2,$K31="Large",1.6) ), "" ), "")} | M31: =IFERROR($D31*$L31,"") | N31: {=_xlfn.LET( _xlpm.r,ROW(), _xlpm.blockIndex,INT((_xlpm.r-11)/4), _xlpm.baseRow,MOD(_xlpm.r-11,4)=0, _xlpm.baseStart,_xlpm.blockIndex*4+11, _xlpm.baseEnd,_xlpm.baseStart+3, _xlpm.HRange,INDEX($H:$H,_xlpm.baseStart):INDEX($H:$H,_xlpm.baseEnd), _xlpm.hasDM,ISNUMBER(SEARCH("DM",$I$2)), _xlpm.hasCN,ISNUMBER(SEARCH("CN",$I$2)), _xlpm.hasPH,ISNUMBER(SEARCH("PH",$I$2)), _xlpm.hasGR,ISNUMBER(SEARCH("GR",$I$2)), _xlpm.ECA_H,COUNTIF(_xlpm.HRange,"Environmental Critical Area (ECA)"), _xlpm.Shore_H,COUNTIF(_xlpm.HRange,"Shoreline"), _xlpm.TreePoints_H,COUNTIF(_xlpm.HRange,"Zoning: Tree Points"), _xlpm.GF_H,COUNTIF(_xlpm.HRange,"Zoning: Green Factor"), _xlpm.ECA_Short,COUNTIF(_xlpm.HRange,"Environmental Critical Area / Shoreline"), _xlpm.uniqueH,COUNTA(_xlfn.UNIQUE(_xlfn._xlws.FILTER(_xlpm.HRange,_xlpm.HRange<>""))), IFERROR( IF(AND(_xlpm.baseRow,ISNA(MATCH($C31,'Tree List'!$C$3:$C$601,0)),SUMPRODUCT(--ISNUMBER(SEARCH(Tables2!$C$677:$C$772,$O31)))>0), Error!$B$57, IF(AND(_xlpm.hasDM,$F31="Remove",$H31<>"",OR($I31="On-site replacement",$I31="Off-site replacement",$I31="Payment In Lieu")), Error!$B$56, IF(AND(_xlpm.hasDM,$F31="Remove",$H31<>"",$I31="Relocation"), Error!$B$66, IF(AND(OR(_xlpm.hasCN,_xlpm.hasPH,_xlpm.hasGR),$H31<>"",COUNTIF(Tables!$B$132:$B$134,$H31)>0,$I31="N/A (No replacement required)"), Error!$B$62, IF(AND(_xlpm.baseRow,$E31<>"",ISNA(MATCH($E31,Tables!$B$225:$B$232,0))), Error!$B$2, IF(AND(_xlpm.baseRow,$F31<>"",ISNA(MATCH($F31,Tables!$B$234:$B$235,0))), Error!$B$24, IF(AND(_xlpm.baseRow,_xlpm.ECA_H>0,_xlpm.Shore_H>0), Error!$B$16, IF(AND(_xlpm.baseRow,$E31<>"",$D31=""), Error!$B$3, IF(AND(_xlpm.baseRow,OR($E31="Tier 3",$E31="Tier 4"),$C31<>"",$D31>=24,COUNTIF(Tables2!$B$166:$B$674,$C31)>0), Error!$B$44, IF(AND(_xlpm.baseRow,OR($E31="Tier 3",$E31="Tier 4"),$C31<>"",$D31<>"",COUNTIF(Tables2!$B$73:$B$152,$C31)>0, $D31>=IFERROR(INDEX(Tables2!$C$73:$C$152,MATCH($C31,Tables2!$B$73:$B$152,0)),-1)), Error!$B$44, IF(AND(_xlpm.baseRow,OR($E31="Tier 2",$E31="Tier 2 Grove"),$C31<>"",$D31>=12,COUNTIF(Tables2!$B$153:$B$162,$C31)>0), Error!$B$45, IF(AND(_xlpm.baseRow,$E31="Tier 2 Grove",$D31<12), Error!$B$41, IF(AND(_xlpm.baseRow,$E31="Tier 2",$D31<5.88), Error!$B$40, IF(AND(_xlpm.baseRow,OR($E31="Tier 2",$E31="Tier 2 Grove"),$C31<>"",$D31<12,$D31>=6,COUNTIF(Tables2!$B$153:$B$162,$C31)>0), Error!$B$54, IF(AND(_xlpm.baseRow,$E31="Tier 2",COUNTIF(Tables2!$B$166:$B$674,$C31)>0,$D31<24), Error!$B$54, IF(AND(_xlpm.baseRow,$E31="Tier 3",ISNA(MATCH($C31,Tables2!$B$153:$B$162,0)),OR($D31<12,$D31>=24)), Error!$B$9, IF(AND(_xlpm.baseRow,$E31="Tier 3",COUNTIF(Tables2!$B$153:$B$162,$C31)>0,$D31<12), Error!$B$46, IF(AND(_xlpm.baseRow,$E31="Tier 4",OR($D31<6,$D31>=12)), Error!$B$10, IF(AND(_xlpm.baseRow,$E31="<6in DSH for Tree Points",OR($D31>=6,$D31="")), Error!$B$8, IF(AND(_xlpm.baseRow,$E31="Street Tree for Green Factor",$F31<>"",$F31<>"Retain"), Error!$B$14, IF(AND($E31="<6in DSH for Tree Points",$F31="Retain",$H31<>"",ISNA(MATCH($H31,Tables!$B$174:$B$174,0))), Error!$B$15, IF(AND($E31="Street Tree for Green Factor",$F31="Retain",$H31<>"",$H31<>"Zoning: Green Factor"), Error!$B$15, IF(AND($E31="ECA / Shoreline Tree",$F31="Remove",$H31<>"",ISNA(MATCH($H31,Tables!$B$189:$B$190,0))), Error!$B$15, IF(AND($E31="ECA / Shoreline Tree",$F31="Retain",$H31<>"",ISNA(MATCH($H31,Tables!$B$184:$B$186,0))), Error!$B$15, IF(AND($E31="Tier 4",$F31="Remove",$H31<>"",ISNA(MATCH($H31,Tables!$B$171,0))), Error!$B$15, IF(AND($E31="Tier 4",$F31="Retain",$H31<>"",ISNA(MATCH($H31,Tables!$B$166:$B$168,0))), Error!$B$15, IF(AND($E31="Tier 3",$F31="Retain",$H31<>"",ISNA(MATCH($H31,Tables!$B$158:$B$160,0))), Error!$B$15, IF(AND($E31="Tier 3",$F31="Remove",$H31<>"",ISNA(MATCH($H31,Tables!$B$163,0))), Error!$B$15, IF(AND(OR($E31="Tier 2",$E31="Tier 2 Grove"),$F31="Remove",$H31<>"",ISNA(MATCH($H31,Tables!$B$153:$B$155,0))), Error!$B$15, IF(AND(OR($E31="Tier 2",$E31="Tier 2 Grove"),$F31="Retain",$H31<>"",ISNA(MATCH($H31,Tables!$B$147:$B$150,0))), Error!$B$15, IF(AND($E31="Tier 1",$F31="Remove",$H31<>"",ISNA(MATCH($H31,Tables!$B$143:$B$144,0))), Error!$B$15, IF(AND($E31="Tier 1",$F31="Retain",$H31<>"",ISNA(MATCH($H31,Tables!$B$137:$B$140,0))), Error!$B$15, IF(AND($E31<>"Tier 2",$E31<>"Tier 2 Grove",$E31<>"Tier 3",$E31<>"Tier 4",$H31="Zoning: Green Factor",OR($D31="",$D31<6)), Error!$B$11, IF(AND(_xlpm.baseRow,$D31<6,$E31="<6in DSH for Tree Points",_xlpm.TreePoints_H=0), Error!$B$21, IF(AND(_xlpm.baseRow,$E31<>"",$D31<>"",$F31=""), Error!$B$4, IF(AND(_xlpm.baseRow,$F31="Remove",OR($E31="Tier 1",$E31="Tier 2",$E31="Tier 2 Grove"),COUNTBLANK(_xlpm.HRange)<3,_xlpm.uniqueH>=2), Error!$B$48, IF(AND(_xlpm.baseRow,$F31="Retain",OR($E31="Tier 1",$E31="Tier 2",$E31="Tier 2 Grove"),COUNTIF(_xlpm.HRange,"Tree Code: Required to Retain Tier 1-2 Tree")=0), Error!$B$47, IF(AND(_xlpm.baseRow,$E31<>"",$D31<>"",$F31<>"",COUNTBLANK(_xlpm.HRange)=4), Error!$B$5, IF(AND($F31="Remove",$H31<>"",$I31=""), Error!$B$18, IF(AND($E31="Tier 4",$F31="Remove",$H31="Tree Protection Code: Tier 3 or Tier 4 Allowance",$H31<>"",ISNA(MATCH($I31,Tables!$B$200,0))), Error!$B$17, IF(AND($E31="Tier 3",$F31="Remove",$H31<>"",$H31="Tree Protection Code: Tier 3 or Tier 4 Allowance",OR($I31="",ISNA(MATCH($I31,Tables!$B$193:$B$197,0)))), Error!$B$17, IF(AND(OR($E31="Tier 2",$E31="Tier 2 Grove"),$F31="Remove",$H31="Tree Protection Code: Other removal allowance or exemption",$I31<>"",ISNA(MATCH($I31,Tables!$B$215:$B$218,0))), Error!$B$17, IF(AND(OR($E31="Tier 2",$E31="Tier 2 Grove"),$F31="Remove",$H31="Tree Protection Code: Development Capacity",$I31<>"",ISNA(MATCH($I31,Tables!$B$193:$B$197,0))), Error!$B$17, IF(AND(OR($E31="Tier 2",$E31="Tier 2 Grove"),$F31="Remove",$H31="Tree Protection Code: Necessary for Construction",$I31<>"",ISNA(MATCH($I31,Tables!$B$193:$B$197,0))), Error!$B$17, IF(AND($E31="Tier 1",$F31="Remove",$H31="Tree Protection Code: Special Exception",$I31<>"",ISNA(MATCH($I31,Tables!$B$215:$B$218,0))), Error!$B$17, IF(AND($E31="Tier 1",$F31="Remove",$H31="Tree Protection Code: Other removal allowance or exemption",$I31<>"",ISNA(MATCH($I31,Tables!$B$215:$B$218,0))), Error!$B$17, IF(AND($E31="ECA / Shoreline Tree",$F31="Remove",$H31<>"",OR($H31="Shoreline",$H31="Environmental Critical Area (ECA)"),ISNA(MATCH($I31,Tables!$B$209:$B$212,0))), Error!$B$17, IF(AND(_xlpm.baseRow,$F31="Retain",$E31="ECA / Shoreline Tree",_xlpm.ECA_Short=0), Error!$B$61, IF(AND($F31="Remove",ISNUMBER(MATCH($E31,{"Tier 1","Tier 2","Tier 3","Tier 4","Tier 2 Grove"},0)),ISNUMBER(MATCH($I31,{"On-site replacement","Off-site replacement"},0)),$J31="",$H31<>""), Error!$B$19, IF(AND(_xlpm.baseRow,$E31<>"",$D31<>"",$F31<>"",COUNTBLANK($B31:$C31)>0,COUNTBLANK(_xlpm.HRange)<>4), Error!$B$22, IF(AND($H31="Zoning: Tree Points",$K31<>"",ISNA(MATCH($K31,Tables!$B$242:$B$253,0))), Error!$B$58, IF(AND($H31="Zoning: Tree Points",$K31="Small",$L31<>"",ISNA(MATCH($L31,Tables!$C$243:$C$244,0))), Error!$B$59, IF(AND($H31="Zoning: Tree Points",$K31="Small/Medium",$L31<>"",ISNA(MATCH($L31,Tables!$C$246:$C$247,0))), Error!$B$59, IF(AND($H31="Zoning: Tree Points",$K31="Medium/Large",$L31<>"",ISNA(MATCH($L31,Tables!$C$249:$C$250,0))), Error!$B$59, IF(AND($H31="Zoning: Tree Points",$K31="Large",$L31<>"",ISNA(MATCH($L31,Tables!$C$252:$C$253,0))), Error!$B$59, IF(AND($F31="Retain",$H31="Zoning: Tree Points",$C31<>"",$D31<>"",OR($K31="",$L31="",$M31="")), Error!$B$20, "" )))))))))))))))))))))))))))))))))))))))))))))))))))))))), Error!$B$23))} | O31: {=IFERROR(_xlfn.LET( _xlpm.txt, $C31, _xlpm.chars, MID(_xlpm.txt, ROW(INDIRECT("1:" & LEN(_xlpm.txt))), 1), _xlpm.validChars, "0123456789ABCDEFGHIJKLMNOPQRSTUVWXYZabcdefghijklmnopqrstuvwxyz", _xlpm.isValid, ISNUMBER(MATCH(_xlpm.chars, MID(_xlpm.validChars, ROW(INDIRECT("1:" & LEN(_xlpm.validChars))), 1), 0)), _xlfn.TEXTJOIN("", TRUE, IF(_xlpm.isValid, _xlpm.chars, "")) ),"")}
