Workbook

Sheet Info
B3: Seattle MD (King & Snohomish Counties) Economic Forecast
B4: City of Seattle Office of Economic and Revenue Forecasts
B5: October 2026
B7: • Historical data: 1970 Q1 - 2026 Q2 (Seattle MD income data only until 2024 Q4)
B8: • Forecast period: 2026 Q3 - 2031 Q4 (Seattle MD income estimated starting from 2025 Q1)
B10: • regional forecasts are based on the average of U.S. economic forecasts from S&P Global Market Inteligence and Moody's Analytics as follows
D11: • Baseline scenario (55% probability):
D12: S&P Global Baseline scenario from September 2; Moody's Analytics Baseline scenario from Septermber 9
D13: • Pessimistic scenario (25% probability):
D14: Moody's Analytics S3 scenario and S6 scenario from September 11
D15: • Optimistic scenario (20% probability):
D16: S&P Global Optimistic scenario from September 8; Moody's Analytics Optimistic scenario from September 11

Sheet Optimistic ANN
B1: =Info!B3 -> Seattle MD (King & Snohomish Counties) Economic Forecast
B2: =Info!B4 -> City of Seattle Office of Economic and Revenue Forecasts
C3: Historical Data | AL3: Forecast
C4: 1990 | D4: 1991 | E4: 1992 | F4: 1993 | G4: 1994 | H4: 1995 | I4: 1996 | J4: 1997 | K4: 1998 | L4: 1999 | M4: 2000 | N4: 2001 | O4: 2002 | P4: 2003 | Q4: 2004 | R4: 2005 | S4: 2006 | T4: 2007 | U4: 2008 | V4: 2009 | W4: 2010 | X4: 2011 | Y4: 2012 | Z4: 2013 | AA4: 2014 | AB4: 2015 | AC4: 2016 | AD4: 2017 | AE4: 2018 | AF4: 2019 | AG4: 2020 | AH4: 2021 | AI4: 2022 | AJ4: 2023 | AK4: 2024 | AL4: 2025 | AM4: 2026 | AN4: 2027 | AO4: 2028 | AP4: 2029 | AQ4: 2030 | AR4: 2031
A5: ='Baseline QTR'!A5 -> KS_UR | B5: ='Baseline QTR'!B5 -> Unemployment rate (%) | C5: =AVERAGE(OFFSET('Optimistic QTR'!$C5,0,4*(COLUMNS('Optimistic QTR'!$C5:C5)-1),1,4)) -> 3.7580145 | D5: =AVERAGE(OFFSET('Optimistic QTR'!$C5,0,4*(COLUMNS('Optimistic QTR'!$C5:D5)-1),1,4)) -> 4.465336 | E5: =AVERAGE(OFFSET('Optimistic QTR'!$C5,0,4*(COLUMNS('Optimistic QTR'!$C5:E5)-1),1,4)) -> 5.4302723 | F5: =AVERAGE(OFFSET('Optimistic QTR'!$C5,0,4*(COLUMNS('Optimistic QTR'!$C5:F5)-1),1,4)) -> 5.5561807 | G5: =AVERAGE(OFFSET('Optimistic QTR'!$C5,0,4*(COLUMNS('Optimistic QTR'!$C5:G5)-1),1,4)) -> 5.0017155 | H5: =AVERAGE(OFFSET('Optimistic QTR'!$C5,0,4*(COLUMNS('Optimistic QTR'!$C5:H5)-1),1,4)) -> 5.0600292 | I5: =AVERAGE(OFFSET('Optimistic QTR'!$C5,0,4*(COLUMNS('Optimistic QTR'!$C5:I5)-1),1,4)) -> 4.783093 | J5: =AVERAGE(OFFSET('Optimistic QTR'!$C5,0,4*(COLUMNS('Optimistic QTR'!$C5:J5)-1),1,4)) -> 3.9107963 | ... AR5: =AVERAGE(OFFSET('Optimistic QTR'!$C5,0,4*(COLUMNS('Optimistic QTR'!$C5:AR5)-1),1,4)) -> 4.4409653
A7: ='Baseline QTR'!A7 -> KS_N | B7: ='Baseline QTR'!B7 -> Employment (thous.) | C7: =AVERAGE(OFFSET('Optimistic QTR'!$C7,0,4*(COLUMNS('Optimistic QTR'!$C7:C7)-1),1,4)) -> 1109.6 | D7: =AVERAGE(OFFSET('Optimistic QTR'!$C7,0,4*(COLUMNS('Optimistic QTR'!$C7:D7)-1),1,4)) -> 1114.5167 | E7: =AVERAGE(OFFSET('Optimistic QTR'!$C7,0,4*(COLUMNS('Optimistic QTR'!$C7:E7)-1),1,4)) -> 1128.4917 | F7: =AVERAGE(OFFSET('Optimistic QTR'!$C7,0,4*(COLUMNS('Optimistic QTR'!$C7:F7)-1),1,4)) -> 1140.3167 | G7: =AVERAGE(OFFSET('Optimistic QTR'!$C7,0,4*(COLUMNS('Optimistic QTR'!$C7:G7)-1),1,4)) -> 1152.1333 | H7: =AVERAGE(OFFSET('Optimistic QTR'!$C7,0,4*(COLUMNS('Optimistic QTR'!$C7:H7)-1),1,4)) -> 1173.525 | I7: =AVERAGE(OFFSET('Optimistic QTR'!$C7,0,4*(COLUMNS('Optimistic QTR'!$C7:I7)-1),1,4)) -> 1217.5917 | J7: =AVERAGE(OFFSET('Optimistic QTR'!$C7,0,4*(COLUMNS('Optimistic QTR'!$C7:J7)-1),1,4)) -> 1288.0583 | ... AR7: =AVERAGE(OFFSET('Optimistic QTR'!$C7,0,4*(COLUMNS('Optimistic QTR'!$C7:AR7)-1),1,4)) -> 1863.5053
A8: ='Baseline QTR'!A8 -> KS_NGDS | B8: ='Baseline QTR'!B8 -> Goods producing | C8: =AVERAGE(OFFSET('Optimistic QTR'!$C8,0,4*(COLUMNS('Optimistic QTR'!$C8:C8)-1),1,4)) -> 277.13333 | D8: =AVERAGE(OFFSET('Optimistic QTR'!$C8,0,4*(COLUMNS('Optimistic QTR'!$C8:D8)-1),1,4)) -> 270.64167 | E8: =AVERAGE(OFFSET('Optimistic QTR'!$C8,0,4*(COLUMNS('Optimistic QTR'!$C8:E8)-1),1,4)) -> 268.13333 | F8: =AVERAGE(OFFSET('Optimistic QTR'!$C8,0,4*(COLUMNS('Optimistic QTR'!$C8:F8)-1),1,4)) -> 254.86667 | G8: =AVERAGE(OFFSET('Optimistic QTR'!$C8,0,4*(COLUMNS('Optimistic QTR'!$C8:G8)-1),1,4)) -> 243.69167 | H8: =AVERAGE(OFFSET('Optimistic QTR'!$C8,0,4*(COLUMNS('Optimistic QTR'!$C8:H8)-1),1,4)) -> 238.16667 | I8: =AVERAGE(OFFSET('Optimistic QTR'!$C8,0,4*(COLUMNS('Optimistic QTR'!$C8:I8)-1),1,4)) -> 248.7 | J8: =AVERAGE(OFFSET('Optimistic QTR'!$C8,0,4*(COLUMNS('Optimistic QTR'!$C8:J8)-1),1,4)) -> 277.25 | ... AR8: =AVERAGE(OFFSET('Optimistic QTR'!$C8,0,4*(COLUMNS('Optimistic QTR'!$C8:AR8)-1),1,4)) -> 253.0065
A9: ='Baseline QTR'!A9 -> KS_NMLC | B9: ='Baseline QTR'!B9 -> Mining, Logging and Construction | C9: =AVERAGE(OFFSET('Optimistic QTR'!$C9,0,4*(COLUMNS('Optimistic QTR'!$C9:C9)-1),1,4)) -> 64.425 | D9: =AVERAGE(OFFSET('Optimistic QTR'!$C9,0,4*(COLUMNS('Optimistic QTR'!$C9:D9)-1),1,4)) -> 61.95 | E9: =AVERAGE(OFFSET('Optimistic QTR'!$C9,0,4*(COLUMNS('Optimistic QTR'!$C9:E9)-1),1,4)) -> 63.441667 | F9: =AVERAGE(OFFSET('Optimistic QTR'!$C9,0,4*(COLUMNS('Optimistic QTR'!$C9:F9)-1),1,4)) -> 60.35 | G9: =AVERAGE(OFFSET('Optimistic QTR'!$C9,0,4*(COLUMNS('Optimistic QTR'!$C9:G9)-1),1,4)) -> 59.433333 | H9: =AVERAGE(OFFSET('Optimistic QTR'!$C9,0,4*(COLUMNS('Optimistic QTR'!$C9:H9)-1),1,4)) -> 59.941667 | I9: =AVERAGE(OFFSET('Optimistic QTR'!$C9,0,4*(COLUMNS('Optimistic QTR'!$C9:I9)-1),1,4)) -> 62.116667 | J9: =AVERAGE(OFFSET('Optimistic QTR'!$C9,0,4*(COLUMNS('Optimistic QTR'!$C9:J9)-1),1,4)) -> 68.3 | ... AR9: =AVERAGE(OFFSET('Optimistic QTR'!$C9,0,4*(COLUMNS('Optimistic QTR'!$C9:AR9)-1),1,4)) -> 103.92522
A10: ='Baseline QTR'!A10 -> KS_NMFG | B10: ='Baseline QTR'!B10 -> Manufacturing | C10: =AVERAGE(OFFSET('Optimistic QTR'!$C10,0,4*(COLUMNS('Optimistic QTR'!$C10:C10)-1),1,4)) -> 212.70833 | D10: =AVERAGE(OFFSET('Optimistic QTR'!$C10,0,4*(COLUMNS('Optimistic QTR'!$C10:D10)-1),1,4)) -> 208.69167 | E10: =AVERAGE(OFFSET('Optimistic QTR'!$C10,0,4*(COLUMNS('Optimistic QTR'!$C10:E10)-1),1,4)) -> 204.69167 | F10: =AVERAGE(OFFSET('Optimistic QTR'!$C10,0,4*(COLUMNS('Optimistic QTR'!$C10:F10)-1),1,4)) -> 194.51667 | G10: =AVERAGE(OFFSET('Optimistic QTR'!$C10,0,4*(COLUMNS('Optimistic QTR'!$C10:G10)-1),1,4)) -> 184.25833 | H10: =AVERAGE(OFFSET('Optimistic QTR'!$C10,0,4*(COLUMNS('Optimistic QTR'!$C10:H10)-1),1,4)) -> 178.225 | I10: =AVERAGE(OFFSET('Optimistic QTR'!$C10,0,4*(COLUMNS('Optimistic QTR'!$C10:I10)-1),1,4)) -> 186.58333 | J10: =AVERAGE(OFFSET('Optimistic QTR'!$C10,0,4*(COLUMNS('Optimistic QTR'!$C10:J10)-1),1,4)) -> 208.95 | ... AR10: =AVERAGE(OFFSET('Optimistic QTR'!$C10,0,4*(COLUMNS('Optimistic QTR'!$C10:AR10)-1),1,4)) -> 149.08127
A11: ='Baseline QTR'!A11 -> KS_NAER | B11: ='Baseline QTR'!B11 -> Aerospace | C11: =AVERAGE(OFFSET('Optimistic QTR'!$C11,0,4*(COLUMNS('Optimistic QTR'!$C11:C11)-1),1,4)) -> 112.33333 | D11: =AVERAGE(OFFSET('Optimistic QTR'!$C11,0,4*(COLUMNS('Optimistic QTR'!$C11:D11)-1),1,4)) -> 112.7 | E11: =AVERAGE(OFFSET('Optimistic QTR'!$C11,0,4*(COLUMNS('Optimistic QTR'!$C11:E11)-1),1,4)) -> 109.3 | F11: =AVERAGE(OFFSET('Optimistic QTR'!$C11,0,4*(COLUMNS('Optimistic QTR'!$C11:F11)-1),1,4)) -> 99.825 | G11: =AVERAGE(OFFSET('Optimistic QTR'!$C11,0,4*(COLUMNS('Optimistic QTR'!$C11:G11)-1),1,4)) -> 89.1 | H11: =AVERAGE(OFFSET('Optimistic QTR'!$C11,0,4*(COLUMNS('Optimistic QTR'!$C11:H11)-1),1,4)) -> 78.691667 | I11: =AVERAGE(OFFSET('Optimistic QTR'!$C11,0,4*(COLUMNS('Optimistic QTR'!$C11:I11)-1),1,4)) -> 83.508333 | J11: =AVERAGE(OFFSET('Optimistic QTR'!$C11,0,4*(COLUMNS('Optimistic QTR'!$C11:J11)-1),1,4)) -> 101.425 | ... AR11: =AVERAGE(OFFSET('Optimistic QTR'!$C11,0,4*(COLUMNS('Optimistic QTR'!$C11:AR11)-1),1,4)) -> 82.697445
A12: ='Baseline QTR'!A12 -> KS_NSRV | B12: ='Baseline QTR'!B12 -> Services providing | C12: =AVERAGE(OFFSET('Optimistic QTR'!$C12,0,4*(COLUMNS('Optimistic QTR'!$C12:C12)-1),1,4)) -> 832.46667 | D12: =AVERAGE(OFFSET('Optimistic QTR'!$C12,0,4*(COLUMNS('Optimistic QTR'!$C12:D12)-1),1,4)) -> 843.875 | E12: =AVERAGE(OFFSET('Optimistic QTR'!$C12,0,4*(COLUMNS('Optimistic QTR'!$C12:E12)-1),1,4)) -> 860.35833 | F12: =AVERAGE(OFFSET('Optimistic QTR'!$C12,0,4*(COLUMNS('Optimistic QTR'!$C12:F12)-1),1,4)) -> 885.45 | G12: =AVERAGE(OFFSET('Optimistic QTR'!$C12,0,4*(COLUMNS('Optimistic QTR'!$C12:G12)-1),1,4)) -> 908.44167 | H12: =AVERAGE(OFFSET('Optimistic QTR'!$C12,0,4*(COLUMNS('Optimistic QTR'!$C12:H12)-1),1,4)) -> 935.35833 | I12: =AVERAGE(OFFSET('Optimistic QTR'!$C12,0,4*(COLUMNS('Optimistic QTR'!$C12:I12)-1),1,4)) -> 968.89167 | J12: =AVERAGE(OFFSET('Optimistic QTR'!$C12,0,4*(COLUMNS('Optimistic QTR'!$C12:J12)-1),1,4)) -> 1010.8083 | ... AR12: =AVERAGE(OFFSET('Optimistic QTR'!$C12,0,4*(COLUMNS('Optimistic QTR'!$C12:AR12)-1),1,4)) -> 1610.4987
A13: ='Baseline QTR'!A13 -> KS_NTRD | B13: ='Baseline QTR'!B13 -> Wholesale and retail trade | C13: =AVERAGE(OFFSET('Optimistic QTR'!$C13,0,4*(COLUMNS('Optimistic QTR'!$C13:C13)-1),1,4)) -> 177.45 | D13: =AVERAGE(OFFSET('Optimistic QTR'!$C13,0,4*(COLUMNS('Optimistic QTR'!$C13:D13)-1),1,4)) -> 175.225 | E13: =AVERAGE(OFFSET('Optimistic QTR'!$C13,0,4*(COLUMNS('Optimistic QTR'!$C13:E13)-1),1,4)) -> 175.91667 | F13: =AVERAGE(OFFSET('Optimistic QTR'!$C13,0,4*(COLUMNS('Optimistic QTR'!$C13:F13)-1),1,4)) -> 177.86667 | G13: =AVERAGE(OFFSET('Optimistic QTR'!$C13,0,4*(COLUMNS('Optimistic QTR'!$C13:G13)-1),1,4)) -> 179.825 | H13: =AVERAGE(OFFSET('Optimistic QTR'!$C13,0,4*(COLUMNS('Optimistic QTR'!$C13:H13)-1),1,4)) -> 184.9 | I13: =AVERAGE(OFFSET('Optimistic QTR'!$C13,0,4*(COLUMNS('Optimistic QTR'!$C13:I13)-1),1,4)) -> 192.275 | J13: =AVERAGE(OFFSET('Optimistic QTR'!$C13,0,4*(COLUMNS('Optimistic QTR'!$C13:J13)-1),1,4)) -> 198.75 | ... AR13: =AVERAGE(OFFSET('Optimistic QTR'!$C13,0,4*(COLUMNS('Optimistic QTR'!$C13:AR13)-1),1,4)) -> 207.60247
A14: ='Baseline QTR'!A14 -> KS_NTWU | B14: ='Baseline QTR'!B14 -> Transportation and public utilities | C14: =AVERAGE(OFFSET('Optimistic QTR'!$C14,0,4*(COLUMNS('Optimistic QTR'!$C14:C14)-1),1,4)) -> 46.858333 | D14: =AVERAGE(OFFSET('Optimistic QTR'!$C14,0,4*(COLUMNS('Optimistic QTR'!$C14:D14)-1),1,4)) -> 48.058333 | E14: =AVERAGE(OFFSET('Optimistic QTR'!$C14,0,4*(COLUMNS('Optimistic QTR'!$C14:E14)-1),1,4)) -> 47.408333 | F14: =AVERAGE(OFFSET('Optimistic QTR'!$C14,0,4*(COLUMNS('Optimistic QTR'!$C14:F14)-1),1,4)) -> 46.741667 | G14: =AVERAGE(OFFSET('Optimistic QTR'!$C14,0,4*(COLUMNS('Optimistic QTR'!$C14:G14)-1),1,4)) -> 47.35 | H14: =AVERAGE(OFFSET('Optimistic QTR'!$C14,0,4*(COLUMNS('Optimistic QTR'!$C14:H14)-1),1,4)) -> 47.925 | I14: =AVERAGE(OFFSET('Optimistic QTR'!$C14,0,4*(COLUMNS('Optimistic QTR'!$C14:I14)-1),1,4)) -> 49.875 | J14: =AVERAGE(OFFSET('Optimistic QTR'!$C14,0,4*(COLUMNS('Optimistic QTR'!$C14:J14)-1),1,4)) -> 51.1 | ... AR14: =AVERAGE(OFFSET('Optimistic QTR'!$C14,0,4*(COLUMNS('Optimistic QTR'!$C14:AR14)-1),1,4)) -> 70.575082
A15: ='Baseline QTR'!A15 -> KS_NINF | B15: ='Baseline QTR'!B15 -> Information | C15: =AVERAGE(OFFSET('Optimistic QTR'!$C15,0,4*(COLUMNS('Optimistic QTR'!$C15:C15)-1),1,4)) -> 31.716667 | D15: =AVERAGE(OFFSET('Optimistic QTR'!$C15,0,4*(COLUMNS('Optimistic QTR'!$C15:D15)-1),1,4)) -> 33.208333 | E15: =AVERAGE(OFFSET('Optimistic QTR'!$C15,0,4*(COLUMNS('Optimistic QTR'!$C15:E15)-1),1,4)) -> 35.25 | F15: =AVERAGE(OFFSET('Optimistic QTR'!$C15,0,4*(COLUMNS('Optimistic QTR'!$C15:F15)-1),1,4)) -> 38.016667 | G15: =AVERAGE(OFFSET('Optimistic QTR'!$C15,0,4*(COLUMNS('Optimistic QTR'!$C15:G15)-1),1,4)) -> 40.516667 | H15: =AVERAGE(OFFSET('Optimistic QTR'!$C15,0,4*(COLUMNS('Optimistic QTR'!$C15:H15)-1),1,4)) -> 45.9 | I15: =AVERAGE(OFFSET('Optimistic QTR'!$C15,0,4*(COLUMNS('Optimistic QTR'!$C15:I15)-1),1,4)) -> 50 | J15: =AVERAGE(OFFSET('Optimistic QTR'!$C15,0,4*(COLUMNS('Optimistic QTR'!$C15:J15)-1),1,4)) -> 53.65 | ... AR15: =AVERAGE(OFFSET('Optimistic QTR'!$C15,0,4*(COLUMNS('Optimistic QTR'!$C15:AR15)-1),1,4)) -> 126.02488
A16: ='Baseline QTR'!A16 -> KS_NFIN | B16: ='Baseline QTR'!B16 -> Financial activities | C16: =AVERAGE(OFFSET('Optimistic QTR'!$C16,0,4*(COLUMNS('Optimistic QTR'!$C16:C16)-1),1,4)) -> 70.741667 | D16: =AVERAGE(OFFSET('Optimistic QTR'!$C16,0,4*(COLUMNS('Optimistic QTR'!$C16:D16)-1),1,4)) -> 70.741667 | E16: =AVERAGE(OFFSET('Optimistic QTR'!$C16,0,4*(COLUMNS('Optimistic QTR'!$C16:E16)-1),1,4)) -> 72.116667 | F16: =AVERAGE(OFFSET('Optimistic QTR'!$C16,0,4*(COLUMNS('Optimistic QTR'!$C16:F16)-1),1,4)) -> 74.75 | G16: =AVERAGE(OFFSET('Optimistic QTR'!$C16,0,4*(COLUMNS('Optimistic QTR'!$C16:G16)-1),1,4)) -> 75.866667 | H16: =AVERAGE(OFFSET('Optimistic QTR'!$C16,0,4*(COLUMNS('Optimistic QTR'!$C16:H16)-1),1,4)) -> 73.908333 | I16: =AVERAGE(OFFSET('Optimistic QTR'!$C16,0,4*(COLUMNS('Optimistic QTR'!$C16:I16)-1),1,4)) -> 75.916667 | J16: =AVERAGE(OFFSET('Optimistic QTR'!$C16,0,4*(COLUMNS('Optimistic QTR'!$C16:J16)-1),1,4)) -> 78.091667 | ... AR16: =AVERAGE(OFFSET('Optimistic QTR'!$C16,0,4*(COLUMNS('Optimistic QTR'!$C16:AR16)-1),1,4)) -> 86.600813
A17: ='Baseline QTR'!A17 -> KS_NPBS | B17: ='Baseline QTR'!B17 -> Professional and business services | C17: =AVERAGE(OFFSET('Optimistic QTR'!$C17,0,4*(COLUMNS('Optimistic QTR'!$C17:C17)-1),1,4)) -> 124.48333 | D17: =AVERAGE(OFFSET('Optimistic QTR'!$C17,0,4*(COLUMNS('Optimistic QTR'!$C17:D17)-1),1,4)) -> 124.3 | E17: =AVERAGE(OFFSET('Optimistic QTR'!$C17,0,4*(COLUMNS('Optimistic QTR'!$C17:E17)-1),1,4)) -> 125.875 | F17: =AVERAGE(OFFSET('Optimistic QTR'!$C17,0,4*(COLUMNS('Optimistic QTR'!$C17:F17)-1),1,4)) -> 131.95833 | G17: =AVERAGE(OFFSET('Optimistic QTR'!$C17,0,4*(COLUMNS('Optimistic QTR'!$C17:G17)-1),1,4)) -> 140.54167 | H17: =AVERAGE(OFFSET('Optimistic QTR'!$C17,0,4*(COLUMNS('Optimistic QTR'!$C17:H17)-1),1,4)) -> 145.98333 | I17: =AVERAGE(OFFSET('Optimistic QTR'!$C17,0,4*(COLUMNS('Optimistic QTR'!$C17:I17)-1),1,4)) -> 155.825 | J17: =AVERAGE(OFFSET('Optimistic QTR'!$C17,0,4*(COLUMNS('Optimistic QTR'!$C17:J17)-1),1,4)) -> 169.425 | ... AR17: =AVERAGE(OFFSET('Optimistic QTR'!$C17,0,4*(COLUMNS('Optimistic QTR'!$C17:AR17)-1),1,4)) -> 370.52795
A18: ='Baseline QTR'!A19 -> KS_NRSV | B18: ='Baseline QTR'!B18 -> Leisure and Hospitality services | C18: =AVERAGE(OFFSET('Optimistic QTR'!$C18,0,4*(COLUMNS('Optimistic QTR'!$C18:C18)-1),1,4)) -> 90.841667 | D18: =AVERAGE(OFFSET('Optimistic QTR'!$C18,0,4*(COLUMNS('Optimistic QTR'!$C18:D18)-1),1,4)) -> 91.825 | E18: =AVERAGE(OFFSET('Optimistic QTR'!$C18,0,4*(COLUMNS('Optimistic QTR'!$C18:E18)-1),1,4)) -> 93.475 | F18: =AVERAGE(OFFSET('Optimistic QTR'!$C18,0,4*(COLUMNS('Optimistic QTR'!$C18:F18)-1),1,4)) -> 96.591667 | G18: =AVERAGE(OFFSET('Optimistic QTR'!$C18,0,4*(COLUMNS('Optimistic QTR'!$C18:G18)-1),1,4)) -> 98.966667 | H18: =AVERAGE(OFFSET('Optimistic QTR'!$C18,0,4*(COLUMNS('Optimistic QTR'!$C18:H18)-1),1,4)) -> 103.00833 | I18: =AVERAGE(OFFSET('Optimistic QTR'!$C18,0,4*(COLUMNS('Optimistic QTR'!$C18:I18)-1),1,4)) -> 106.35 | J18: =AVERAGE(OFFSET('Optimistic QTR'!$C18,0,4*(COLUMNS('Optimistic QTR'!$C18:J18)-1),1,4)) -> 109.75 | ... AR18: =AVERAGE(OFFSET('Optimistic QTR'!$C18,0,4*(COLUMNS('Optimistic QTR'!$C18:AR18)-1),1,4)) -> 192.67462
A19: ='Baseline QTR'!A18 -> KS_NLHS | B19: ='Baseline QTR'!B19 -> Educational and Health Services, Other services | C19: =AVERAGE(OFFSET('Optimistic QTR'!$C19,0,4*(COLUMNS('Optimistic QTR'!$C19:C19)-1),1,4)) -> 142.9 | D19: =AVERAGE(OFFSET('Optimistic QTR'!$C19,0,4*(COLUMNS('Optimistic QTR'!$C19:D19)-1),1,4)) -> 147.50833 | E19: =AVERAGE(OFFSET('Optimistic QTR'!$C19,0,4*(COLUMNS('Optimistic QTR'!$C19:E19)-1),1,4)) -> 151.575 | F19: =AVERAGE(OFFSET('Optimistic QTR'!$C19,0,4*(COLUMNS('Optimistic QTR'!$C19:F19)-1),1,4)) -> 157.61667 | G19: =AVERAGE(OFFSET('Optimistic QTR'!$C19,0,4*(COLUMNS('Optimistic QTR'!$C19:G19)-1),1,4)) -> 160.86667 | H19: =AVERAGE(OFFSET('Optimistic QTR'!$C19,0,4*(COLUMNS('Optimistic QTR'!$C19:H19)-1),1,4)) -> 165.875 | I19: =AVERAGE(OFFSET('Optimistic QTR'!$C19,0,4*(COLUMNS('Optimistic QTR'!$C19:I19)-1),1,4)) -> 167.98333 | J19: =AVERAGE(OFFSET('Optimistic QTR'!$C19,0,4*(COLUMNS('Optimistic QTR'!$C19:J19)-1),1,4)) -> 176.21667 | ... AR19: =AVERAGE(OFFSET('Optimistic QTR'!$C19,0,4*(COLUMNS('Optimistic QTR'!$C19:AR19)-1),1,4)) -> 321.7896
A20: ='Baseline QTR'!A20 -> KS_NGOV | B20: ='Baseline QTR'!B20 -> Government | C20: =AVERAGE(OFFSET('Optimistic QTR'!$C20,0,4*(COLUMNS('Optimistic QTR'!$C20:C20)-1),1,4)) -> 147.475 | D20: =AVERAGE(OFFSET('Optimistic QTR'!$C20,0,4*(COLUMNS('Optimistic QTR'!$C20:D20)-1),1,4)) -> 153.00833 | E20: =AVERAGE(OFFSET('Optimistic QTR'!$C20,0,4*(COLUMNS('Optimistic QTR'!$C20:E20)-1),1,4)) -> 158.74167 | F20: =AVERAGE(OFFSET('Optimistic QTR'!$C20,0,4*(COLUMNS('Optimistic QTR'!$C20:F20)-1),1,4)) -> 161.90833 | G20: =AVERAGE(OFFSET('Optimistic QTR'!$C20,0,4*(COLUMNS('Optimistic QTR'!$C20:G20)-1),1,4)) -> 164.50833 | H20: =AVERAGE(OFFSET('Optimistic QTR'!$C20,0,4*(COLUMNS('Optimistic QTR'!$C20:H20)-1),1,4)) -> 167.85833 | I20: =AVERAGE(OFFSET('Optimistic QTR'!$C20,0,4*(COLUMNS('Optimistic QTR'!$C20:I20)-1),1,4)) -> 170.66667 | J20: =AVERAGE(OFFSET('Optimistic QTR'!$C20,0,4*(COLUMNS('Optimistic QTR'!$C20:J20)-1),1,4)) -> 173.825 | ... AR20: =AVERAGE(OFFSET('Optimistic QTR'!$C20,0,4*(COLUMNS('Optimistic QTR'!$C20:AR20)-1),1,4)) -> 234.70317
A21: ='Baseline QTR'!A21 -> KS_NGOVSL | B21: ='Baseline QTR'!B21 -> State and local | C21: =AVERAGE(OFFSET('Optimistic QTR'!$C21,0,4*(COLUMNS('Optimistic QTR'!$C21:C21)-1),1,4)) -> 125.725 | D21: =AVERAGE(OFFSET('Optimistic QTR'!$C21,0,4*(COLUMNS('Optimistic QTR'!$C21:D21)-1),1,4)) -> 131.575 | E21: =AVERAGE(OFFSET('Optimistic QTR'!$C21,0,4*(COLUMNS('Optimistic QTR'!$C21:E21)-1),1,4)) -> 136.98333 | F21: =AVERAGE(OFFSET('Optimistic QTR'!$C21,0,4*(COLUMNS('Optimistic QTR'!$C21:F21)-1),1,4)) -> 139.58333 | G21: =AVERAGE(OFFSET('Optimistic QTR'!$C21,0,4*(COLUMNS('Optimistic QTR'!$C21:G21)-1),1,4)) -> 142.25 | H21: =AVERAGE(OFFSET('Optimistic QTR'!$C21,0,4*(COLUMNS('Optimistic QTR'!$C21:H21)-1),1,4)) -> 145.98333 | I21: =AVERAGE(OFFSET('Optimistic QTR'!$C21,0,4*(COLUMNS('Optimistic QTR'!$C21:I21)-1),1,4)) -> 149.14167 | J21: =AVERAGE(OFFSET('Optimistic QTR'!$C21,0,4*(COLUMNS('Optimistic QTR'!$C21:J21)-1),1,4)) -> 152.05 | ... AR21: =AVERAGE(OFFSET('Optimistic QTR'!$C21,0,4*(COLUMNS('Optimistic QTR'!$C21:AR21)-1),1,4)) -> 215.65342
A22: ='Baseline QTR'!A22 -> KS_NGOVFED | B22: ='Baseline QTR'!B22 -> Federal | C22: =AVERAGE(OFFSET('Optimistic QTR'!$C22,0,4*(COLUMNS('Optimistic QTR'!$C22:C22)-1),1,4)) -> 21.75 | D22: =AVERAGE(OFFSET('Optimistic QTR'!$C22,0,4*(COLUMNS('Optimistic QTR'!$C22:D22)-1),1,4)) -> 21.433333 | E22: =AVERAGE(OFFSET('Optimistic QTR'!$C22,0,4*(COLUMNS('Optimistic QTR'!$C22:E22)-1),1,4)) -> 21.758333 | F22: =AVERAGE(OFFSET('Optimistic QTR'!$C22,0,4*(COLUMNS('Optimistic QTR'!$C22:F22)-1),1,4)) -> 22.325 | G22: =AVERAGE(OFFSET('Optimistic QTR'!$C22,0,4*(COLUMNS('Optimistic QTR'!$C22:G22)-1),1,4)) -> 22.258333 | H22: =AVERAGE(OFFSET('Optimistic QTR'!$C22,0,4*(COLUMNS('Optimistic QTR'!$C22:H22)-1),1,4)) -> 21.875 | I22: =AVERAGE(OFFSET('Optimistic QTR'!$C22,0,4*(COLUMNS('Optimistic QTR'!$C22:I22)-1),1,4)) -> 21.525 | J22: =AVERAGE(OFFSET('Optimistic QTR'!$C22,0,4*(COLUMNS('Optimistic QTR'!$C22:J22)-1),1,4)) -> 21.775 | ... AR22: =AVERAGE(OFFSET('Optimistic QTR'!$C22,0,4*(COLUMNS('Optimistic QTR'!$C22:AR22)-1),1,4)) -> 19.04977
A24: ='Baseline QTR'!A24 -> KS_PIR | B24: ='Baseline QTR'!B24 -> Personal income (mil. $2012) | C24: =AVERAGE(OFFSET('Optimistic QTR'!$C24,0,4*(COLUMNS('Optimistic QTR'!$C24:C24)-1),1,4)) -> 80414.504 | D24: =AVERAGE(OFFSET('Optimistic QTR'!$C24,0,4*(COLUMNS('Optimistic QTR'!$C24:D24)-1),1,4)) -> 82756.648 | E24: =AVERAGE(OFFSET('Optimistic QTR'!$C24,0,4*(COLUMNS('Optimistic QTR'!$C24:E24)-1),1,4)) -> 86666.91 | F24: =AVERAGE(OFFSET('Optimistic QTR'!$C24,0,4*(COLUMNS('Optimistic QTR'!$C24:F24)-1),1,4)) -> 87592.694 | G24: =AVERAGE(OFFSET('Optimistic QTR'!$C24,0,4*(COLUMNS('Optimistic QTR'!$C24:G24)-1),1,4)) -> 90180.794 | H24: =AVERAGE(OFFSET('Optimistic QTR'!$C24,0,4*(COLUMNS('Optimistic QTR'!$C24:H24)-1),1,4)) -> 93706.606 | I24: =AVERAGE(OFFSET('Optimistic QTR'!$C24,0,4*(COLUMNS('Optimistic QTR'!$C24:I24)-1),1,4)) -> 99370.01 | J24: =AVERAGE(OFFSET('Optimistic QTR'!$C24,0,4*(COLUMNS('Optimistic QTR'!$C24:J24)-1),1,4)) -> 106103.33 | ... AR24: =AVERAGE(OFFSET('Optimistic QTR'!$C24,0,4*(COLUMNS('Optimistic QTR'!$C24:AR24)-1),1,4)) -> 367821.15
A25: ='Baseline QTR'!A25 -> KS_PI | B25: ='Baseline QTR'!B25 -> Personal income (mil. $) | C25: =AVERAGE(OFFSET('Optimistic QTR'!$C25,0,4*(COLUMNS('Optimistic QTR'!$C25:C25)-1),1,4)) -> 48072.906 | D25: =AVERAGE(OFFSET('Optimistic QTR'!$C25,0,4*(COLUMNS('Optimistic QTR'!$C25:D25)-1),1,4)) -> 51126.397 | E25: =AVERAGE(OFFSET('Optimistic QTR'!$C25,0,4*(COLUMNS('Optimistic QTR'!$C25:E25)-1),1,4)) -> 54969.033 | F25: =AVERAGE(OFFSET('Optimistic QTR'!$C25,0,4*(COLUMNS('Optimistic QTR'!$C25:F25)-1),1,4)) -> 56937.406 | G25: =AVERAGE(OFFSET('Optimistic QTR'!$C25,0,4*(COLUMNS('Optimistic QTR'!$C25:G25)-1),1,4)) -> 59843.567 | H25: =AVERAGE(OFFSET('Optimistic QTR'!$C25,0,4*(COLUMNS('Optimistic QTR'!$C25:H25)-1),1,4)) -> 63492.435 | I25: =AVERAGE(OFFSET('Optimistic QTR'!$C25,0,4*(COLUMNS('Optimistic QTR'!$C25:I25)-1),1,4)) -> 68770.936 | J25: =AVERAGE(OFFSET('Optimistic QTR'!$C25,0,4*(COLUMNS('Optimistic QTR'!$C25:J25)-1),1,4)) -> 74707.336 | ... AR25: =AVERAGE(OFFSET('Optimistic QTR'!$C25,0,4*(COLUMNS('Optimistic QTR'!$C25:AR25)-1),1,4)) -> 534067.82
A26: ='Baseline QTR'!A26 -> KS_PIWS | B26: ='Baseline QTR'!B26 -> Wage and salary disbursements (mil. $) | C26: =AVERAGE(OFFSET('Optimistic QTR'!$C26,0,4*(COLUMNS('Optimistic QTR'!$C26:C26)-1),1,4)) -> 30108.644 | D26: =AVERAGE(OFFSET('Optimistic QTR'!$C26,0,4*(COLUMNS('Optimistic QTR'!$C26:D26)-1),1,4)) -> 31973.365 | E26: =AVERAGE(OFFSET('Optimistic QTR'!$C26,0,4*(COLUMNS('Optimistic QTR'!$C26:E26)-1),1,4)) -> 34891.163 | F26: =AVERAGE(OFFSET('Optimistic QTR'!$C26,0,4*(COLUMNS('Optimistic QTR'!$C26:F26)-1),1,4)) -> 35259.693 | G26: =AVERAGE(OFFSET('Optimistic QTR'!$C26,0,4*(COLUMNS('Optimistic QTR'!$C26:G26)-1),1,4)) -> 36538.617 | H26: =AVERAGE(OFFSET('Optimistic QTR'!$C26,0,4*(COLUMNS('Optimistic QTR'!$C26:H26)-1),1,4)) -> 38810.773 | I26: =AVERAGE(OFFSET('Optimistic QTR'!$C26,0,4*(COLUMNS('Optimistic QTR'!$C26:I26)-1),1,4)) -> 42815.45 | J26: =AVERAGE(OFFSET('Optimistic QTR'!$C26,0,4*(COLUMNS('Optimistic QTR'!$C26:J26)-1),1,4)) -> 48886.185 | ... AR26: =AVERAGE(OFFSET('Optimistic QTR'!$C26,0,4*(COLUMNS('Optimistic QTR'!$C26:AR26)-1),1,4)) -> 320964.4
A27: ='Baseline QTR'!A27 -> KS_PIPC | B27: ='Baseline QTR'!B27 -> Per capita personal income ($) | C27: =AVERAGE(OFFSET('Optimistic QTR'!$C27,0,4*(COLUMNS('Optimistic QTR'!$C27:C27)-1),1,4)) -> 24043.259 | D27: =AVERAGE(OFFSET('Optimistic QTR'!$C27,0,4*(COLUMNS('Optimistic QTR'!$C27:D27)-1),1,4)) -> 24928.32 | E27: =AVERAGE(OFFSET('Optimistic QTR'!$C27,0,4*(COLUMNS('Optimistic QTR'!$C27:E27)-1),1,4)) -> 26447.908 | F27: =AVERAGE(OFFSET('Optimistic QTR'!$C27,0,4*(COLUMNS('Optimistic QTR'!$C27:F27)-1),1,4)) -> 26983.257 | G27: =AVERAGE(OFFSET('Optimistic QTR'!$C27,0,4*(COLUMNS('Optimistic QTR'!$C27:G27)-1),1,4)) -> 27962.579 | H27: =AVERAGE(OFFSET('Optimistic QTR'!$C27,0,4*(COLUMNS('Optimistic QTR'!$C27:H27)-1),1,4)) -> 29303.184 | I27: =AVERAGE(OFFSET('Optimistic QTR'!$C27,0,4*(COLUMNS('Optimistic QTR'!$C27:I27)-1),1,4)) -> 31348.697 | J27: =AVERAGE(OFFSET('Optimistic QTR'!$C27,0,4*(COLUMNS('Optimistic QTR'!$C27:J27)-1),1,4)) -> 33508.02 | ... AR27: =AVERAGE(OFFSET('Optimistic QTR'!$C27,0,4*(COLUMNS('Optimistic QTR'!$C27:AR27)-1),1,4)) -> 156101.62
A29: ='Baseline QTR'!A29 -> KSP_CPIU | B29: ='Baseline QTR'!B29 -> Seattle MSA CPI-U (1982-1984=100) | C29: 126.8 | D29: 134.1 | E29: 139 | F29: 142.9 | G29: 147.8 | H29: 152.25 | I29: 157.5 | J29: 163 | K29: 167.75 | L29: 172.8 | M29: 179.2 | N29: 185.65 | O29: 189.3 | P29: 192.35 | Q29: 194.7 | R29: 200.25 | S29: 207.65 | T29: 215.656 | U29: 224.719 | V29: 226.0275 | W29: 226.6925 | X29: 232.765 | Y29: 238.6625 | Z29: 241.5635 | AA29: 246.0185 | AB29: 249.364 | AC29: 254.886 | AD29: 262.668 | AE29: 271.089 | AF29: 277.984 | AG29: 282.693 | AH29: 295.56 | AI29: 322.167 | AJ29: 340.845 | AK29: 353.488 | AL29: =(0.227279754217645*'Optimistic QTR'!EM29+0.358148636276811*'Optimistic QTR'!EN29+0.159174869010229*'Optimistic QTR'!EO29+0.255396740495315*'Optimistic QTR'!EP29) -> 362.45832 | AM29: =(0.227279754217645*'Optimistic QTR'!EQ29+0.358148636276811*'Optimistic QTR'!ER29+0.159174869010229*'Optimistic QTR'!ES29+0.255396740495315*'Optimistic QTR'!ET29) -> 378.24655 | AN29: =(0.227279754217645*'Optimistic QTR'!EU29+0.358148636276811*'Optimistic QTR'!EV29+0.159174869010229*'Optimistic QTR'!EW29+0.255396740495315*'Optimistic QTR'!EX29) -> 389.52106 | AO29: =(0.227279754217645*'Optimistic QTR'!EY29+0.358148636276811*'Optimistic QTR'!EZ29+0.159174869010229*'Optimistic QTR'!FA29+0.255396740495315*'Optimistic QTR'!FB29) -> 398.44091 | AP29: =(0.227279754217645*'Optimistic QTR'!FC29+0.358148636276811*'Optimistic QTR'!FD29+0.159174869010229*'Optimistic QTR'!FE29+0.255396740495315*'Optimistic QTR'!FF29) -> 407.42017 | AQ29: =(0.227279754217645*'Optimistic QTR'!FG29+0.358148636276811*'Optimistic QTR'!FH29+0.159174869010229*'Optimistic QTR'!FI29+0.255396740495315*'Optimistic QTR'!FJ29) -> 419.19242 | AR29: =(0.227279754217645*'Optimistic QTR'!FK29+0.358148636276811*'Optimistic QTR'!FL29+0.159174869010229*'Optimistic QTR'!FM29+0.255396740495315*'Optimistic QTR'!FN29) -> 426.46602
A30: ='Baseline QTR'!A30 -> KSP_CPIW | B30: ='Baseline QTR'!B30 -> Seattle MSA CPI-W (1982-1984=100) | C30: 124.45 | D30: 131.3 | E30: 136 | F30: 140 | G30: 145.1 | H30: 149.35 | I30: 154.25 | J30: 159.05 | K30: 163.25 | L30: 168.25 | M30: 174.6 | N30: 180.75 | O30: 184 | P30: 186.65 | Q30: 189.6 | R30: 195.3 | S30: 202.6 | T30: 210.2665 | U30: 219.6925 | V30: 220.658 | W30: 222.3835 | X30: 229.435 | Y30: 235.2615 | Z30: 238.129 | AA30: 242.732 | AB30: 244.933 | AC30: 250.523 | AD30: 258.847 | AE30: 267.55 | AF30: 273.272 | AG30: 278.476 | AH30: 291.704 | AI30: 317.403 | AJ30: 334.911 | AK30: 347.018 | AL30: =(0.226145723750713*'Optimistic QTR'!EM30+0.358025636331123*'Optimistic QTR'!EN30+0.156841164563658*'Optimistic QTR'!EO30+0.258987475354506*'Optimistic QTR'!EP30) -> 356.15076 | AM30: =(0.226145723750713*'Optimistic QTR'!EQ30+0.358025636331123*'Optimistic QTR'!ER30+0.156841164563658*'Optimistic QTR'!ES30+0.258987475354506*'Optimistic QTR'!ET30) -> 369.43737 | AN30: =(0.226145723750713*'Optimistic QTR'!EU30+0.358025636331123*'Optimistic QTR'!EV30+0.156841164563658*'Optimistic QTR'!EW30+0.258987475354506*'Optimistic QTR'!EX30) -> 379.01122 | AO30: =(0.226145723750713*'Optimistic QTR'!EY30+0.358025636331123*'Optimistic QTR'!EZ30+0.156841164563658*'Optimistic QTR'!FA30+0.258987475354506*'Optimistic QTR'!FB30) -> 388.09447 | AP30: =(0.226145723750713*'Optimistic QTR'!FC30+0.358025636331123*'Optimistic QTR'!FD30+0.156841164563658*'Optimistic QTR'!FE30+0.258987475354506*'Optimistic QTR'!FF30) -> 396.19853 | AQ30: =(0.226145723750713*'Optimistic QTR'!FG30+0.358025636331123*'Optimistic QTR'!FH30+0.156841164563658*'Optimistic QTR'!FI30+0.258987475354506*'Optimistic QTR'!FJ30) -> 406.89545 | AR30: =(0.226145723750713*'Optimistic QTR'!FK30+0.358025636331123*'Optimistic QTR'!FL30+0.156841164563658*'Optimistic QTR'!FM30+0.258987475354506*'Optimistic QTR'!FN30) -> 413.38405
A31: ='Baseline QTR'!A31 -> KSP_PHCL | B31: ='Baseline QTR'!B31 -> Seattle MSA S&P CoreLogic Case-Shilller Home Price Index | C31: =AVERAGE(OFFSET('Optimistic QTR'!$C31,0,4*(COLUMNS('Optimistic QTR'!$C31:C31)-1),1,4)) -> 65.511398 | D31: =AVERAGE(OFFSET('Optimistic QTR'!$C31,0,4*(COLUMNS('Optimistic QTR'!$C31:D31)-1),1,4)) -> 65.974565 | E31: =AVERAGE(OFFSET('Optimistic QTR'!$C31,0,4*(COLUMNS('Optimistic QTR'!$C31:E31)-1),1,4)) -> 67.139369 | F31: =AVERAGE(OFFSET('Optimistic QTR'!$C31,0,4*(COLUMNS('Optimistic QTR'!$C31:F31)-1),1,4)) -> 68.530383 | G31: =AVERAGE(OFFSET('Optimistic QTR'!$C31,0,4*(COLUMNS('Optimistic QTR'!$C31:G31)-1),1,4)) -> 71.2322 | H31: =AVERAGE(OFFSET('Optimistic QTR'!$C31,0,4*(COLUMNS('Optimistic QTR'!$C31:H31)-1),1,4)) -> 72.245546 | I31: =AVERAGE(OFFSET('Optimistic QTR'!$C31,0,4*(COLUMNS('Optimistic QTR'!$C31:I31)-1),1,4)) -> 74.108393 | J31: =('Optimistic QTR'!AE31+2*'Optimistic QTR'!AF31+'Optimistic QTR'!AG31+2*'Optimistic QTR'!AH31)/6 -> 80.109419 | K31: =AVERAGE(OFFSET('Optimistic QTR'!$C31,0,4*(COLUMNS('Optimistic QTR'!$C31:K31)-1),1,4)) -> 88.658224 | L31: =AVERAGE(OFFSET('Optimistic QTR'!$C31,0,4*(COLUMNS('Optimistic QTR'!$C31:L31)-1),1,4)) -> 96.52989 | M31: =AVERAGE(OFFSET('Optimistic QTR'!$C31,0,4*(COLUMNS('Optimistic QTR'!$C31:M31)-1),1,4)) -> 104.42489 | N31: =AVERAGE(OFFSET('Optimistic QTR'!$C31,0,4*(COLUMNS('Optimistic QTR'!$C31:N31)-1),1,4)) -> 109.94091 | O31: =AVERAGE(OFFSET('Optimistic QTR'!$C31,0,4*(COLUMNS('Optimistic QTR'!$C31:O31)-1),1,4)) -> 114.43409 | P31: =AVERAGE(OFFSET('Optimistic QTR'!$C31,0,4*(COLUMNS('Optimistic QTR'!$C31:P31)-1),1,4)) -> 120.24233 | Q31: =AVERAGE(OFFSET('Optimistic QTR'!$C31,0,4*(COLUMNS('Optimistic QTR'!$C31:Q31)-1),1,4)) -> 131.7093 | R31: =AVERAGE(OFFSET('Optimistic QTR'!$C31,0,4*(COLUMNS('Optimistic QTR'!$C31:R31)-1),1,4)) -> 152.41068 | ... AR31: =AVERAGE(OFFSET('Optimistic QTR'!$C31,0,4*(COLUMNS('Optimistic QTR'!$C31:AR31)-1),1,4)) -> 466.87918
A32: ='Baseline QTR'!A32 -> KS_BP | B32: ='Baseline QTR'!B32 -> Housing permits (thous.) | C32: =AVERAGE(OFFSET('Optimistic QTR'!$C32,0,4*(COLUMNS('Optimistic QTR'!$C32:C32)-1),1,4)) -> 23186 | D32: =AVERAGE(OFFSET('Optimistic QTR'!$C32,0,4*(COLUMNS('Optimistic QTR'!$C32:D32)-1),1,4)) -> 10395 | E32: =AVERAGE(OFFSET('Optimistic QTR'!$C32,0,4*(COLUMNS('Optimistic QTR'!$C32:E32)-1),1,4)) -> 13371.998 | F32: =AVERAGE(OFFSET('Optimistic QTR'!$C32,0,4*(COLUMNS('Optimistic QTR'!$C32:F32)-1),1,4)) -> 13166 | G32: =AVERAGE(OFFSET('Optimistic QTR'!$C32,0,4*(COLUMNS('Optimistic QTR'!$C32:G32)-1),1,4)) -> 14959 | H32: =AVERAGE(OFFSET('Optimistic QTR'!$C32,0,4*(COLUMNS('Optimistic QTR'!$C32:H32)-1),1,4)) -> 13964 | I32: =AVERAGE(OFFSET('Optimistic QTR'!$C32,0,4*(COLUMNS('Optimistic QTR'!$C32:I32)-1),1,4)) -> 16031 | J32: =AVERAGE(OFFSET('Optimistic QTR'!$C32,0,4*(COLUMNS('Optimistic QTR'!$C32:J32)-1),1,4)) -> 17877 | ... AR32: =AVERAGE(OFFSET('Optimistic QTR'!$C32,0,4*(COLUMNS('Optimistic QTR'!$C32:AR32)-1),1,4)) -> 17105.505
A33: ='Baseline QTR'!A33 -> KS_POP | B33: ='Baseline QTR'!B33 -> Population (thous.) | C33: =AVERAGE(OFFSET('Optimistic QTR'!$C33,0,4*(COLUMNS('Optimistic QTR'!$C33:C33)-1),1,4)) -> 1999.2115 | D33: =AVERAGE(OFFSET('Optimistic QTR'!$C33,0,4*(COLUMNS('Optimistic QTR'!$C33:D33)-1),1,4)) -> 2050.811 | E33: =AVERAGE(OFFSET('Optimistic QTR'!$C33,0,4*(COLUMNS('Optimistic QTR'!$C33:E33)-1),1,4)) -> 2078.2645 | F33: =AVERAGE(OFFSET('Optimistic QTR'!$C33,0,4*(COLUMNS('Optimistic QTR'!$C33:F33)-1),1,4)) -> 2110.0369 | G33: =AVERAGE(OFFSET('Optimistic QTR'!$C33,0,4*(COLUMNS('Optimistic QTR'!$C33:G33)-1),1,4)) -> 2140.0514 | H33: =AVERAGE(OFFSET('Optimistic QTR'!$C33,0,4*(COLUMNS('Optimistic QTR'!$C33:H33)-1),1,4)) -> 2166.6695 | I33: =AVERAGE(OFFSET('Optimistic QTR'!$C33,0,4*(COLUMNS('Optimistic QTR'!$C33:I33)-1),1,4)) -> 2193.6384 | J33: =AVERAGE(OFFSET('Optimistic QTR'!$C33,0,4*(COLUMNS('Optimistic QTR'!$C33:J33)-1),1,4)) -> 2229.3993 | ... AR33: =AVERAGE(OFFSET('Optimistic QTR'!$C33,0,4*(COLUMNS('Optimistic QTR'!$C33:AR33)-1),1,4)) -> 3421.1865
B36: Growth, % change from previous year
C37: =C4 -> 1990 | D37: =D4 -> 1991 | E37: =E4 -> 1992 | F37: =F4 -> 1993 | G37: =G4 -> 1994 | H37: =H4 -> 1995 | I37: =I4 -> 1996 | J37: =J4 -> 1997 | ... AR37: =AR4 -> 2031
B38: =B7 -> Employment (thous.) | D38: =100*(D7/C7-1) -> 0.44310262 | E38: =100*(E7/D7-1) -> 1.2539068 | F38: =100*(F7/E7-1) -> 1.0478589 | G38: =100*(G7/F7-1) -> 1.0362619 | H38: =100*(H7/G7-1) -> 1.8567006 | I38: =100*(I7/H7-1) -> 3.7550684 | J38: =100*(J7/I7-1) -> 5.7873808 | K38: =100*(K7/J7-1) -> 4.8108587 | ... AR38: =100*(AR7/AQ7-1) -> 0.85698428
B39: =B8 -> Goods producing | D39: =100*(D8/C8-1) -> -2.3424344 | E39: =100*(E8/D8-1) -> -0.92680974 | F39: =100*(F8/E8-1) -> -4.9477872 | G39: =100*(G8/F8-1) -> -4.3846456 | H39: =100*(H8/G8-1) -> -2.2672092 | I39: =100*(I8/H8-1) -> 4.4226732 | J39: =100*(J8/I8-1) -> 11.479694 | K39: =100*(K8/J8-1) -> 5.7499249 | ... AR39: =100*(AR8/AQ8-1) -> 0.35573807
B40: =B9 -> Mining, Logging and Construction | D40: =100*(D9/C9-1) -> -3.8416764 | E40: =100*(E9/D9-1) -> 2.4078558 | F40: =100*(F9/E9-1) -> -4.8732431 | G40: =100*(G9/F9-1) -> -1.5189174 | H40: =100*(H9/G9-1) -> 0.85530006 | I40: =100*(I9/H9-1) -> 3.6285277 | J40: =100*(J9/I9-1) -> 9.9543869 | K40: =100*(K9/J9-1) -> 7.9795022 | ... AR40: =100*(AR9/AQ9-1) -> 1.3280355
B41: =B10 -> Manufacturing | D41: =100*(D10/C10-1) -> -1.8883448 | E41: =100*(E10/D10-1) -> -1.9167033 | F41: =100*(F10/E10-1) -> -4.9708912 | G41: =100*(G10/F10-1) -> -5.2737555 | H41: =100*(H10/G10-1) -> -3.2743883 | I41: =100*(I10/H10-1) -> 4.6897648 | J41: =100*(J10/I10-1) -> 11.987494 | K41: =100*(K10/J10-1) -> 5.0211374 | ... AR41: =100*(AR10/AQ10-1) -> -0.3111072
B42: =B11 -> Aerospace | D42: =100*(D11/C11-1) -> 0.3264095 | E42: =100*(E11/D11-1) -> -3.0168589 | F42: =100*(F11/E11-1) -> -8.6688015 | G42: =100*(G11/F11-1) -> -10.743802 | H42: =100*(H11/G11-1) -> -11.681631 | I42: =100*(I11/H11-1) -> 6.1209361 | J42: =100*(J11/I11-1) -> 21.454945 | K42: =100*(K11/J11-1) -> 6.3182976 | ... AR42: =100*(AR11/AQ11-1) -> 0.040123135
B43: =B12 -> Services providing | D43: =100*(D12/C12-1) -> 1.3704252 | E43: =100*(E12/D12-1) -> 1.9532909 | F43: =100*(F12/E12-1) -> 2.9164205 | G43: =100*(G12/F12-1) -> 2.5966081 | H43: =100*(H12/G12-1) -> 2.9629494 | I43: =100*(I12/H12-1) -> 3.5850788 | J43: =100*(J12/I12-1) -> 4.3262491 | K43: =100*(K12/J12-1) -> 4.5532866 | ... AR43: =100*(AR12/AQ12-1) -> 0.93619095
B44: =B13 -> Wholesale and retail trade | D44: =100*(D13/C13-1) -> -1.2538743 | E44: =100*(E13/D13-1) -> 0.39473058 | F44: =100*(F13/E13-1) -> 1.1084794 | G44: =100*(G13/F13-1) -> 1.101012 | H44: =100*(H13/G13-1) -> 2.8221882 | I44: =100*(I13/H13-1) -> 3.9886425 | J44: =100*(J13/I13-1) -> 3.3675725 | K44: =100*(K13/J13-1) -> 3.9035639 | ... AR44: =100*(AR13/AQ13-1) -> 0.96702987
B45: =B14 -> Transportation and public utilities | D45: =100*(D14/C14-1) -> 2.5609105 | E45: =100*(E14/D14-1) -> -1.352523 | F45: =100*(F14/E14-1) -> -1.4062225 | G45: =100*(G14/F14-1) -> 1.3014798 | H45: =100*(H14/G14-1) -> 1.2143611 | I45: =100*(I14/H14-1) -> 4.0688576 | J45: =100*(J14/I14-1) -> 2.4561404 | K45: =100*(K14/J14-1) -> 5.5936073 | ... AR45: =100*(AR14/AQ14-1) -> 0.53985172
...

Sheet Optimistic QTR
B1: =Info!B3 -> Seattle MD (King & Snohomish Counties) Economic Forecast
B2: =Info!B4 -> City of Seattle Office of Economic and Revenue Forecasts
C3: Historical Data | EM3: Forecast
C4: 1990Q1 | D4: 1990Q2 | E4: 1990Q3 | F4: 1990Q4 | G4: 1991Q1 | H4: 1991Q2 | I4: 1991Q3 | J4: 1991Q4 | K4: 1992Q1 | L4: 1992Q2 | M4: 1992Q3 | N4: 1992Q4 | O4: 1993Q1 | P4: 1993Q2 | Q4: 1993Q3 | R4: 1993Q4 | S4: 1994Q1 | T4: 1994Q2 | U4: 1994Q3 | V4: 1994Q4 | W4: 1995Q1 | X4: 1995Q2 | Y4: 1995Q3 | Z4: 1995Q4 | AA4: 1996Q1 | AB4: 1996Q2 | AC4: 1996Q3 | AD4: 1996Q4 | AE4: 1997Q1 | AF4: 1997Q2 | AG4: 1997Q3 | AH4: 1997Q4 | AI4: 1998Q1 | AJ4: 1998Q2 | AK4: 1998Q3 | AL4: 1998Q4 | AM4: 1999Q1 | AN4: 1999Q2 | AO4: 1999Q3 | AP4: 1999Q4 | AQ4: 2000Q1 | AR4: 2000Q2 | AS4: 2000Q3 | AT4: 2000Q4 | AU4: 2001Q1 | AV4: 2001Q2 | AW4: 2001Q3 | AX4: 2001Q4 | AY4: 2002Q1 | AZ4: 2002Q2 | BA4: 2002Q3 | BB4: 2002Q4 | BC4: 2003Q1 | BD4: 2003Q2 | BE4: 2003Q3 | BF4: 2003Q4 | BG4: 2004Q1 | BH4: 2004Q2 | BI4: 2004Q3 | BJ4: 2004Q4 | BK4: 2005Q1 | BL4: 2005Q2 | BM4: 2005Q3 | BN4: 2005Q4 | BO4: 2006Q1 | BP4: 2006Q2 | BQ4: 2006Q3 | BR4: 2006Q4 | BS4: 2007Q1 | BT4: 2007Q2 | BU4: 2007Q3 | BV4: 2007Q4 | BW4: 2008Q1 | BX4: 2008Q2 | BY4: 2008Q3 | BZ4: 2008Q4 | CA4: 2009Q1 | CB4: 2009Q2 | CC4: 2009Q3 | CD4: 2009Q4 | CE4: 2010Q1 | CF4: 2010Q2 | CG4: 2010Q3 | CH4: 2010Q4 | CI4: 2011Q1 | CJ4: 2011Q2 | CK4: 2011Q3 | CL4: 2011Q4 | CM4: 2012Q1 | CN4: 2012Q2 | CO4: 2012Q3 | CP4: 2012Q4 | CQ4: 2013Q1 | CR4: 2013Q2 | CS4: 2013Q3 | CT4: 2013Q4 | CU4: 2014Q1 | CV4: 2014Q2 | CW4: 2014Q3 | CX4: 2014Q4 | CY4: 2015Q1 | CZ4: 2015Q2 | DA4: 2015Q3 | DB4: 2015Q4 | DC4: 2016Q1 | DD4: 2016Q2 | DE4: 2016Q3 | DF4: 2016Q4 | DG4: 2017Q1 | DH4: 2017Q2 | DI4: 2017Q3 | DJ4: 2017Q4 | DK4: 2018Q1 | DL4: 2018Q2 | DM4: 2018Q3 | DN4: 2018Q4 | DO4: 2019Q1 | DP4: 2019Q2 | DQ4: 2019Q3 | DR4: 2019Q4 | DS4: 2020Q1 | DT4: 2020Q2 | DU4: 2020Q3 | DV4: 2020Q4 | DW4: 2021Q1 | DX4: 2021Q2 | DY4: 2021Q3 | DZ4: 2021Q4 | EA4: 2022Q1 | EB4: 2022Q2 | EC4: 2022Q3 | ED4: 2022Q4 | EE4: 2023Q1 | EF4: 2023Q2 | EG4: 2023Q3 | EH4: 2023Q4 | EI4: 2024Q1 | EJ4: 2024Q2 | EK4: 2024Q3 | EL4: 2024Q4 | EM4: 2025Q1 | EN4: 2025Q2 | EO4: 2025Q3 | EP4: 2025Q4 | EQ4: 2026Q1 | ER4: 2026Q2 | ES4: 2026Q3 | ET4: 2026Q4 | EU4: 2027Q1 | EV4: 2027Q2 | EW4: 2027Q3 | EX4: 2027Q4 | EY4: 2028Q1 | EZ4: 2028Q2 | FA4: 2028Q3 | FB4: 2028Q4 | FC4: 2029Q1 | FD4: 2029Q2 | FE4: 2029Q3 | FF4: 2029Q4 | FG4: 2030Q1 | FH4: 2030Q2 | FI4: 2030Q3 | FJ4: 2031Q4 | FK4: 2031Q1 | FL4: 2031Q2 | FM4: 2031Q3 | FN4: 2031Q4
A5: ='Baseline QTR'!A5 -> KS_UR | B5: ='Baseline QTR'!B5 -> Unemployment rate (%) | C5: 3.8997306 | D5: 3.7889163 | E5: 3.6398463 | F5: 3.7035648 | G5: 3.967988 | H5: 4.315908 | I5: 4.6620019 | J5: 4.915446 | K5: 5.108246 | L5: 5.2757372 | M5: 5.5313263 | N5: 5.8057798 | O5: 5.785067 | P5: 5.6688269 | Q5: 5.4565326 | R5: 5.3142965 | S5: 5.2778973 | T5: 5.097157 | U5: 4.9022297 | V5: 4.7295782 | W5: 4.7878283 | X5: 5.0415993 | Y5: 5.1738458 | Z5: 5.2368435 | AA5: 5.1478875 | AB5: 4.881256 | AC5: 4.5819617 | AD5: 4.5212667 | AE5: 4.4296564 | AF5: 4.255605 | AG5: 3.7213336 | AH5: 3.2365903 | AI5: 3.2015294 | AJ5: 3.4390537 | AK5: 3.4774003 | AL5: 3.2853479 | AM5: 3.1151867 | AN5: 3.1081247 | AO5: 3.3435464 | AP5: 3.532375 | AQ5: 3.8849896 | AR5: 3.8239099 | AS5: 3.8128346 | AT5: 3.892384 | AU5: 4.1586906 | AV5: 4.4438583 | AW5: 4.7738913 | AX5: 5.4325688 | AY5: 5.9389286 | AZ5: 5.9979296 | BA5: 6.1014928 | BB5: 6.3972514 | BC5: 6.5068122 | BD5: 6.2689388 | BE5: 5.8001443 | BF5: 5.3755976 | BG5: 5.2466466 | BH5: 5.1264226 | BI5: 4.8242934 | BJ5: 4.7505238 | BK5: 4.6881371 | BL5: 4.4408214 | BM5: 4.1268169 | BN5: 3.8721903 | BO5: 3.6881075 | BP5: 3.6928106 | BQ5: 3.6789443 | BR5: 3.6436386 | BS5: 3.3375515 | BT5: 2.9826501 | BU5: 2.9157874 | BV5: 2.8763531 | BW5: 2.9422032 | BX5: 3.3592775 | BY5: 3.9029713 | BZ5: 4.7013686 | CA5: 6.0310948 | CB5: 7.7637501 | CC5: 9.487566 | CD5: 10.267482 | CE5: 10.39495 | CF5: 10.089349 | CG5: 9.9135854 | CH5: 9.9983413 | CI5: 9.6580911 | CJ5: 9.071671 | CK5: 8.5513502 | CL5: 8.1594749 | CM5: 7.9908524 | CN5: 7.8604927 | CO5: 6.9759908 | CP5: 5.6124121 | CQ5: 4.6995429 | CR5: 4.5133459 | CS5: 4.8401633 | CT5: 4.9666323 | CU5: 4.9311937 | CV5: 4.8682529 | CW5: 4.563572 | CX5: 4.1701948 | CY5: 4.0222068 | CZ5: 3.9042502 | DA5: 4.0289114 | DB5: 4.3169911 | DC5: 4.3015789 | DD5: 4.0721656 | DE5: 3.8694303 | DF5: 3.8385439 | DG5: 3.8023257 | DH5: 3.8228482 | DI5: 3.7889909 | DJ5: 3.6913771 | DK5: 3.5324474 | DL5: 3.3103403 | DM5: 3.2574628 | DN5: 3.4086297 | DO5: 3.3253778 | DP5: 2.9260558 | DQ5: 2.6638998 | DR5: 2.5398074 | DS5: 3.7725043 | DT5: 15.098596 | DU5: 9.1636153 | DV5: 6.8606308 | DW5: 5.8056665 | DX5: 5.2093575 | DY5: 4.4723283 | DZ5: 3.6269648 | EA5: 3.3965099 | EB5: 3.5252615 | EC5: 3.7406061 | ED5: 3.7351999 | EE5: 3.7164187 | EF5: 3.9282056 | EG5: 4.0639207 | EH5: 4.1850696 | EI5: 4.2749784 | EJ5: 4.3188066 | EK5: 4.2171873 | EL5: 4.0820561 | EM5: 4.2246221 | EN5: 4.3591931 | EO5: 4.5260668 | EP5: 4.8623814 | EQ5: 5.1937295 | ER5: 5.2775253 | ES5: 5.101856 | ET5: 4.969161 | EU5: 4.831736 | EV5: 4.903678 | EW5: 4.924249 | EX5: 4.83473 | EY5: 4.716354 | EZ5: 4.709823 | FA5: 4.681954 | FB5: 4.558771 | FC5: 4.476714 | FD5: 4.439505 | FE5: 4.429485 | FF5: 4.409702 | FG5: 4.388646 | FH5: 4.435046 | FI5: 4.416644 | FJ5: 4.503008 | FK5: 4.399108 | FL5: 4.415167 | FM5: 4.446578 | FN5: 4.503008
A7: ='Baseline QTR'!A7 -> KS_N | B7: ='Baseline QTR'!B7 -> Employment (thous.) | C7: 1098 | D7: 1108.2667 | E7: 1120.3 | F7: 1111.8333 | G7: 1108.5333 | H7: 1112.4667 | I7: 1119.1667 | J7: 1117.9 | K7: 1126.5333 | L7: 1128.8667 | M7: 1128.2667 | N7: 1130.3 | O7: 1132.6333 | P7: 1137.2 | Q7: 1154.0333 | R7: 1137.4 | S7: 1142.7667 | T7: 1148.3333 | U7: 1153.5333 | V7: 1163.9 | W7: 1173.2 | X7: 1174.1333 | Y7: 1177.7333 | Z7: 1169.0333 | AA7: 1197.8333 | AB7: 1207.5333 | AC7: 1222.5333 | AD7: 1242.4667 | AE7: 1256.9667 | AF7: 1282.1667 | AG7: 1296.6333 | AH7: 1316.4667 | AI7: 1327.3667 | AJ7: 1346.2 | AK7: 1357.8667 | AL7: 1368.6667 | AM7: 1372.9667 | AN7: 1378.7 | AO7: 1390.1 | AP7: 1399.9333 | AQ7: 1405.3 | AR7: 1413.9667 | AS7: 1420.1 | AT7: 1428.0667 | AU7: 1419.4667 | AV7: 1410.1667 | AW7: 1395.9333 | AX7: 1373.1333 | AY7: 1356.2333 | AZ7: 1348.5333 | BA7: 1352.5 | BB7: 1348.2333 | BC7: 1344.0333 | BD7: 1339.4 | BE7: 1339 | BF7: 1342.3333 | BG7: 1342.1667 | BH7: 1348.0667 | BI7: 1352.2 | BJ7: 1361.8 | BK7: 1367.7 | BL7: 1380 | BM7: 1389.1333 | BN7: 1404.9333 | BO7: 1415.3333 | BP7: 1425.9 | BQ7: 1435.6333 | BR7: 1443.7667 | BS7: 1459.4 | BT7: 1469.9 | BU7: 1480.1667 | BV7: 1489.1 | BW7: 1498.6333 | BX7: 1497.8333 | BY7: 1501.4667 | BZ7: 1473.9333 | CA7: 1451.1333 | CB7: 1419.1333 | CC7: 1404.0667 | CD7: 1394.3667 | CE7: 1388.3333 | CF7: 1394.3 | CG7: 1397.4667 | CH7: 1405.4333 | CI7: 1409.8333 | CJ7: 1418.9 | CK7: 1426.8 | CL7: 1434.9 | CM7: 1443.5 | CN7: 1456.6 | CO7: 1462.8667 | CP7: 1476.7333 | CQ7: 1486.9333 | CR7: 1496 | CS7: 1505.4667 | CT7: 1518.7333 | CU7: 1528.7 | CV7: 1533.1667 | CW7: 1550.2333 | CX7: 1560.7667 | CY7: 1572.5333 | CZ7: 1584.9667 | DA7: 1600.1 | DB7: 1611.6 | DC7: 1624.8333 | DD7: 1640.3667 | DE7: 1650.8 | DF7: 1659.6 | DG7: 1669.4333 | DH7: 1682.9333 | DI7: 1689.0667 | DJ7: 1698.1 | DK7: 1710.7667 | DL7: 1717.3667 | DM7: 1725.3667 | DN7: 1738.4333 | DO7: 1743.9333 | DP7: 1757.9333 | DQ7: 1772.0667 | DR7: 1779.6333 | DS7: 1782.4333 | DT7: 1581.9 | DU7: 1633.2 | DV7: 1648.3667 | DW7: 1645.1333 | DX7: 1668.9667 | DY7: 1704.3 | DZ7: 1737.2333 | EA7: 1742.1 | EB7: 1757.7333 | EC7: 1779.1 | ED7: 1777.0333 | EE7: 1778.4 | EF7: 1780.9 | EG7: 1774.0333 | EH7: 1773.5667 | EI7: 1780.8 | EJ7: 1783.9 | EK7: 1786.9333 | EL7: 1774.2 | EM7: 1778.6333 | EN7: 1783.5667 | EO7: 1776.6667 | EP7: 1768.7333 | EQ7: 1771.8667 | ER7: 1778.3 | ES7: 1780.017 | ET7: 1779.506 | EU7: 1779.567 | EV7: 1779.195 | EW7: 1781.549 | EX7: 1785.911 | EY7: 1792.733 | EZ7: 1797.771 | FA7: 1802.746 | FB7: 1809.268 | FC7: 1815.666 | FD7: 1821.013 | FE7: 1825.498 | FF7: 1830.27 | FG7: 1835.459 | FH7: 1840.042 | FI7: 1845.035 | FJ7: 1870.148 | FK7: 1856.14 | FL7: 1861.482 | FM7: 1866.251 | FN7: 1870.148
A8: ='Baseline QTR'!A8 -> KS_NGDS | B8: ='Baseline QTR'!B8 -> Goods producing | C8: 277.13333 | D8: 278.2 | E8: 279.83333 | F8: 273.36667 | G8: 270.63333 | H8: 269.66667 | I8: 272.2 | J8: 270.06667 | K8: 269.86667 | L8: 270.4 | M8: 268.36667 | N8: 263.9 | O8: 258.8 | P8: 255.33333 | Q8: 256.96667 | R8: 248.36667 | S8: 244.66667 | T8: 243.7 | U8: 243.2 | V8: 243.2 | W8: 246.23333 | X8: 244.2 | Y8: 239.73333 | Z8: 222.5 | AA8: 240.53333 | AB8: 245.16667 | AC8: 250.66667 | AD8: 258.43333 | AE8: 266.76667 | AF8: 273.26667 | AG8: 280.23333 | AH8: 288.73333 | AI8: 289.33333 | AJ8: 293.66667 | AK8: 295.23333 | AL8: 294.53333 | AM8: 288.7 | AN8: 286.06667 | AO8: 282.7 | AP8: 280.56667 | AQ8: 274.66667 | AR8: 277.13333 | AS8: 275.53333 | AT8: 275.43333 | AU8: 272.7 | AV8: 269.2 | AW8: 266.63333 | AX8: 257.4 | AY8: 248.33333 | AZ8: 243.03333 | BA8: 239.06667 | BB8: 234.1 | BC8: 228.3 | BD8: 225.06667 | BE8: 222.96667 | BF8: 221.8 | BG8: 221.66667 | BH8: 221.9 | BI8: 223.03333 | BJ8: 226.6 | BK8: 229.1 | BL8: 233.8 | BM8: 234.2 | BN8: 243.2 | BO8: 248.03333 | BP8: 251.86667 | BQ8: 254.16667 | BR8: 256.9 | BS8: 262 | BT8: 266.43333 | BU8: 269.6 | BV8: 270.8 | BW8: 271 | BX8: 269.2 | BY8: 267.1 | BZ8: 251.4 | CA8: 245.36667 | CB8: 233.66667 | CC8: 225.83333 | CD8: 220.3 | CE8: 217.5 | CF8: 216.2 | CG8: 216.23333 | CH8: 217.03333 | CI8: 217.53333 | CJ8: 220.56667 | CK8: 224.06667 | CL8: 226.76667 | CM8: 228.63333 | CN8: 232.4 | CO8: 235.56667 | CP8: 238.83333 | CQ8: 241.13333 | CR8: 242.36667 | CS8: 244.06667 | CT8: 244.66667 | CU8: 245.26667 | CV8: 246.5 | CW8: 250.1 | CX8: 253.23333 | CY8: 256.16667 | CZ8: 257.23333 | DA8: 258.9 | DB8: 259.7 | DC8: 261.4 | DD8: 262.56667 | DE8: 262.13333 | DF8: 260.63333 | DG8: 260.33333 | DH8: 260.16667 | DI8: 257.76667 | DJ8: 258.2 | DK8: 260.8 | DL8: 262.7 | DM8: 264.76667 | DN8: 268.63333 | DO8: 269.03333 | DP8: 271.46667 | DQ8: 271.66667 | DR8: 271.7 | DS8: 271.3 | DT8: 246.06667 | DU8: 247.6 | DV8: 245.76667 | DW8: 243.33333 | DX8: 243.13333 | DY8: 243.13333 | DZ8: 246.03333 | EA8: 245.33333 | EB8: 247.9 | EC8: 251.6 | ED8: 253.03333 | EE8: 252.56667 | EF8: 252.36667 | EG8: 251.63333 | EH8: 251.2 | EI8: 250.73333 | EJ8: 250.9 | EK8: 251.26667 | EL8: 239.03333 | EM8: 247.4 | EN8: 244.43333 | EO8: 241.56667 | EP8: 240.96667 | EQ8: 244.03333 | ER8: 245.63333 | ES8: 247.5812 | ET8: 247.7309 | EU8: 247.6474 | EV8: 247.3975 | EW8: 247.3384 | EX8: 247.4092 | EY8: 247.6143 | EZ8: 247.8406 | FA8: 248.0442 | FB8: 248.4392 | FC8: 249.0802 | FD8: 249.6861 | FE8: 250.2396 | FF8: 250.8389 | FG8: 251.3907 | FH8: 251.7511 | FI8: 252.0568 | FJ8: 253.24 | FK8: 252.69 | FL8: 252.9409 | FM8: 253.1551 | FN8: 253.24
A9: ='Baseline QTR'!A9 -> KS_NMLC | B9: ='Baseline QTR'!B9 -> Mining, Logging and Construction | C9: 63.633333 | D9: 65.8 | E9: 65.8 | F9: 62.466667 | G9: 61.933333 | H9: 61.366667 | I9: 62.1 | J9: 62.4 | K9: 63 | L9: 64.3 | M9: 63.7 | N9: 62.766667 | O9: 61.566667 | P9: 59.9 | Q9: 60 | R9: 59.933333 | S9: 59.5 | T9: 59.333333 | U9: 59.066667 | V9: 59.833333 | W9: 60.2 | X9: 60.2 | Y9: 60.2 | Z9: 59.166667 | AA9: 60.5 | AB9: 61.333333 | AC9: 62.333333 | AD9: 64.3 | AE9: 66.766667 | AF9: 67.366667 | AG9: 68.233333 | AH9: 70.833333 | AI9: 70.9 | AJ9: 72.8 | AK9: 74.566667 | AL9: 76.733333 | AM9: 77.433333 | AN9: 79.2 | AO9: 81.133333 | AP9: 82.5 | AQ9: 84.133333 | AR9: 85.2 | AS9: 85.366667 | AT9: 86.866667 | AU9: 86.733333 | AV9: 84.2 | AW9: 82.766667 | AX9: 79.2 | AY9: 78.833333 | AZ9: 77.133333 | BA9: 77.233333 | BB9: 76.4 | BC9: 75.366667 | BD9: 75.333333 | BE9: 75.466667 | BF9: 76.366667 | BG9: 77.2 | BH9: 77.266667 | BI9: 77.633333 | BJ9: 79.533333 | BK9: 80.4 | BL9: 82.066667 | BM9: 84.6 | BN9: 87.166667 | BO9: 89.533333 | BP9: 91.9 | BQ9: 92.833333 | BR9: 93.833333 | BS9: 97.333333 | BT9: 100.66667 | BU9: 101.53333 | BV9: 101.56667 | BW9: 100.73333 | BX9: 99.1 | BY9: 97.3 | BZ9: 91.666667 | CA9: 83.233333 | CB9: 77.1 | CC9: 72.666667 | CD9: 69.333333 | CE9: 67.266667 | CF9: 66 | CG9: 65.766667 | CH9: 65.2 | CI9: 63.533333 | CJ9: 63.533333 | CK9: 63.933333 | CL9: 63.966667 | CM9: 64.2 | CN9: 65.966667 | CO9: 67.166667 | CP9: 69.066667 | CQ9: 70.533333 | CR9: 71.633333 | CS9: 73.633333 | CT9: 74.4 | CU9: 75.6 | CV9: 76.633333 | CW9: 79.666667 | CX9: 82.733333 | CY9: 85.133333 | CZ9: 86.6 | DA9: 87.3 | DB9: 88.7 | DC9: 90.933333 | DD9: 92.633333 | DE9: 94.066667 | DF9: 95.033333 | DG9: 96.433333 | DH9: 97.266667 | DI9: 97.7 | DJ9: 98.8 | DK9: 101.06667 | DL9: 102.23333 | DM9: 103.36667 | DN9: 104.6 | DO9: 103.16667 | DP9: 104.6 | DQ9: 104.86667 | DR9: 105 | DS9: 105.43333 | DT9: 92.933333 | DU9: 100.83333 | DV9: 103.26667 | DW9: 103.5 | DX9: 104.63333 | DY9: 105 | DZ9: 106.03333 | EA9: 104.26667 | EB9: 105.56667 | EC9: 107.43333 | ED9: 107.56667 | EE9: 106.96667 | EF9: 105.46667 | EG9: 103.23333 | EH9: 101.16667 | EI9: 100 | EJ9: 99.266667 | EK9: 99.1 | EL9: 97.7 | EM9: 97.1 | EN9: 96.766667 | EO9: 95.5 | EP9: 94.133333 | EQ9: 95.033333 | ER9: 94.566667 | ES9: 94.50867 | ET9: 94.45298 | EU9: 94.52137 | EV9: 94.54705 | EW9: 94.73598 | EX9: 95.08807 | EY9: 95.60933 | EZ9: 96.12877 | FA9: 96.72849 | FB9: 97.48534 | FC9: 98.34103 | FD9: 99.17705 | FE9: 99.95229 | FF9: 100.7063 | FG9: 101.4098 | FH9: 101.9884 | FI9: 102.5194 | FJ9: 104.335 | FK9: 103.4431 | FL9: 103.812 | FM9: 104.1108 | FN9: 104.335
A10: ='Baseline QTR'!A10 -> KS_NMFG | B10: ='Baseline QTR'!B10 -> Manufacturing | C10: 213.5 | D10: 212.4 | E10: 214.03333 | F10: 210.9 | G10: 208.7 | H10: 208.3 | I10: 210.1 | J10: 207.66667 | K10: 206.86667 | L10: 206.1 | M10: 204.66667 | N10: 201.13333 | O10: 197.23333 | P10: 195.43333 | Q10: 196.96667 | R10: 188.43333 | S10: 185.16667 | T10: 184.36667 | U10: 184.13333 | V10: 183.36667 | W10: 186.03333 | X10: 184 | Y10: 179.53333 | Z10: 163.33333 | AA10: 180.03333 | AB10: 183.83333 | AC10: 188.33333 | AD10: 194.13333 | AE10: 200 | AF10: 205.9 | AG10: 212 | AH10: 217.9 | AI10: 218.43333 | AJ10: 220.86667 | AK10: 220.66667 | AL10: 217.8 | AM10: 211.26667 | AN10: 206.86667 | AO10: 201.56667 | AP10: 198.06667 | AQ10: 190.53333 | AR10: 191.93333 | AS10: 190.16667 | AT10: 188.56667 | AU10: 185.96667 | AV10: 185 | AW10: 183.86667 | AX10: 178.2 | AY10: 169.5 | AZ10: 165.9 | BA10: 161.83333 | BB10: 157.7 | BC10: 152.93333 | BD10: 149.73333 | BE10: 147.5 | BF10: 145.43333 | BG10: 144.46667 | BH10: 144.63333 | BI10: 145.4 | BJ10: 147.06667 | BK10: 148.7 | BL10: 151.73333 | BM10: 149.6 | BN10: 156.03333 | BO10: 158.5 | BP10: 159.96667 | BQ10: 161.33333 | BR10: 163.06667 | BS10: 164.66667 | BT10: 165.76667 | BU10: 168.06667 | BV10: 169.23333 | BW10: 170.26667 | BX10: 170.1 | BY10: 169.8 | BZ10: 159.73333 | CA10: 162.13333 | CB10: 156.56667 | CC10: 153.16667 | CD10: 150.96667 | CE10: 150.23333 | CF10: 150.2 | CG10: 150.46667 | CH10: 151.83333 | CI10: 154 | CJ10: 157.03333 | CK10: 160.13333 | CL10: 162.8 | CM10: 164.43333 | CN10: 166.43333 | CO10: 168.4 | CP10: 169.76667 | CQ10: 170.6 | CR10: 170.73333 | CS10: 170.43333 | CT10: 170.26667 | CU10: 169.66667 | CV10: 169.86667 | CW10: 170.43333 | CX10: 170.5 | CY10: 171.03333 | CZ10: 170.63333 | DA10: 171.6 | DB10: 171 | DC10: 170.46667 | DD10: 169.93333 | DE10: 168.06667 | DF10: 165.6 | DG10: 163.9 | DH10: 162.9 | DI10: 160.06667 | DJ10: 159.4 | DK10: 159.73333 | DL10: 160.46667 | DM10: 161.4 | DN10: 164.03333 | DO10: 165.86667 | DP10: 166.86667 | DQ10: 166.8 | DR10: 166.7 | DS10: 165.86667 | DT10: 153.13333 | DU10: 146.76667 | DV10: 142.5 | DW10: 139.83333 | DX10: 138.5 | DY10: 138.13333 | DZ10: 140 | EA10: 141.06667 | EB10: 142.33333 | EC10: 144.16667 | ED10: 145.46667 | EE10: 145.6 | EF10: 146.9 | EG10: 148.4 | EH10: 150.03333 | EI10: 150.73333 | EJ10: 151.63333 | EK10: 152.16667 | EL10: 141.33333 | EM10: 150.3 | EN10: 147.66667 | EO10: 146.06667 | EP10: 146.83333 | EQ10: 149 | ER10: 151.06667 | ES10: 153.0725 | ET10: 153.2779 | EU10: 153.1261 | EV10: 152.8505 | EW10: 152.6025 | EX10: 152.3212 | EY10: 152.005 | EZ10: 151.7118 | FA10: 151.3158 | FB10: 150.9539 | FC10: 150.7391 | FD10: 150.5091 | FE10: 150.2873 | FF10: 150.1326 | FG10: 149.9809 | FH10: 149.7627 | FI10: 149.5375 | FJ10: 148.905 | FK10: 149.2469 | FL10: 149.1289 | FM10: 149.0443 | FN10: 148.905
A11: ='Baseline QTR'!A11 -> KS_NAER | B11: ='Baseline QTR'!B11 -> Aerospace | C11: 112.96667 | D11: 112.36667 | E11: 112.96667 | F11: 111.03333 | G11: 111.33333 | H11: 112.6 | I11: 114.56667 | J11: 112.3 | K11: 111.03333 | L11: 110.3 | M11: 109.6 | N11: 106.26667 | O11: 103.66667 | P11: 101.5 | Q11: 100.4 | R11: 93.733333 | S11: 90 | T11: 89.066667 | U11: 89.366667 | V11: 87.966667 | W11: 86.5 | X11: 85.8 | Y11: 79.9 | Z11: 62.566667 | AA11: 77.433333 | AB11: 80.7 | AC11: 85.9 | AD11: 90 | AE11: 94.433333 | AF11: 98.833333 | AG11: 104.76667 | AH11: 107.66667 | AI11: 107.03333 | AJ11: 108.76667 | AK11: 109.23333 | AL11: 106.3 | AM11: 100.96667 | AN11: 96.6 | AO11: 92.333333 | AP11: 88.166667 | AQ11: 80.2 | AR11: 83.7 | AS11: 83.366667 | AT11: 82.7 | AU11: 82.766667 | AV11: 83.666667 | AW11: 84.866667 | AX11: 82.8 | AY11: 76.3 | AZ11: 73.9 | BA11: 71.2 | BB11: 69.033333 | BC11: 65.4 | BD11: 63.5 | BE11: 61.466667 | BF11: 59.733333 | BG11: 58.533333 | BH11: 58.433333 | BI11: 58.666667 | BJ11: 59.633333 | BK11: 61.066667 | BL11: 62.9 | BM11: 60.033333 | BN11: 66.166667 | BO11: 67.666667 | BP11: 68.833333 | BQ11: 70.366667 | BR11: 72 | BS11: 73.533333 | BT11: 74.933333 | BU11: 76.7 | BV11: 78.366667 | BW11: 79.633333 | BX11: 80.333333 | BY11: 81.166667 | BZ11: 73.3 | CA11: 80.766667 | CB11: 79.266667 | CC11: 77.9 | CD11: 77.3 | CE11: 76.9 | CF11: 76.533333 | CG11: 76.333333 | CH11: 77.233333 | CI11: 78.566667 | CJ11: 80.833333 | CK11: 83.366667 | CL11: 85.566667 | CM11: 86.833333 | CN11: 88.3 | CO11: 90.033333 | CP11: 91.466667 | CQ11: 91.766667 | CR11: 91.433333 | CS11: 90.5 | CT11: 89.633333 | CU11: 88.9 | CV11: 88.766667 | CW11: 88.833333 | CX11: 88.733333 | CY11: 88.466667 | CZ11: 88.266667 | DA11: 88.1 | DB11: 87.733333 | DC11: 87.166667 | DD11: 86.2 | DE11: 84.266667 | DF11: 82.233333 | DG11: 80.9 | DH11: 79.1 | DI11: 76.7 | DJ11: 76 | DK11: 76.4 | DL11: 76.933333 | DM11: 77.8 | DN11: 79.8 | DO11: 81.033333 | DP11: 82.1 | DQ11: 82.266667 | DR11: 82.266667 | DS11: 82.533333 | DT11: 77.533333 | DU11: 70.733333 | DV11: 66.333333 | DW11: 63.933333 | DX11: 62.733333 | DY11: 61.766667 | DZ11: 63.066667 | EA11: 64.266667 | EB11: 65.733333 | EC11: 67.633333 | ED11: 69.433333 | EE11: 70.166667 | EF11: 71.833333 | EG11: 73.9 | EH11: 75.766667 | EI11: 76.966667 | EJ11: 78.133333 | EK11: 78.533333 | EL11: 68.7 | EM11: 78.133333 | EN11: 75.433333 | EO11: 74.566667 | EP11: 75.433333 | EQ11: 77.3 | ER11: 78.8 | ES11: 80.93977 | ET11: 81.02399 | EU11: 81.33718 | EV11: 81.61686 | EW11: 81.71513 | EX11: 81.71068 | EY11: 81.81362 | EZ11: 82.04917 | FA11: 82.1279 | FB11: 82.16662 | FC11: 82.3306 | FD11: 82.43616 | FE11: 82.52854 | FF11: 82.59555 | FG11: 82.66502 | FH11: 82.65795 | FI11: 82.6528 | FJ11: 82.68134 | FK11: 82.71336 | FL11: 82.70198 | FM11: 82.6931 | FN11: 82.68134
A12: ='Baseline QTR'!A12 -> KS_NSRV | B12: ='Baseline QTR'!B12 -> Services providing | C12: 820.86667 | D12: 830.06667 | E12: 840.46667 | F12: 838.46667 | G12: 837.9 | H12: 842.8 | I12: 846.96667 | J12: 847.83333 | K12: 856.66667 | L12: 858.46667 | M12: 859.9 | N12: 866.4 | O12: 873.83333 | P12: 881.86667 | Q12: 897.06667 | R12: 889.03333 | S12: 898.1 | T12: 904.63333 | U12: 910.33333 | V12: 920.7 | W12: 926.96667 | X12: 929.93333 | Y12: 938 | Z12: 946.53333 | AA12: 957.3 | AB12: 962.36667 | AC12: 971.86667 | AD12: 984.03333 | AE12: 990.2 | AF12: 1008.9 | AG12: 1016.4 | AH12: 1027.7333 | AI12: 1038.0333 | AJ12: 1052.5333 | AK12: 1062.6333 | AL12: 1074.1333 | AM12: 1084.2667 | AN12: 1092.6333 | AO12: 1107.4 | AP12: 1119.3667 | AQ12: 1130.6333 | AR12: 1136.8333 | AS12: 1144.5667 | AT12: 1152.6333 | AU12: 1146.7667 | AV12: 1140.9667 | AW12: 1129.3 | AX12: 1115.7333 | AY12: 1107.9 | AZ12: 1105.5 | BA12: 1113.4333 | BB12: 1114.1333 | BC12: 1115.7333 | BD12: 1114.3333 | BE12: 1116.0333 | BF12: 1120.5333 | BG12: 1120.5 | BH12: 1126.1667 | BI12: 1129.1667 | BJ12: 1135.2 | BK12: 1138.6 | BL12: 1146.2 | BM12: 1154.9333 | BN12: 1161.7333 | BO12: 1167.3 | BP12: 1174.0333 | BQ12: 1181.4667 | BR12: 1186.8667 | BS12: 1197.4 | BT12: 1203.4667 | BU12: 1210.5667 | BV12: 1218.3 | BW12: 1227.6333 | BX12: 1228.6333 | BY12: 1234.3667 | BZ12: 1222.5333 | CA12: 1205.7667 | CB12: 1185.4667 | CC12: 1178.2333 | CD12: 1174.0667 | CE12: 1170.8333 | CF12: 1178.1 | CG12: 1181.2333 | CH12: 1188.4 | CI12: 1192.3 | CJ12: 1198.3333 | CK12: 1202.7333 | CL12: 1208.1333 | CM12: 1214.8667 | CN12: 1224.2 | CO12: 1227.3 | CP12: 1237.9 | CQ12: 1245.8 | CR12: 1253.6333 | CS12: 1261.4 | CT12: 1274.0667 | CU12: 1283.4333 | CV12: 1286.6667 | CW12: 1300.1333 | CX12: 1307.5333 | CY12: 1316.3667 | CZ12: 1327.7333 | DA12: 1341.2 | DB12: 1351.9 | DC12: 1363.4333 | DD12: 1377.8 | DE12: 1388.6667 | DF12: 1398.9667 | DG12: 1409.1 | DH12: 1422.7667 | DI12: 1431.3 | DJ12: 1439.9 | DK12: 1449.9667 | DL12: 1454.6667 | DM12: 1460.6 | DN12: 1469.8 | DO12: 1474.9 | DP12: 1486.4667 | DQ12: 1500.4 | DR12: 1507.9333 | DS12: 1511.1333 | DT12: 1335.8333 | DU12: 1385.6 | DV12: 1402.6 | DW12: 1401.8 | DX12: 1425.8333 | DY12: 1461.1667 | DZ12: 1491.2 | EA12: 1496.7667 | EB12: 1509.8333 | EC12: 1527.5 | ED12: 1524 | EE12: 1525.8333 | EF12: 1528.5333 | EG12: 1522.4 | EH12: 1522.3667 | EI12: 1530.0667 | EJ12: 1533 | EK12: 1535.6667 | EL12: 1535.1667 | EM12: 1531.2333 | EN12: 1539.1333 | EO12: 1535.1 | EP12: 1527.7667 | EQ12: 1527.8333 | ER12: 1532.6667 | ES12: 1532.436 | ET12: 1531.775 | EU12: 1531.92 | EV12: 1531.798 | EW12: 1534.211 | EX12: 1538.502 | EY12: 1545.118 | EZ12: 1549.93 | FA12: 1554.702 | FB12: 1560.829 | FC12: 1566.586 | FD12: 1571.327 | FE12: 1575.259 | FF12: 1579.431 | FG12: 1584.068 | FH12: 1588.29 | FI12: 1592.979 | FJ12: 1616.908 | FK12: 1603.45 | FL12: 1608.541 | FM12: 1613.096 | FN12: 1616.908
A13: ='Baseline QTR'!A13 -> KS_NTRD | B13: ='Baseline QTR'!B13 -> Wholesale and retail trade | C13: 176.46667 | D13: 176.73333 | E13: 177.43333 | F13: 179.16667 | G13: 175.6 | H13: 175.66667 | I13: 175.2 | J13: 174.43333 | K13: 176.3 | L13: 176.33333 | M13: 175.43333 | N13: 175.6 | O13: 176.6 | P13: 176.93333 | Q13: 180.53333 | R13: 177.4 | S13: 178.16667 | T13: 178.9 | U13: 180.86667 | V13: 181.36667 | W13: 182.8 | X13: 183.76667 | Y13: 185.73333 | Z13: 187.3 | AA13: 190.43333 | AB13: 191.76667 | AC13: 192.76667 | AD13: 194.13333 | AE13: 193.43333 | AF13: 198.3 | AG13: 200.03333 | AH13: 203.23333 | AI13: 202.9 | AJ13: 205.2 | AK13: 207.1 | AL13: 210.83333 | AM13: 211.96667 | AN13: 212.9 | AO13: 215.93333 | AP13: 218.9 | AQ13: 220.2 | AR13: 221.1 | AS13: 221.03333 | AT13: 222.76667 | AU13: 220.93333 | AV13: 218.46667 | AW13: 214.6 | AX13: 208.8 | AY13: 204.56667 | AZ13: 201.23333 | BA13: 207.46667 | BB13: 206.06667 | BC13: 206.36667 | BD13: 205 | BE13: 205.43333 | BF13: 205.6 | BG13: 205.3 | BH13: 206.46667 | BI13: 206.26667 | BJ13: 206.36667 | BK13: 207.26667 | BL13: 208.76667 | BM13: 210.23333 | BN13: 211.43333 | BO13: 211.9 | BP13: 212.13333 | BQ13: 212.4 | BR13: 212.16667 | BS13: 214.66667 | BT13: 215.4 | BU13: 216.33333 | BV13: 217.46667 | BW13: 219.63333 | BX13: 217.93333 | BY13: 217.9 | BZ13: 213.76667 | CA13: 207.93333 | CB13: 203.1 | CC13: 201.46667 | CD13: 198.93333 | CE13: 196.5 | CF13: 197.46667 | CG13: 196.96667 | CH13: 198 | CI13: 198.66667 | CJ13: 199.83333 | CK13: 199.9 | CL13: 199.86667 | CM13: 200.7 | CN13: 202.56667 | CO13: 203.76667 | CP13: 204.93333 | CQ13: 206.26667 | CR13: 207.66667 | CS13: 209.23333 | CT13: 211.63333 | CU13: 211.93333 | CV13: 211.7 | CW13: 213.6 | CX13: 214.53333 | CY13: 215.73333 | CZ13: 216.96667 | DA13: 218.4 | DB13: 218.43333 | DC13: 218.23333 | DD13: 219.7 | DE13: 219.9 | DF13: 220.76667 | DG13: 221.23333 | DH13: 222 | DI13: 222.4 | DJ13: 222.4 | DK13: 222.9 | DL13: 222 | DM13: 222 | DN13: 221.13333 | DO13: 222.66667 | DP13: 220.36667 | DQ13: 219.06667 | DR13: 218.83333 | DS13: 218.06667 | DT13: 193.4 | DU13: 206 | DV13: 210.2 | DW13: 212.16667 | DX13: 215.96667 | DY13: 217.6 | DZ13: 219.6 | EA13: 211.43333 | EB13: 211.53333 | EC13: 212.83333 | ED13: 211.36667 | EE13: 213.83333 | EF13: 213.43333 | EG13: 211.56667 | EH13: 210.06667 | EI13: 210.06667 | EJ13: 209.36667 | EK13: 207.76667 | EL13: 205.66667 | EM13: 206.36667 | EN13: 206.63333 | EO13: 204.53333 | EP13: 203.06667 | EQ13: 200.56667 | ER13: 200.2 | ES13: 199.6705 | ET13: 199.7598 | EU13: 199.9619 | EV13: 200.0259 | EW13: 200.0902 | EX13: 200.2585 | EY13: 200.1608 | EZ13: 200.4049 | FA13: 200.7318 | FB13: 201.0678 | FC13: 201.4652 | FD13: 202.0269 | FE13: 202.653 | FF13: 203.2933 | FG13: 203.9564 | FH13: 204.6525 | FI13: 205.3921 | FJ13: 208.4555 | FK13: 206.6352 | FL13: 207.3293 | FM13: 207.9899 | FN13: 208.4555
